Workbook

Sheet Stats
A1: Audience | B1: hypothetical | F1: Women | H1: XC | I1: 15K | J1: 10M | K1: 1M | L1: 25K | M1: HM | N1: 10K | O1: 20K | P1: 5K | Q1: MAR | R1: 12K
A2: Insight Need | B2: to compare the depth and participation between women and men competing in the USA Running Circuit - looking at points, age, prize money, support, distance traveled. | G2: Median | H2: 824.26519 | I2: 1193.902 | J2: 931.45875 | K2: 1011.608 | L2: 798.96218 | M2: 813.01874 | N2: 1202.9736 | O2: 1661.4828 | P2: 1308.4811 | Q2: 635.29536 | R2: 1484.85
G3: Mean | H3: 997.17702 | I3: 1275.6335 | J3: 998.33481 | K3: 823.51974 | L3: 722.93226 | M3: 742.71962 | N3: 1049.8935 | O3: 1300.0298 | P3: 1317.9515 | Q3: 532.05328 | R3: 1279.79
G4: Mode | H4: 466.63181 | I4: 400.94678 | J4: #N/A | K4: 234.36106 | L4: 1037.5766 | M4: 136.63681 | N4: 1551.2806 | O4: 1053.2051 | P4: 2202.2051 | Q4: 0 | R4: 934.75
G5: Max | H5: 1741.4142 | I5: 2370.0796 | J5: 2256.0149 | K5: 1547.0379 | L5: 1860.9551 | M5: 1290.2369 | N5: 1551.2806 | O5: 2473.5109 | P5: 2575.0678 | Q5: 1135.0339 | R5: 2374.59
A6: Data Analysis | B6: insights through counts (comparison, centrality measures) and Reduction/Simplification (cluster analysis, centrality measures) | G6: Min | H6: 463.83433 | I6: 339.85617 | J6: 318.31254 | K6: 168.86414 | L6: 0 | M6: 136.63681 | N6: 56.668525 | O6: 113.32444 | P6: 0 | Q6: 0 | R6: 89.86
G7: N | H7: 17 | I7: 23 | J7: 11 | K7: 11 | L7: 10 | M7: 20 | N7: 20 | O7: 11 | P7: 11 | Q7: 11 | R7: 18
G8: Mode:Team(s) | H8: Team USA Minnesota | I8: Boulder Running Co | J8: Zap Fitness | K8: Team USA Minnesota | L8: Boulder Running Co | M8: Boulder Running Co | N8: Boulder Running Co | O8: Boulder Running Co | P8: NAZ Elite | Q8: Team USA Minnesota | R8: Boulder Running Co | S8: Team USA Minnesota
A9: Source | B9: http://www.runnerspace.com/USARunningCircuit | M9: Team USA Minnesota
A10: Constraints | B10: only the athletes who scored (placed in top 10) in a USA Running Circuit race
F11: Men | G11: Median | H11: 992.90645 | I11: 1437.409 | J11: n/a | K11: 970.63673 | L11: 1032.2945 | M11: 1414.126 | N11: 1414.126 | O11: 1906.2356 | P11: 2121.437 | Q11: 1356.4866 | R11: 1217.9533
A12: No. of Records | B12: Total: 119 - 61 women, 58 men | G12: Mean | H12: 1136.4764 | I12: 1462.3482 | J12: n/a | K12: 959.83269 | L12: 1005.5365 | M12: 1207.3215 | N12: 1207.3215 | O12: 1772.7726 | P12: 1624.3471 | Q12: 1281.174 | R12: 1296.6844
A13: Formulas | B13: median [=median(range)] | G13: Mode | H13: 1719.2804 | I13: #N/A | J13: n/a | K13: 816.21949 | L13: #N/A | M13: 1414.126 | N13: 1414.126 | O13: 1687.6843 | P13: 2530.8125 | Q13: 1581.3269 | R13: 313.78788
B14: mode [=mode(range) | G14: Max | H14: 1725.2439 | I14: 2435.933 | J14: n/a | K14: 1463.1303 | L14: 1835.7957 | M14: 1680.2332 | N14: 1680.2332 | O14: 2527.4165 | P14: 2530.8125 | Q14: 1591.0958 | R14: 2354.3892
B15: mean [=average(range)], =INDEX(Range,MATCH(MAX(COUNTIF(Range,Range)),COUNTIF(Range,Range),0))] | G15: Min | H15: 400.12073 | I15: 400.94678 | J15: n/a | K15: 535.61273 | L15: 108.63726 | M15: 136.63681 | N15: 136.63681 | O15: 115.77101 | P15: 38.303373 | Q15: 511.1644 | R15: 313.78788
G16: N | H16: 17 | I16: 17 | J16: n/a | K16: 10 | L16: 11 | M16: 16 | N16: 16 | O16: 10 | P16: 10 | Q16: 10 | R16: 22
G17: Mode:Team(s) | H17: Oregon TC | I17: n/a | J17: n/a | K17: NJNY TC | L17: Twin Cities TC | M17: Mammoth TC | N17: Mammoth TC | O17: n/a | P17: Oregon TC | Q17: n/a | R17: Zap Fitness
B18: count [=count(range)] | R18: Twin Cities TC
B19: Min [=min(range)] | R19: Mammoth TC
B20: Max [=max(range)] | R20: Oregon TC
B21: Vlookup
A23: Attribute Data | B23: pivot tables
A24: Relational Data | B24: age, gender, sponor/club, location, prize money | F24: Sponsor | H24: Adidas | I24: Asics | J24: Brooks | K24: Mizuno | L24: New Balance | M24: Nike | N24: Oiselle | O24: Reebok | P24: Saucony | Q24: Under Armour | S24: TOTAL
A25: *Directed | G25: Women | H25: 9 | I25: 5 | J25: 8 | K25: 2 | L25: 4 | M25: 6 | N25: 2 | O25: 5 | P25: 1 | S25: 42
A26: *Weighted | G26: Men | H26: 5 | I26: 5 | J26: 6 | K26: 1 | L26: 2 | M26: 9 | O26: 2 | P26: 3 | Q26: 1 | S26: 34
A27: Network
F28: Club | I28: Women | J28: Men
A29: Other sources | H29: Asics Aggie Running Club | J29: 1 | K29: =SUM(I29:J29) -> 1
B30: http://mynasadata.larc.nasa.gov/latitudelongitude-finder/ | H30: Austin TC | J30: 1 | K30: =SUM(I30:J30) -> 1
H31: BAA | I31: 3 | J31: 1 | K31: =SUM(I31:J31) -> 4
H32: Boston | I32: 1 | K32: =SUM(I32:J32) -> 1
H33: Boulder Running Co | I33: 5 | J33: 2 | K33: =SUM(I33:J33) -> 7
C34: =C37+D37 -> 119 | H34: Boulder TC | I34: 1 | J34: 1 | K34: =SUM(I34:J34) -> 2
H35: Hansons | I35: 4 | J35: 2 | K35: =SUM(I35:J35) -> 6
C36: Women | D36: Men | H36: Mammoth TC | I36: 2 | J36: 4 | K36: =SUM(I36:J36) -> 6
B37: N | C37: 61 | D37: 58 | H37: Nashville Harriers | J37: 1 | K37: =SUM(I37:J37) -> 1
B38: No. of Races | C38: 11 | D38: 10 | H38: NAZ Elite | I38: 4 | J38: 1 | K38: =SUM(I38:J38) -> 5
A39: Points | H39: New Balance Silicon Valley | I39: 1 | K39: =SUM(I39:J39) -> 1
B40: Median Score | C40: 10 | D40: 7.5 | H40: NJNY TC | I40: 3 | J40: 3 | K40: =SUM(I40:J40) -> 6
B41: Mean Score | C41: 15.163934 | D41: 14.568966 | H41: NYAC | I41: 1 | K41: =SUM(I41:J41) -> 1
B42: Mode Score | C42: 10 | D42: 2 | H42: Oregon Project | I42: 3 | J42: 1 | K42: =SUM(I42:J42) -> 4
B43: Max Score | C43: 60 | D43: 88 | H43: Oregon TC (OTC) | J43: 4 | K43: =SUM(I43:J43) -> 4
B44: Min Score | C44: 1 | D44: 1 | H44: Rogue AC | J44: 1 | K44: =SUM(I44:J44) -> 1
A45: Age | H45: SRA Elite | I45: 1 | J45: 1 | K45: =SUM(I45:J45) -> 2
B46: Median Age | C46: 27 | D46: 27 | H46: Team Nebraska | I46: 1 | K46: =SUM(I46:J46) -> 1
B47: Mean Age | C47: 28.737705 | D47: 27.293103 | H47: Team Rono | I47: 1 | K47: =SUM(I47:J47) -> 1
B48: Mode Age | C48: 27 | D48: 26 | H48: Team Run Flagstaff Pro | J48: 1 | K48: =SUM(I48:J48) -> 1
B49: Max Age | C49: 42 | D49: 38 | H49: Team USA Minnesota | I49: 7 | J49: 1 | K49: =SUM(I49:J49) -> 8
B50: Min Age | C50: 22 | D50: 22 | H50: Twin Cities TC | J50: 2 | K50: =SUM(I50:J50) -> 2
A51: Prize | H51: Ujena Fit Club | J51: 1 | K51: =SUM(I51:J51) -> 1
B52: Median Prize Money | C52: 2000 | D52: 1125 | H52: WCAP | J52: 2 | K52: =SUM(I52:J52) -> 2
B53: Mean Prize Money | C53: 5040.9836 | D53: 4958.6207 | H53: ZAP Fitness | I53: 4 | J53: 2 | K53: =SUM(I53:J53) -> 6
B54: Mode Prize Money | C54: 500 | D54: 1000 | I54: 42 | J54: 33
B55: Max Prize | C55: 32000 | D55: 34000
B56: Min Prize | C56: 100 | D56: 100
A57: Support
B58: Shoe Sponsor | C58: 42 | D58: 33
B59: Club Support | C59: 42 | D59: 34
B60: Both | C60: 30 | D60: 19
A61: Races
B62: Median No. Competed | C62: 2 | D62: 2
B63: Mean No. Competed | C63: 2.704918 | D63: 2.3275862
B64: Mode No. Competed | C64: 2 | D64: 1
B65: Max No. Competed | C65: 8 | D65: 7
B66: Min No. Competed | C66: 1 | D66: 1
B67: % - placed/total | C67: 0.73795863 | D67: 0.78374384
B68: Median No. Placed | C68: 1 | D68: 1
B69: Mean No. Placed | C69: 1.8196721 | D69: 1.7241379
B70: Mode No. Placed | C70: 1 | D70: 1
B71: Max No. Placed | C71: 6 | D71: 6
B72: Min No. Placed | C72: 1 | D72: 1
A73: Distance
B74: Median Travel Distance | C74: 978.0251 | D74: 1293.4221
B75: Mean Travel Distance | C75: 1008.5523 | D75: 1303.0012
B76: Mode Travel Distance | C76: 1551.2806 | D76: 1719.2804
B77: Max Travel Distance | C77: 2575.0678 | D77: 2530.8125
B78: Min Travel Distance | C78: 0 | D78: 38.303373
B79: Mode:TEAMS | C79: Boulder Running Co | D79: Mammoth TC

Sheet W-Sponsor
A1: Athlete | B1: Sponsor/Club | C1: Sponsor | D1: Club | E1: Sponsor | F1: Club
A2: Molly Huddle | B2: Saucony | C2: Saucony | E2: 1 | H2: Adidas | I2: =COUNTIF($C$2:$C$62,H2) -> 9
A3: Shalane Flanagan | B3: Nike/Oregon TC | C3: Nike | D3: Oregon TC | E3: 1 | F3: 1 | H3: Asics | I3: =COUNTIF($C$2:$C$62,H3) -> 5
A4: Mattie Suver | B4: Adidas/Boulder Running Co | C4: Adidas | D4: Boulder Running Co | E4: 1 | F4: 1 | H4: Brooks | I4: =COUNTIF($C$2:$C$62,H4) -> 8
A5: Janet Bawcom | B5: Nike | C5: Nike | E5: 1 | H5: Mizuno | I5: =COUNTIF($C$2:$C$62,H5) -> 2
A6: Brianne Nelson | B6: Adidas/Boulder Running Co | C6: Adidas | D6: Boulder Running Co | E6: 1 | F6: 1 | H6: New Balance | I6: =COUNTIF($C$2:$C$62,H6) -> 4
A7: Annie Bersagel | B7: New Balance Silicon Valley | D7: New Balance Silicon Valley | F7: 1 | H7: Nike | I7: =COUNTIF($C$2:$C$62,H7) -> 6
A8: Laura Thweat | B8: Boulder Track Club | D8: Boulder Track Club | F8: 1 | H8: Oiselle | I8: =COUNTIF($C$2:$C$62,H8) -> 2
A9: Sara Hall | B9: Asics | C9: Asics | E9: 1 | H9: Reebok | I9: =COUNTIF($C$2:$C$62,H9) -> 5
A10: Kim Conley | B10: New Balance/SRA | C10: New Balance | D10: SRA | E10: 1 | F10: 1 | H10: Saucony | I10: =COUNTIF($C$2:$C$62,H10) -> 1
A11: Kellyn Johnson | B11: NAZ Elite | D11: NAZ Elite | F11: 1
A12: Meghan Peyton | B12: Team USA Minnesota | D12: Team USA Minnesota | F12: 1 | H12: BAA | I12: 3
A13: Stephanie Bruce | B13: NAZ Elite | D13: NAZ Elite | F13: 1 | H13: Boston | I13: 1
A14: Laura Portis | B14: Unattached | H14: Boulder Running Co | I14: 5
A15: Esther Erb | B15: Reebok/Zap Fitness | C15: Reebok | D15: Zap Fitness | E15: 1 | F15: 1 | H15: Boulder Track Club | I15: 1
A16: Wendy Thomas | B16: Adidas/Boulder Running Co | C16: Adidas | D16: Boulder Running Co | E16: 1 | F16: 1 | H16: Hansons | I16: 4
A17: Adriana Nelson | B17: Asics | C17: Asics | E17: 1 | H17: Mammoth TC | I17: 2
A18: Emily Infeld | B18: Nike/Oregon TC | C18: Nike | D18: Oregon TC | E18: 1 | F18: 1 | H18: NAZ Elite | I18: 4
A19: Delilah DiCrescenzo | B19: NJNY TC | D19: NJNY TC | F19: 1 | H19: New Balance Silicon Valley | I19: 1
A20: Katie DiCamillo | B20: New Balance/Boston | C20: New Balance | D20: Boston | E20: 1 | F20: 1 | H20: NJNY TC | I20: 3
A21: Michelle Frey | B21: Team USA Minnesota | D21: Team USA Minnesota | F21: 1 | H21: NYAC | I21: 1
A22: Kate Grace | B22: Oiselle | C22: Oiselle | E22: 1 | H22: Oregon TC | I22: 3
A23: Dot McMahan | B23: Hansons-Brooks | C23: Brooks | D23: Hansons | E23: 1 | F23: 1 | H23: SRA | I23: 1
A24: Maegan Krifchin | B24: NAZ Elite | D24: NAZ Elite | F24: 1 | H24: Team Nebraska | I24: 1
A25: Alisha Williams | B25: Adidas/Boulder Running Co | C25: Adidas | D25: Boulder Running Co | E25: 1 | F25: 1 | H25: Team Rono | I25: 1
A26: Desi Davila | B26: Hansons-Brooks | C26: Brooks | D26: Hansons | E26: 1 | F26: 1 | H26: Team USA Minnesota | I26: 7
A27: Neely Spence Gracey | B27: Hansons-Brooks | C27: Brooks | D27: Hansons | E27: 1 | F27: 1 | H27: Zap Fitness | I27: 4
A28: Atalelech Asfaw | B28: Unattached/Team Rono | D28: Team Rono | F28: 1
A29: Deena Kastor | B29: Asics/Mammoth TC | C29: Asics | D29: Mammoth TC | E29: 1 | F29: 1
A30: Sarah Crouch | B30: Reebok/Zap Fitness | C30: Reebok | D30: Zap Fitness | E30: 1 | F30: 1
A31: Heather Kamph | B31: Asics/Team USA Minnesota | C31: Asics | D31: Team USA Minnesota | E31: 1 | F31: 1
A32: Tera Moody | B32: Adidas/Boulder Running Co | C32: Adidas | D32: Boulder Running Co | E32: 1 | F32: 1
A33: Kelly Brinkman | B33: Unattached
A34: Caitlin Comfort | B34: Oiselle | C34: Oiselle | E34: 1
A35: Alexi Pappas | B35: Nike/Oregon TC | C35: Nike | D35: Oregon TC | E35: 1 | F35: 1
A36: Nicole Camp | B36: Unattached
A37: Alissa McKaig | B37: Reebok/Zap Fitness | C37: Reebok | D37: Zap Fitness | E37: 1 | F37: 1
A38: Sarah Brown | B38: New Balance | C38: New Balance | E38: 1
A39: Melissa White | B39: Hansons-Brooks | C39: Brooks | D39: Hansons | E39: 1 | F39: 1
A40: Jen Rhines | B40: Adidas/BAA | C40: Adidas | D40: BAA | E40: 1 | F40: 1
A41: Gabriele Grunewald | B41: Brooks/Team USA Minnesota | C41: Brooks | D41: Team USA Minnesota | E41: 1 | F41: 1
A42: Stephanie Pezzullo | B42: Reebok/Zap Fitness | C42: Reebok | D42: Zap Fitness | E42: 1 | F42: 1
A43: Sheri Piers | B43: Unnattached
A44: Katie Matthews | B44: Adidas/BAA | C44: Adidas | D44: BAA | E44: 1 | F44: 1
A45: Shannon Rowbury | B45: Nike | C45: Nike | E45: 1
A46: Heather Cappello | B46: Adidas/BAA | C46: Adidas | D46: BAA | E46: 1 | F46: 1
A47: Alice Schmidt | B47: Unattached
A48: Serena Burla | B48: Mizuno | C48: Mizuno | E48: 1
A49: Frances Koons | B49: New Balance/NJNY TC | C49: New Balance | D49: NJNY TC | E49: 1 | F49: 1
A50: Amy Van Alstine | B50: Adidas/NAZ Elite | C50: Adidas | D50: NAZ Elite | E50: 1 | F50: 1
A51: Ladia Abertson-Junkans | B51: Team USA Minnesota | D51: Team USA Minnesota | F51: 1
A52: Renee Tomlin | B52: Nike/NJNY TC | C52: Nike | D52: NJNY TC | E52: 1 | F52: 1
A53: Katie McGregor | B53: Reebok | C53: Reebok | E53: 1
A54: Kristen Fryburg-Zaitz | B54: Brooks/Team USA Minnesota | C54: Brooks | D54: Team USA Minnesota | E54: 1 | F54: 1
A55: Deborah Maier | B55: Brooks | C55: Brooks | E55: 1
A56: Chelsea Reilly | B56: Unnattached
A57: Ashley Miller | B57: Team Nebraska | D57: Team Nebraska | F57: 1
A58: Theresa Taggart | B58: Unnattached
A59: Sarah Cummings | B59: NYAC | D59: NYAC | F59: 1
A60: Jamie Cheever | B60: Brooks/Team USA Minnesota | C60: Brooks | D60: Team USA Minnesota | E60: 1 | F60: 1
A61: Clara Grandt | B61: Mizuno | C61: Mizuno | E61: 1
A62: Lauren Jimison | B62: Asics/Mammoth TC | C62: Asics | D62: Mammoth TC | E62: 1 | F62: 1

Sheet M-Sponsor
A1: Athlete | B1: Sponsor/Club | C1: Sponsor | D1: Club | E1: Sponsor | F1: Club
A2: Shadrack Biwott | B2: SRA Elite | D2: SRA Elite | F2: 1 | H2: Adidas | I2: 5
A3: Matt Tegankamp | B3: Nike/Oregon TC | C3: Nike | D3: Oregon TC | E3: 1 | F3: 1 | H3: Asics | I3: 5
A4: Aaron Braun | B4: Adidas | C4: Adidas | E4: 1 | H4: Brooks | I4: 6
A5: Josphat Boit | B5: Asics/Mammoth TC | C5: Asics | D5: Mammoth TC | E5: 1 | F5: 1 | H5: Mizuno | I5: 1
A6: Tim Ritchie | B6: Adidas/BAA | C6: Adidas | D6: BAA | E6: 1 | F6: 1 | H6: New Balance | I6: 2
A7: Christo Landry | B7: Mizuno | C7: Mizuno | E7: 1 | H7: Nike | I7: 9
A8: Tyler Pennel | B8: Reebok/ZAP Fitness | C8: Reebok | D8: ZAP Fitness | E8: 1 | F8: 1 | H8: Reebok | I8: 2
A9: Mo Trafeh | B9: Nike | C9: Nike | E9: 1 | H9: Saucony | I9: 3
A10: Nick Arciniaga | B10: Under Armour/Team Run Flagstaff Pro | C10: Under Armour | D10: Team Run Flagstaff Pro | E10: 1 | F10: 1 | H10: Under Armour | I10: 1
A11: Abdi Abdirahman | B11: Nike | C11: Nike | E11: 1
A12: Ben True | B12: Saucony | C12: Saucony | E12: 1 | H12: Asics Aggie Running Club | I12: 1
A13: Bobby Curtis | B13: Hansons-Brooks | C13: Brooks | D13: Hansons | E13: 1 | F13: 1 | H13: Austin TC | I13: 1
A14: Meb Keflezighi | B14: Asics/Mammoth TC | C14: Asics | D14: Mammoth TC | E14: 1 | F14: 1 | H14: BAA | I14: 1
A15: Elliot Krause | B15: Unattached | H15: Boulder Running Co | I15: 2
A16: Craig Curley | B16: Unattached | H16: Boulder TC | I16: 1
A17: Matt Llano | B17: NAZ Elite | D17: NAZ Elite | F17: 1 | H17: Hansons | I17: 2
A18: Chris Derrick | B18: Nike/Oregon TC | C18: Nike | D18: Oregon TC | E18: 1 | F18: 1 | H18: Mammoth TC | I18: 4
A19: Ryan Vail | B19: Brooks | C19: Brooks | E19: 1 | H19: Nashville Harriers | I19: 1
A20: Garrett Heath | B20: Brooks | C20: Brooks | E20: 1 | H20: NAZ Elite | I20: 1
A21: Andrew Bumbalough | B21: Nike | C21: Nike | E21: 1 | H21: NJNY TC | I21: 3
A22: Sergio Reyes | B22: Asics Aggie Running Club | D22: Asics Aggie Running Club | F22: 1 | H22: Oregon Project | I22: 1
A23: Dathan Ritzenhein | B23: Nike/Oregon Project | C23: Nike | D23: Oregon Project | E23: 1 | F23: 1 | H23: Oregon TC | I23: 4
A24: Jeff See | B24: Saucony | C24: Saucony | E24: 1 | H24: Rogue AC | I24: 1
A25: Leo Manzano | B25: Unattached | H25: SRA Elite | I25: 1
A26: Joe Moore | B26: Twin Cities TC | D26: Twin Cities TC | F26: 1 | H26: Team Run Flagstaff Pro | I26: 1
A27: Bobby Mack | B27: Unattached | H27: Team USA Minnesota | I27: 1
A28: Luke Puskedra | B28: Unattached | H28: Twin Cities TC | I28: 2
A29: Sean Quigley | B29: Boulder TC | D29: Boulder TC | F29: 1 | H29: Ujena Fit Club | I29: 1
A30: Jake Schmitt | B30: Unattached | H30: WCAP | I30: 2
A31: Elliot Heath | B31: Nike/Oregon TC | C31: Nike | D31: Oregon TC | E31: 1 | F31: 1 | H31: ZAP Fitness | I31: 2
A32: Craig Miller | B32: New Balance | C32: New Balance | E32: 1
A33: Travis Mahoney | B33: NJNY TC | D33: NJNY TC | F33: 1
A34: Joseph Chirlee | B34: WCAP | D34: WCAP | F34: 1
A35: Joe Stilin | B35: Reebok/ZAP Fitness | C35: Reebok | D35: ZAP Fitness | E35: 1 | F35: 1
A36: Miles Batty | B36: Asics/Austin TC | C36: Asics | D36: Austin TC | E36: 1 | F36: 1
A37: Andrew Carlson | B37: Brooks | C37: Brooks | E37: 1
A38: Jason Hartmann | B38: Unattached
A39: Chris Solinsky | B39: Nike/Oregon TC | C39: Nike | D39: Oregon TC | E39: 1 | F39: 1
A40: Liam Boylan-Pett | B40: NJNY TC | D40: NJNY TC | F40: 1
A41: Chris Barnicle | B41: Asics/Mammoth TC | C41: Asics | D41: Mammoth TC | E41: 1 | F41: 1
A42: John Gilberston | B42: Asics/Mammoth TC | C42: Asics | D42: Mammoth TC | E42: 1 | F42: 1
A43: Malcolm Richards | B43: Ujena Fit Club | D43: Ujena Fit Club | F43: 1
A44: AJ Acosta | B44: Unattached
A45: Michael Reneau | B45: Twin Cities TC | D45: Twin Cities TC | F45: 1
A46: Ian Burrell | B46: Adidas/Boulder Running Co | C46: Adidas | D46: Boulder Running Co | E46: 1 | F46: 1
A47: Pat Fullerton | B47: New Balance | C47: New Balance | F47: 1
A48: James Strang | B48: Adidas/Boulder Running Co | C48: Adidas | D48: Boulder Running Co | E48: 1 | F48: 1
A49: Tony Filipek | B49: Unattached
A50: Zachary Hine | B50: Saucony | C50: Saucony | E50: 1
A51: Scott Wietecha | B51: Nashville Harriers | D51: Nashville Harriers | F51: 1
A52: Jake Riley | B52: Hansons-Brooks | C52: Brooks | D52: Hansons | E52: 1 | F52: 1
A53: Augustus Maiyo | B53: WCAP | D53: WCAP | F53: 1
A54: Scott MacPherson | B54: Adidas/Rogue AC | C54: Adidas | D54: Rogue AC | E54: 1 | F54: 1
A55: Richard Medina | B55: Unattached
A56: Donn Cabral | B56: Nike | C56: Nike | E56: 1
A57: Brian Gagnon | B57: NJNY TC | D57: NJNY TC | F57: 1
A58: Ben Sathre | B58: Team USA Minnesota | D58: Team USA Minnesota | F58: 1
A59: Jared Bassett | B59: Brooks | C59: Brooks | E59: 1

Sheet W-RaceDistance
A1: Athlete | B1: Race | C1: Distance Traveled to Race
A2: Meghan Peyton | B2: Marathon | C2: 0
A3: Michelle Frey | B3: Marathon | C3: 0
A4: Molly Huddle | B4: 5K | C4: 0
A5: Theresa Taggart | B5: 25K | C5: 0
A6: Katie McGregor | B6: Marathon | C6: 5.3176258
A7: Annie Bersagel | B7: Marathon | C7: 21.149931
A8: Katie Matthews | B8: 5K | C8: 41.124748
A9: Janet Bawcom | B9: 10K | C9: 56.668525
A10: Delilah DiCrescenzo | B10: 20K | C10: 69.592581
A11: Katie DiCamillo | B11: 20K | C11: 86.043419
A12: Esther Erb | B12: 12K | C12: 89.862454
A13: Frances Koons | B13: 20K | C13: 113.32444
... A167: Alexi Pappas | B167: 5K | C167: 2575.0678
B169: Median | C169: =MEDIAN(C2:C167) -> 978.0251
B170: Mean | C170: =AVERAGE(C2:C167) -> 1008.5523
B171: Mode | C171: =MODE(C2:C167) -> 1551.2806
B172: Max | C172: =MAX(C2:C167) -> 2575.0678
B173: Min | C173: =MIN(C2:C167) -> 0

Sheet M-RaceDistance
A1: Athlete | B1: Race | C1: Distance Traveled to Race
A2: Tim Ritchie | B2: 5K | C2: 38.303373
A3: Pat Fullerton | B3: 5K | C3: 67.56204
A4: Christo Landry | B4: 25K | C4: 108.63726
A5: Tim Ritchie | B5: 20K | C5: 115.77101
A6: Joe Moore | B6: Half-Marathon | C6: 136.63681
A7: Andrew Carlson | B7: Half-Marathon | C7: 221.7172
A8: Tyler Pennel | B8: 10K | C8: 225.24727
A9: Joe Stilin | B9: 12K | C9: 313.78788
A10: Tyler Pennel | B10: 12K | C10: 313.78788
A11: Bobby Mack | B11: 10K | C11: 355.1617
A12: Michael Reneau | B12: 25K | C12: 393.73792
A13: Tim Ritchie | B13: 12K | C13: 393.83071
... A136: Matt Tegankamp | B136: 5K | C136: 2530.8125
B138: Median | C138: =MEDIAN(C2:C136) -> 1293.4221
B139: Mean | C139: =AVERAGE(C2:C136) -> 1303.0012
B140: Mode | C140: =MODE(C2:C136) -> 1719.2804
B141: Max | C141: =MAX(C2:C136) -> 2530.8125
B142: Min | C142: =MIN(C2:C136) -> 38.303373

Sheet W-RacePivotTable
A3: Count of Value | B3: Column Labels
A4: Row Labels | B4: 10K | C4: 10M | D4: 12K | E4: 15K | F4: 1M | G4: 20K | H4: 25K | I4: 5K | J4: Half-Marathon | K4: Marathon | L4: XC | M4: Grand Total
A5: Adriana Nelson | B5: 1 | J5: 1 | M5: 2
A6: Alexi Pappas | I6: 1 | M6: 1
A7: Alice Schmidt | F7: 1 | M7: 1
A8: Alisha Williams | E8: 1 | G8: 1 | M8: 2
A9: Alissa McKaig | E9: 1 | L9: 1 | M9: 2
A10: Amy Van Alstine | B10: 1 | I10: 1 | M10: 2
A11: Annie Bersagel | C11: 1 | D11: 1 | E11: 1 | K11: 1 | L11: 1 | M11: 5
A12: Ashley Miller | F12: 1 | I12: 1 | M12: 2
A13: Atalelech Asfaw | D13: 1 | E13: 1 | J13: 1 | K13: 1 | M13: 4
A14: Brianne Nelson | B14: 1 | C14: 1 | D14: 1 | E14: 1 | H14: 1 | J14: 1 | L14: 1 | M14: 7
A15: Caitlin Comfort | D15: 1 | G15: 1 | M15: 2
A16: Chelsea Reilly | E16: 1 | L16: 1 | M16: 2
A17: Clara Grandt | B17: 1 | C17: 1 | M17: 2
A18: Deborah Maier | I18: 1 | M18: 1
A19: Deena Kastor | L19: 1 | M19: 1
A20: Delilah DiCrescenzo | B20: 1 | E20: 1 | G20: 1 | L20: 1 | M20: 4
A21: Desi Davila | J21: 1 | M21: 1
A22: Dot McMahan | E22: 1 | H22: 1 | M22: 2
A23: Emily Infeld | G23: 1 | L23: 1 | M23: 2
A24: Esther Erb | B24: 1 | D24: 1 | G24: 1 | J24: 1 | K24: 1 | M24: 5
A25: Frances Koons | G25: 1 | I25: 1 | L25: 1 | M25: 3
A26: Gabriele Grunewald | F26: 1 | M26: 1
A27: Heather Cappello | C27: 1 | E27: 1 | M27: 2
A28: Heather Kamph | F28: 1 | M28: 1
A29: Jamie Cheever | L29: 1 | M29: 1
A30: Janet Bawcom | B30: 1 | C30: 1 | E30: 1 | M30: 3
A31: Jen Rhines | C31: 1 | E31: 1 | M31: 2
A32: Kate Grace | F32: 1 | M32: 1
A33: Katie DiCamillo | B33: 1 | C33: 1 | E33: 1 | G33: 1 | M33: 4
A34: Katie Matthews | B34: 1 | D34: 1 | I34: 1 | M34: 3
A35: Katie McGregor | B35: 1 | E35: 1 | H35: 1 | J35: 1 | K35: 1 | M35: 5
A36: Kelly Brinkman | D36: 1 | G36: 1 | J36: 1 | M36: 3
A37: Kellyn Johnson | B37: 1 | C37: 1 | D37: 1 | E37: 1 | F37: 1 | I37: 1 | L37: 1 | M37: 7
A38: Kim Conley | D38: 1 | L38: 1 | M38: 2
A39: Kristen Fryburg-Zaitz | B39: 1 | G39: 1 | J39: 1 | M39: 3
A40: Ladia Abertson-Junkans | C40: 1 | E40: 1 | J40: 1 | L40: 1 | M40: 4
A41: Laura Portis | K41: 1 | M41: 1
A42: Laura Thweat | B42: 1 | D42: 1 | E42: 1 | G42: 1 | I42: 1 | M42: 5
A43: Lauren Jimison | D43: 1 | E43: 1 | H43: 1 | M43: 3
A44: Maegan Krifchin | B44: 1 | J44: 1 | M44: 2
A45: Mattie Suver | B45: 1 | D45: 1 | E45: 1 | G45: 1 | H45: 1 | J45: 1 | L45: 1 | M45: 7
A46: Meghan Peyton | B46: 1 | D46: 1 | E46: 1 | F46: 1 | G46: 1 | I46: 1 | K46: 1 | L46: 1 | M46: 8
A47: Melissa White | E47: 1 | H47: 1 | J47: 1 | M47: 3
A48: Michelle Frey | J48: 1 | K48: 1 | M48: 2
A49: Molly Huddle | D49: 1 | I49: 1 | M49: 2
A50: Neely Spence Gracey | I50: 1 | L50: 1 | M50: 2
A51: Nicole Camp | J51: 1 | K51: 1 | M51: 2
A52: Renee Tomlin | D52: 1 | F52: 1 | M52: 2
A53: Sara Hall | B53: 1 | D53: 1 | F53: 1 | L53: 1 | M53: 4
A54: Sarah Brown | F54: 1 | M54: 1
A55: Sarah Crouch | C55: 1 | E55: 1 | J55: 1 | M55: 3
A56: Sarah Cummings | J56: 1 | K56: 1 | M56: 2
A57: Serena Burla | B57: 1 | J57: 1 | M57: 2
A58: Shalane Flanagan | D58: 1 | L58: 1 | M58: 2
A59: Shannon Rowbury | F59: 1 | M59: 1
A60: Sheri Piers | E60: 1 | J60: 1 | K60: 1 | M60: 3
A61: Stephanie Bruce | B61: 1 | E61: 1 | J61: 1 | M61: 3
A62: Stephanie Pezzullo | C62: 1 | H62: 1 | M62: 2
A63: Tera Moody | H63: 1 | M63: 1
A64: Theresa Taggart | H64: 1 | M64: 1
A65: Wendy Thomas | B65: 1 | C65: 1 | D65: 1 | G65: 1 | H65: 1 | J65: 1 | K65: 1 | M65: 7
A66: Grand Total | B66: 20 | C66: 12 | D66: 18 | E66: 23 | F66: 11 | G66: 13 | H66: 10 | I66: 11 | J66: 20 | K66: 11 | L66: 17 | M66: 166

Sheet M-RacePivotTable
A3: Count of Value | B3: Column Labels
A4: Row Labels | B4: 10K | C4: 12K | D4: 15K | E4: 1M | F4: 20K | G4: 25K | H4: 5K | I4: Half-Marathon | J4: Marathon | K4: XC | L4: Grand Total
A5: Aaron Braun | C5: 1 | H5: 1 | L5: 2
A6: Abdi Abdirahman | B6: 1 | C6: 1 | F6: 1 | I6: 1 | L6: 4
A7: AJ Acosta | E7: 1 | L7: 1
A8: Andrew Bumbalough | H8: 1 | L8: 1
A9: Andrew Carlson | G9: 1 | I9: 1 | L9: 2
A10: Augustus Maiyo | D10: 1 | F10: 1 | K10: 1 | L10: 3
A11: Ben Sathre | C11: 1 | D11: 1 | G11: 1 | L11: 3
A12: Ben True | D12: 1 | K12: 1 | L12: 2
A13: Bobby Curtis | B13: 1 | D13: 1 | L13: 2
A14: Bobby Mack | B14: 1 | I14: 1 | K14: 1 | L14: 3
A15: Brian Gagnon | E15: 1 | L15: 1
A16: Chris Barnicle | B16: 1 | I16: 1 | L16: 2
A17: Chris Derrick | K17: 1 | L17: 1
A18: Chris Solinsky | C18: 1 | H18: 1 | L18: 2
A19: Christo Landry | C19: 1 | D19: 1 | G19: 1 | J19: 1 | L19: 4
A20: Craig Curley | C20: 1 | D20: 1 | G20: 1 | J20: 1 | K20: 1 | L20: 5
A21: Craig Miller | E21: 1 | L21: 1
A22: Dathan Ritzenhein | K22: 1 | L22: 1
A23: Donn Cabral | D23: 1 | L23: 1
A24: Elliot Heath | K24: 1 | L24: 1
A25: Elliot Krause | C25: 1 | F25: 1 | K25: 1 | L25: 3
A26: Garrett Heath | E26: 1 | L26: 1
A27: Ian Burrell | I27: 1 | K27: 1 | L27: 2
A28: Jake Riley | B28: 1 | C28: 1 | K28: 1 | L28: 3
A29: Jake Schmitt | J29: 1 | L29: 1
A30: James Strang | K30: 1 | L30: 1
A31: Jared Bassett | H31: 1 | L31: 1
A32: Jason Hartmann | F32: 1 | L32: 1
A33: Jeff See | E33: 1 | L33: 1
A34: Joe Moore | C34: 1 | G34: 1 | H34: 1 | I34: 1 | L34: 4
A35: Joe Stilin | C35: 1 | H35: 1 | L35: 2
A36: John Gilberston | C36: 1 | H36: 1 | L36: 2
A37: Joseph Chirlee | K37: 1 | L37: 1
A38: Josphat Boit | B38: 1 | C38: 1 | D38: 1 | F38: 1 | G38: 1 | I38: 1 | J38: 1 | L38: 7
A39: Leo Manzano | E39: 1 | L39: 1
A40: Liam Boylan-Pett | E40: 1 | L40: 1
A41: Luke Puskedra | B41: 1 | K41: 1 | L41: 2
A42: Malcolm Richards | I42: 1 | J42: 1 | L42: 2
A43: Matt Llano | C43: 1 | D43: 1 | F43: 1 | L43: 3
A44: Matt Tegankamp | B44: 1 | C44: 1 | F44: 1 | G44: 1 | H44: 1 | K44: 1 | L44: 6
A45: Meb Keflezighi | B45: 1 | I45: 1 | L45: 2
A46: Michael Reneau | B46: 1 | C46: 1 | G46: 1 | L46: 3
A47: Miles Batty | E47: 1 | L47: 1
A48: Mo Trafeh | D48: 1 | G48: 1 | I48: 1 | L48: 3
A49: Nick Arciniaga | C49: 1 | I49: 1 | J49: 1 | L49: 3
A50: Pat Fullerton | C50: 1 | H50: 1 | L50: 2
A51: Richard Medina | C51: 1 | K51: 1 | L51: 2
A52: Ryan Vail | D52: 1 | K52: 1 | L52: 2
A53: Scott MacPherson | D53: 1 | G53: 1 | J53: 1 | L53: 3
A54: Scott Wietecha | I54: 1 | L54: 1
A55: Sean Quigley | D55: 1 | F55: 1 | K55: 1 | L55: 3
A56: Sergio Reyes | D56: 1 | I56: 1 | J56: 1 | L56: 3
A57: Shadrack Biwott | B57: 1 | C57: 1 | D57: 1 | F57: 1 | I57: 1 | J57: 1 | L57: 6
A58: Tim Ritchie | C58: 1 | D58: 1 | F58: 1 | H58: 1 | I58: 1 | J58: 1 | L58: 6
A59: Tony Filipek | C59: 1 | E59: 1 | L59: 2
A60: Travis Mahoney | E60: 1 | L60: 1
A61: Tyler Pennel | B61: 1 | C61: 1 | D61: 1 | L61: 3
A62: Zachary Hine | G62: 1 | I62: 1 | L62: 2
A63: Grand Total | B63: 12 | C63: 22 | D63: 17 | E63: 10 | F63: 10 | G63: 11 | H63: 10 | I63: 16 | J63: 10 | K63: 17 | L63: 135

Sheet 10k
B1: Athlete | C1: Distance Travelled | F1: Athlete | G1: Distance | H1: Place
A2: Nike | B2: Janet Bawcom | C2: 56.668525 | E2: Reebok/ZAP Fitness | F2: Tyler Pennel | G2: 225.24727
A3: Reebok/Zap Fitness | B3: Esther Erb | C3: 469.88843 | E3: unattached | F3: Bobby Mack | G3: 355.1617 | L3: Mode: Team
A4: Mizuno | B4: Clara Grandt | C4: 474.58607 | E4: Hansons-Brooks | F4: Bobby Curtis | G4: 608.36242 | K4: Women | L4: Adidas/Boulder Running Co
A5: Mizuno | B5: Serena Burla | C5: 535.60422 | E5: Hansons-Brooks | F5: Jake Riley | G5: 619.21621 | K5: Men | L5: Asics/Mammoth TC
A6: NJNY TC | B6: Delilah DiCrescenzo | C6: 745.9073 | E6: Twin Cities TC | F6: Michael Reneau | G6: 901.80268
A7: New Balance/Boston | B7: Katie DiCamillo | C7: 900.06481 | E7: Nike | F7: Abdi Abdirahman | G7: 1537.4568
A8: Team USA Minnesota | B8: Meghan Peyton | C8: 908.34099 | E8: Asics/Mammoth TC | F8: Meb Keflezighi | G8: 1887.4622
A9: Reebok | B9: Katie McGregor | C9: 909.8682 | E9: Asics/Mammoth TC | F9: Chris Barnicle | G9: 1948.0274
A10: Adidas/BAA | B10: Katie Matthews | C10: 935.92913 | E10: Asics/Mammoth TC | F10: Josphat Boit | G10: 1948.0274
A11: Adidas/Boulder Running Co | B11: Mattie Suver | C11: 1187.9724 | E11: SRA Elite | F11: Shadrack Biwott | G11: 2064.7899
A12: Brooks/Team USA Minnesota | B12: Kristen Fryburg-Zaitz | C12: 1217.9748 | E12: Nike/Oregon TC | F12: Matt Tegankamp | G12: 2168.7432
A13: Adidas/Boulder Running Co | B13: Wendy Thomas | C13: 1218.4373 | E13: unattached | F13: Luke Puskedra | G13: 2174.4866
A14: Adidas/Boulder Running Co | B14: Brianne Nelson | C14: 1222.2209
A15: Asics | B15: Adriana Nelson | C15: 1229.0016 | F15: Median | G15: =MEDIAN(G2:G13) -> 1712.4595
A16: Boulder Track Club | B16: Laura Thweat | C16: 1229.0016 | F16: Mean | G16: =AVERAGE(G2:G13) -> 1369.8986
A17: Adidas/NAZ Elite | B17: Amy Van Alstine | C17: 1551.2806 | F17: Mode | G17: =MODE(G2:G13) -> 1948.0274
A18: NAZ Elite | B18: Kellyn Johnson | C18: 1551.2806 | F18: Max | G18: =MAX(G2:G13) -> 2174.4866
A19: NAZ Elite | B19: Maegan Krifchin | C19: 1551.2806 | F19: Min | G19: =MIN(G2:G13) -> 225.24727
A20: Asics | B20: Sara Hall | C20: 1551.2806 | F20: N | G20: =COUNT(G2:G13) -> 12
A21: NAZ Elite | B21: Stephanie Bruce | C21: 1551.2806
B23: Median | C23: =MEDIAN(C2:C21) -> 1202.9736
B24: Mean | C24: =AVERAGE(C2:C21) -> 1049.8935
B25: Mode | C25: =MODE(C2:C21) -> 1551.2806
B26: Max | C26: =MAX(C2:C21) -> 1551.2806
B27: Min | C27: =MIN(C2:C21) -> 56.668525
B28: N | C28: =COUNT(C2:C21) -> 20

Sheet 10M
B1: Athlete | C1: Distance
A2: =VLOOKUP(B2,'W-Sponsor'!$A$2:$B$62,2,FALSE) -> Mizuno | B2: Clara Grandt | C2: 163.9354
A3: =VLOOKUP(B3,'W-Sponsor'!$A$2:$B$62,2,FALSE) -> Reebok/Zap Fitness | B3: Sarah Crouch | C3: 318.31254
A4: =VLOOKUP(B4,'W-Sponsor'!$A$2:$B$62,2,FALSE) -> Reebok/Zap Fitness | B4: Stephanie Pezzullo | C4: 329.62454
A5: =VLOOKUP(B5,'W-Sponsor'!$A$2:$B$62,2,FALSE) -> New Balance/Boston | B5: Katie DiCamillo | C5: 358.00887
A6: =VLOOKUP(B6,'W-Sponsor'!$A$2:$B$62,2,FALSE) -> Adidas/BAA | B6: Heather Cappello | C6: 393.62269
A7: =VLOOKUP(B7,'W-Sponsor'!$A$2:$B$62,2,FALSE) -> Nike | B7: Janet Bawcom | C7: 553.34344
A8: =VLOOKUP(B8,'W-Sponsor'!$A$2:$B$62,2,FALSE) -> Team USA Minnesota | B8: Ladia Abertson-Junkans | C8: 931.45875
A9: =VLOOKUP(B9,'W-Sponsor'!$A$2:$B$62,2,FALSE) -> New Balance Silicon Valley | B9: Annie Bersagel | C9: 946.53441
A10: =VLOOKUP(B10,'W-Sponsor'!$A$2:$B$62,2,FALSE) -> Adidas/Boulder Running Co | B10: Wendy Thomas | C10: 1479.2815
A11: =VLOOKUP(B11,'W-Sponsor'!$A$2:$B$62,2,FALSE) -> Adidas/Boulder Running Co | B11: Brianne Nelson | C11: 1501.1981
A12: =VLOOKUP(B12,'W-Sponsor'!$A$2:$B$62,2,FALSE) -> NAZ Elite | B12: Kellyn Johnson | C12: 1914.2832
A13: =VLOOKUP(B13,'W-Sponsor'!$A$2:$B$62,2,FALSE) -> Adidas/BAA | B13: Jen Rhines | C13: 2256.0149
B15: Median | C15: =MEDIAN(C3:C13) -> 931.45875
B16: Mean | C16: =AVERAGE(C3:C13) -> 998.33481
A17: {=INDEX(A2:A13,MATCH(MAX(COUNTIF(A2:A13,A2:A13)),COUNTIF(A2:A13,A2:A13),0))} -> Reebok/Zap Fitness | B17: Mode | C17: =MODE(C3:C13) -> #N/A
B18: Max | C18: =MAX(C3:C13) -> 2256.0149
B19: Min | C19: =MIN(C3:C13) -> 318.31254
B20: N | C20: =COUNT(C3:C13) -> 11

Sheet 12k
B1: Athlete | C1: Distance | D1: Place | F1: Athlete | G1: Distance | H1: Place
A2: =VLOOKUP(B2,'W-Sponsor'!$A$2:$B$62,2,FALSE) -> Reebok/Zap Fitness | B2: Esther Erb | C2: 89.862454 | E2: =VLOOKUP(F2,'M-Sponsor'!$A$2:$B$59,2,FALSE) -> Reebok/ZAP Fitness | F2: Joe Stilin | G2: 313.78788 | K2: Mode:Team
A3: =VLOOKUP(B3,'W-Sponsor'!$A$2:$B$62,2,FALSE) -> Nike/NJNY TC | B3: Renee Tomlin | C3: 136.63249 | E3: =VLOOKUP(F3,'M-Sponsor'!$A$2:$B$59,2,FALSE) -> Reebok/ZAP Fitness | F3: Tyler Pennel | G3: 313.78788 | K3: Women | L3: {=INDEX(A2:A19,MATCH(MAX(COUNTIF(A2:A19,A2:A19)),COUNTIF(A2:A19,A2:A19),0))} -> Adidas/Boulder Running Co
A4: =VLOOKUP(B4,'W-Sponsor'!$A$2:$B$62,2,FALSE) -> Saucony | B4: Molly Huddle | C4: 362.66674 | E4: =VLOOKUP(F4,'M-Sponsor'!$A$2:$B$59,2,FALSE) -> Adidas/BAA | F4: Tim Ritchie | G4: 393.83071 | K4: Men | L4: {=INDEX(E2:E23,MATCH(MAX(COUNTIF(E2:E23,E2:E23)),COUNTIF(E2:E23,E2:E23),0))} -> Unattached
A5: =VLOOKUP(B5,'W-Sponsor'!$A$2:$B$62,2,FALSE) -> Adidas/BAA | B5: Katie Matthews | C5: 398.56212 | E5: =VLOOKUP(F5,'M-Sponsor'!$A$2:$B$59,2,FALSE) -> New Balance | F5: Pat Fullerton | G5: 415.2688 | L5: Zap Fitness
A6: =VLOOKUP(B6,'W-Sponsor'!$A$2:$B$62,2,FALSE) -> Oiselle | B6: Caitlin Comfort | C6: 708.12297 | E6: =VLOOKUP(F6,'M-Sponsor'!$A$2:$B$59,2,FALSE) -> Hansons-Brooks | F6: Jake Riley | G6: 415.72706 | L6: Twin Cities TC
A7: =VLOOKUP(B7,'W-Sponsor'!$A$2:$B$62,2,FALSE) -> Unattached | B7: Kelly Brinkman | C7: 934.75165 | D7: unattached | E7: =VLOOKUP(F7,'M-Sponsor'!$A$2:$B$59,2,FALSE) -> Mizuno | F7: Christo Landry | G7: 425.57031 | L7: Mammoth TC
A8: =VLOOKUP(B8,'W-Sponsor'!$A$2:$B$62,2,FALSE) -> Team USA Minnesota | B8: Meghan Peyton | C8: 934.75165 | E8: =VLOOKUP(F8,'M-Sponsor'!$A$2:$B$59,2,FALSE) -> Unattached | F8: Tony Filipek | G8: 462.32204 | L8: Oregon TC
A9: =VLOOKUP(B9,'W-Sponsor'!$A$2:$B$62,2,FALSE) -> New Balance Silicon Valley | B9: Annie Bersagel | C9: 949.72646 | E9: =VLOOKUP(F9,'M-Sponsor'!$A$2:$B$59,2,FALSE) -> Unattached | F9: Elliot Krause | G9: 697.5111
A10: =VLOOKUP(B10,'W-Sponsor'!$A$2:$B$62,2,FALSE) -> Adidas/Boulder Running Co | B10: Wendy Thomas | C10: 1480.3536 | E10: =VLOOKUP(F10,'M-Sponsor'!$A$2:$B$59,2,FALSE) -> Twin Cities TC | F10: Michael Reneau | G10: 925.96615
A11: =VLOOKUP(B11,'W-Sponsor'!$A$2:$B$62,2,FALSE) -> Adidas/Boulder Running Co | B11: Mattie Suver | C11: 1489.3379 | E11: =VLOOKUP(F11,'M-Sponsor'!$A$2:$B$59,2,FALSE) -> Twin Cities TC | F11: Joe Moore | G11: 934.75165
A12: =VLOOKUP(B12,'W-Sponsor'!$A$2:$B$62,2,FALSE) -> Adidas/Boulder Running Co | B12: Brianne Nelson | C12: 1502.0386 | E12: =VLOOKUP(F12,'M-Sponsor'!$A$2:$B$59,2,FALSE) -> Team USA Minnesota | F12: Ben Sathre | G12: 945.32345
A13: =VLOOKUP(B13,'W-Sponsor'!$A$2:$B$62,2,FALSE) -> Boulder Track Club | B13: Laura Thweat | C13: 1502.6869 | E13: =VLOOKUP(F13,'M-Sponsor'!$A$2:$B$59,2,FALSE) -> Adidas | F13: Aaron Braun | G13: 1490.5831
A14: =VLOOKUP(B14,'W-Sponsor'!$A$2:$B$62,2,FALSE) -> Unattached/Team Rono | B14: Atalelech Asfaw | C14: 1644.7158 | E14: =VLOOKUP(F14,'M-Sponsor'!$A$2:$B$59,2,FALSE) -> Unattached | F14: Richard Medina | G14: 1502.6869
A15: =VLOOKUP(B15,'W-Sponsor'!$A$2:$B$62,2,FALSE) -> NAZ Elite | B15: Kellyn Johnson | C15: 1914.1312 | E15: =VLOOKUP(F15,'M-Sponsor'!$A$2:$B$59,2,FALSE) -> NAZ Elite | F15: Matt Llano | G15: 1914.1312
A16: =VLOOKUP(B16,'W-Sponsor'!$A$2:$B$62,2,FALSE) -> Asics | B16: Sara Hall | C16: 1914.1312 | E16: =VLOOKUP(F16,'M-Sponsor'!$A$2:$B$59,2,FALSE) -> Under Armour/Team Run Flagstaff Pro | F16: Nick Arciniaga | G16: 1914.1312
A17: =VLOOKUP(B17,'W-Sponsor'!$A$2:$B$62,2,FALSE) -> Asics/Mammoth TC | B17: Lauren Jimison | C17: 2349.3507 | E17: =VLOOKUP(F17,'M-Sponsor'!$A$2:$B$59,2,FALSE) -> Nike | F17: Abdi Abdirahman | G17: 1947.0334
A18: =VLOOKUP(B18,'W-Sponsor'!$A$2:$B$62,2,FALSE) -> Nike/Oregon TC | B18: Shalane Flanagan | C18: 2349.7557 | E18: =VLOOKUP(F18,'M-Sponsor'!$A$2:$B$59,2,FALSE) -> Unattached | F18: Craig Curley | G18: 1947.0334
A19: =VLOOKUP(B19,'W-Sponsor'!$A$2:$B$62,2,FALSE) -> New Balance/SRA | B19: Kim Conley | C19: 2374.5858 | E19: =VLOOKUP(F19,'M-Sponsor'!$A$2:$B$59,2,FALSE) -> Asics/Mammoth TC | F19: John Gilberston | G19: 2256.8544
E20: =VLOOKUP(F20,'M-Sponsor'!$A$2:$B$59,2,FALSE) -> Asics/Mammoth TC | F20: Josphat Boit | G20: 2256.8544
B21: Median | C21: 1484.8458 | E21: =VLOOKUP(F21,'M-Sponsor'!$A$2:$B$59,2,FALSE) -> Nike/Oregon TC | F21: Chris Solinsky | G21: 2349.7557
B22: Mean | C22: 1279.7869 | E22: =VLOOKUP(F22,'M-Sponsor'!$A$2:$B$59,2,FALSE) -> Nike/Oregon TC | F22: Matt Tegankamp | G22: 2349.7557
B23: Mode | C23: 934.75165 | E23: =VLOOKUP(F23,'M-Sponsor'!$A$2:$B$59,2,FALSE) -> SRA Elite | F23: Shadrack Biwott | G23: 2354.3892
B24: Max | C24: 2374.5858
B25: Min | C25: 89.862454 | F25: Median | G25: 1217.9533
B26: N | C26: 18 | F26: Mean | G26: 1296.6844
F27: Mode | G27: 313.78788
F28: Max | G28: 2354.3892
F29: Min | G29: 313.78788
F30: N | G30: 22

Sheet 15k
B1: Athlete | C1: Distance | F1: Athlete | G1: Distance
A2: =VLOOKUP(B2,'W-Sponsor'!$A$2:$B$62,2,FALSE) -> Nike | B2: Janet Bawcom | C2: 339.85617 | E2: =VLOOKUP(F2,'M-Sponsor'!$A$2:$B$59,2,FALSE) -> Reebok/ZAP Fitness | F2: Tyler Pennel | G2: 400.94678
A3: =VLOOKUP(B3,'W-Sponsor'!$A$2:$B$62,2,FALSE) -> Reebok/Zap Fitness | B3: Alissa McKaig | C3: 400.94678 | E3: =VLOOKUP(F3,'M-Sponsor'!$A$2:$B$59,2,FALSE) -> Nike | F3: Donn Cabral | G3: 806.17083
A4: =VLOOKUP(B4,'W-Sponsor'!$A$2:$B$62,2,FALSE) -> Reebok/Zap Fitness | B4: Sarah Crouch | C4: 400.94678 | E4: =VLOOKUP(F4,'M-Sponsor'!$A$2:$B$59,2,FALSE) -> Mizuno | F4: Christo Landry | G4: 833.635 | J4: mode:
A5: =VLOOKUP(B5,'W-Sponsor'!$A$2:$B$62,2,FALSE) -> NJNY TC | B5: Delilah DiCrescenzo | C5: 835.61014 | E5: =VLOOKUP(F5,'M-Sponsor'!$A$2:$B$59,2,FALSE) -> Hansons-Brooks | F5: Bobby Curtis | G5: 845.16597 | J5: Women | K5: {=INDEX(A2:A24,MATCH(MAX(COUNTIF(A2:A24,A2:A24)),COUNTIF(A2:A24,A2:A24),0))} -> Adidas/Boulder Running Co
A6: =VLOOKUP(B6,'W-Sponsor'!$A$2:$B$62,2,FALSE) -> Hansons-Brooks | B6: Dot McMahan | C6: 855.65053 | E6: =VLOOKUP(F6,'M-Sponsor'!$A$2:$B$59,2,FALSE) -> Adidas/Rogue AC | F6: Scott MacPherson | G6: 958.89906 | J6: Men | K6: {=INDEX(E2:E18,MATCH(MAX(COUNTIF(E2:E18,E2:E18)),COUNTIF(E2:E18,E2:E18),0))} -> Nike
A7: =VLOOKUP(B7,'W-Sponsor'!$A$2:$B$62,2,FALSE) -> Hansons-Brooks | B7: Melissa White | C7: 864.80305 | E7: =VLOOKUP(F7,'M-Sponsor'!$A$2:$B$59,2,FALSE) -> Adidas/BAA | F7: Tim Ritchie | G7: 1013.1614
A8: =VLOOKUP(B8,'W-Sponsor'!$A$2:$B$62,2,FALSE) -> New Balance/Boston | B8: Katie DiCamillo | C8: 976.96323 | E8: =VLOOKUP(F8,'M-Sponsor'!$A$2:$B$59,2,FALSE) -> Saucony | F8: Ben True | G8: 1056.8137
A9: =VLOOKUP(B9,'W-Sponsor'!$A$2:$B$62,2,FALSE) -> Adidas/BAA | B9: Heather Cappello | C9: 1017.0867 | E9: =VLOOKUP(F9,'M-Sponsor'!$A$2:$B$59,2,FALSE) -> Team USA Minnesota | F9: Ben Sathre | G9: 1191.2157
A10: =VLOOKUP(B10,'W-Sponsor'!$A$2:$B$62,2,FALSE) -> Unnattached | B10: Sheri Piers | C10: 1116.5815 | E10: =VLOOKUP(F10,'M-Sponsor'!$A$2:$B$59,2,FALSE) -> WCAP | F10: Augustus Maiyo | G10: 1437.409
A11: =VLOOKUP(B11,'W-Sponsor'!$A$2:$B$62,2,FALSE) -> Team USA Minnesota | B11: Ladia Abertson-Junkans | C11: 1192.2458 | E11: =VLOOKUP(F11,'M-Sponsor'!$A$2:$B$59,2,FALSE) -> Boulder TC | F11: Sean Quigley | G11: 1485.7195
A12: =VLOOKUP(B12,'W-Sponsor'!$A$2:$B$62,2,FALSE) -> Team USA Minnesota | B12: Meghan Peyton | C12: 1192.2458 | E12: =VLOOKUP(F12,'M-Sponsor'!$A$2:$B$59,2,FALSE) -> Unattached | F12: Craig Curley | G12: 1728.1084
A13: =VLOOKUP(B13,'W-Sponsor'!$A$2:$B$62,2,FALSE) -> Reebok | B13: Katie McGregor | C13: 1193.902 | E13: =VLOOKUP(F13,'M-Sponsor'!$A$2:$B$59,2,FALSE) -> NAZ Elite | F13: Matt Llano | G13: 1767.8976
A14: =VLOOKUP(B14,'W-Sponsor'!$A$2:$B$62,2,FALSE) -> New Balance Silicon Valley | B14: Annie Bersagel | C14: 1196.8038 | E14: =VLOOKUP(F14,'M-Sponsor'!$A$2:$B$59,2,FALSE) -> Nike | F14: Mo Trafeh | G14: 2127.8167
A15: =VLOOKUP(B15,'W-Sponsor'!$A$2:$B$62,2,FALSE) -> Adidas/Boulder Running Co | B15: Mattie Suver | C15: 1437.409 | E15: =VLOOKUP(F15,'M-Sponsor'!$A$2:$B$59,2,FALSE) -> Asics/Mammoth TC | F15: Josphat Boit | G15: 2181.5247
A16: =VLOOKUP(B16,'W-Sponsor'!$A$2:$B$62,2,FALSE) -> Adidas/Boulder Running Co | B16: Brianne Nelson | C16: 1477.3727 | E16: =VLOOKUP(F16,'M-Sponsor'!$A$2:$B$59,2,FALSE) -> Asics Aggie Running Club | F16: Sergio Reyes | G16: 2285.5906
A17: =VLOOKUP(B17,'W-Sponsor'!$A$2:$B$62,2,FALSE) -> Unattached/Team Rono | B17: Atalelech Asfaw | C17: 1483.4349 | E17: =VLOOKUP(F17,'M-Sponsor'!$A$2:$B$59,2,FALSE) -> SRA Elite | F17: Shadrack Biwott | G17: 2303.9117
A18: =VLOOKUP(B18,'W-Sponsor'!$A$2:$B$62,2,FALSE) -> Adidas/Boulder Running Co | B18: Alisha Williams | C18: 1485.7195 | E18: =VLOOKUP(F18,'M-Sponsor'!$A$2:$B$59,2,FALSE) -> Brooks | F18: Ryan Vail | G18: 2435.933
A19: =VLOOKUP(B19,'W-Sponsor'!$A$2:$B$62,2,FALSE) -> Boulder Track Club | B19: Laura Thweat | C19: 1485.7195
A20: =VLOOKUP(B20,'W-Sponsor'!$A$2:$B$62,2,FALSE) -> NAZ Elite | B20: Kellyn Johnson | C20: 1767.8976 | F20: Median | G20: =MEDIAN(G2:G18) -> 1437.409
A21: =VLOOKUP(B21,'W-Sponsor'!$A$2:$B$62,2,FALSE) -> NAZ Elite | B21: Stephanie Bruce | C21: 1767.8976 | F21: Mean | G21: =AVERAGE(G2:G18) -> 1462.3482
A22: =VLOOKUP(B22,'W-Sponsor'!$A$2:$B$62,2,FALSE) -> Adidas/BAA | B22: Jen Rhines | C22: 2181.5247 | F22: Mode | G22: =MODE(G2:G18) -> #N/A
A23: =VLOOKUP(B23,'W-Sponsor'!$A$2:$B$62,2,FALSE) -> Asics/Mammoth TC | B23: Lauren Jimison | C23: 2298.8734 | F23: Max | G23: =MAX(G2:G18) -> 2435.933
A24: =VLOOKUP(B24,'W-Sponsor'!$A$2:$B$62,2,FALSE) -> Unnattached | B24: Chelsea Reilly | C24: 2370.0796 | F24: Min | G24: =MIN(G2:G18) -> 400.94678
F25: N | G25: =COUNT(G2:G18) -> 17
B26: Median | C26: =MEDIAN(C2:C24) -> 1193.902
B27: Mean | C27: =AVERAGE(C2:C24) -> 1275.6335
B28: Mode | C28: =MODE(C2:C24) -> 400.94678
B29: Max | C29: =MAX(C2:C24) -> 2370.0796
B30: Min | C30: =MIN(C2:C24) -> 339.85617
B31: N | C31: =COUNT(C2:C24) -> 23

Sheet 1M
B1: Athlete | C1: Distance
A2: =VLOOKUP(B2,'W-Sponsor'!$A$2:$B$62,2,FALSE) -> Team Nebraska | B2: Ashley Miller | C2: 168.86414 | E2: =VLOOKUP(F2,'M-Sponsor'!$A$2:$B$59,2,FALSE) -> Unattached | F2: Tony Filipek | G2: 535.61273
A3: =VLOOKUP(B3,'W-Sponsor'!$A$2:$B$62,2,FALSE) -> Asics/Team USA Minnesota | B3: Heather Kamph | C3: 234.36106 | E3: =VLOOKUP(F3,'M-Sponsor'!$A$2:$B$59,2,FALSE) -> New Balance | F3: Craig Miller | G3: 621.12818
A4: =VLOOKUP(B4,'W-Sponsor'!$A$2:$B$62,2,FALSE) -> Brooks/Team USA Minnesota | B4: Gabriele Grunewald | C4: 234.36106 | E4: =VLOOKUP(F4,'M-Sponsor'!$A$2:$B$59,2,FALSE) -> Unattached | F4: Leo Manzano | G4: 816.21949 | H4: unattached | J4: Women | K4: Team USA Minnesota
A5: =VLOOKUP(B5,'W-Sponsor'!$A$2:$B$62,2,FALSE) -> Team USA Minnesota | B5: Meghan Peyton | C5: 234.36106 | E5: =VLOOKUP(F5,'M-Sponsor'!$A$2:$B$59,2,FALSE) -> Asics/Austin TC | F5: Miles Batty | G5: 816.21949 | J5: men | K5: NJNY TC
A6: =VLOOKUP(B6,'W-Sponsor'!$A$2:$B$62,2,FALSE) -> New Balance | B6: Sarah Brown | C6: 650.5829 | E6: =VLOOKUP(F6,'M-Sponsor'!$A$2:$B$59,2,FALSE) -> Saucony | F6: Jeff See | G6: 967.58929
A7: =VLOOKUP(B7,'W-Sponsor'!$A$2:$B$62,2,FALSE) -> Nike/NJNY TC | B7: Renee Tomlin | C7: 1011.608 | E7: =VLOOKUP(F7,'M-Sponsor'!$A$2:$B$59,2,FALSE) -> NJNY TC | F7: Brian Gagnon | G7: 973.68417
A8: =VLOOKUP(B8,'W-Sponsor'!$A$2:$B$62,2,FALSE) -> NAZ Elite | B8: Kellyn Johnson | C8: 1069.6705 | E8: =VLOOKUP(F8,'M-Sponsor'!$A$2:$B$59,2,FALSE) -> NJNY TC | F8: Liam Boylan-Pett | G8: 975.11101
A9: =VLOOKUP(B9,'W-Sponsor'!$A$2:$B$62,2,FALSE) -> Asics | B9: Sara Hall | C9: 1069.6705 | E9: =VLOOKUP(F9,'M-Sponsor'!$A$2:$B$59,2,FALSE) -> NJNY TC | F9: Travis Mahoney | G9: 1007.6261
A10: =VLOOKUP(B10,'W-Sponsor'!$A$2:$B$62,2,FALSE) -> Oiselle | B10: Kate Grace | C10: 1407.4241 | E10: =VLOOKUP(F10,'M-Sponsor'!$A$2:$B$59,2,FALSE) -> Unattached | F10: AJ Acosta | G10: 1422.0061
A11: =VLOOKUP(B11,'W-Sponsor'!$A$2:$B$62,2,FALSE) -> Unattached | B11: Alice Schmidt | C11: 1430.7758 | E11: =VLOOKUP(F11,'M-Sponsor'!$A$2:$B$59,2,FALSE) -> Brooks | F11: Garrett Heath | G11: 1463.1303
A12: =VLOOKUP(B12,'W-Sponsor'!$A$2:$B$62,2,FALSE) -> Nike | B12: Shannon Rowbury | C12: 1547.0379
F13: Median | G13: =MEDIAN(G2:G11) -> 970.63673
B14: Median | C14: =MEDIAN(C2:C12) -> 1011.608 | F14: Mean | G14: =AVERAGE(G2:G11) -> 959.83269
B15: Mean | C15: =AVERAGE(C2:C12) -> 823.51974 | F15: Mode | G15: =MODE(G2:G11) -> 816.21949
B16: Mode | C16: =MODE(C2:C12) -> 234.36106 | F16: Max | G16: =MAX(G2:G11) -> 1463.1303
B17: Max | C17: =MAX(C2:C12) -> 1547.0379 | F17: Min | G17: =MIN(G2:G11) -> 535.61273
B18: Min | C18: =MIN(C2:C12) -> 168.86414 | F18: N | G18: =COUNT(G2:G11) -> 10
B19: N | C19: =COUNT(C2:C12) -> 11

Sheet 20k
B1: Athlete | C1: Distance
A2: =VLOOKUP(B2,'W-Sponsor'!$A$2:$B$62,2,FALSE) -> NJNY TC | B2: Delilah DiCrescenzo | C2: 69.592581 | E2: =VLOOKUP(F2,'M-Sponsor'!$A$2:$B$59,2,FALSE) -> Adidas/BAA | F2: Tim Ritchie | G2: 115.77101
A3: =VLOOKUP(B3,'W-Sponsor'!$A$2:$B$62,2,FALSE) -> New Balance/Boston | B3: Katie DiCamillo | C3: 86.043419 | E3: =VLOOKUP(F3,'M-Sponsor'!$A$2:$B$59,2,FALSE) -> Unattached | F3: Elliot Krause | G3: 810.05123
A4: =VLOOKUP(B4,'W-Sponsor'!$A$2:$B$62,2,FALSE) -> New Balance/NJNY TC | B4: Frances Koons | C4: 113.32444 | E4: =VLOOKUP(F4,'M-Sponsor'!$A$2:$B$59,2,FALSE) -> WCAP | F4: Augustus Maiyo | G4: 1685.4262
A5: =VLOOKUP(B5,'W-Sponsor'!$A$2:$B$62,2,FALSE) -> Reebok/Zap Fitness | B5: Esther Erb | C5: 354.37319 | E5: =VLOOKUP(F5,'M-Sponsor'!$A$2:$B$59,2,FALSE) -> Unattached | F5: Jason Hartmann | G5: 1687.6843
A6: =VLOOKUP(B6,'W-Sponsor'!$A$2:$B$62,2,FALSE) -> Oiselle | B6: Caitlin Comfort | C6: 850.66039 | E6: =VLOOKUP(F6,'M-Sponsor'!$A$2:$B$59,2,FALSE) -> Boulder TC | F6: Sean Quigley | G6: 1687.6843 | I6: women | J6: {=INDEX(A2:A14,MATCH(MAX(COUNTIF(A2:A14,A2:A14)),COUNTIF(A2:A14,A2:A14),0))} -> Adidas/Boulder Running Co
A7: =VLOOKUP(B7,'W-Sponsor'!$A$2:$B$62,2,FALSE) -> Unattached | B7: Kelly Brinkman | C7: 1053.2051 | E7: =VLOOKUP(F7,'M-Sponsor'!$A$2:$B$59,2,FALSE) -> NAZ Elite | F7: Matt Llano | G7: 2124.787 | I7: men | J7: {=INDEX(E2:E11,MATCH(MAX(COUNTIF(E2:E11,E2:E11)),COUNTIF(E2:E11,E2:E11),0))} -> Unattached
A8: =VLOOKUP(B8,'W-Sponsor'!$A$2:$B$62,2,FALSE) -> Team USA Minnesota | B8: Meghan Peyton | C8: 1053.2051 | E8: =VLOOKUP(F8,'M-Sponsor'!$A$2:$B$59,2,FALSE) -> Nike | F8: Abdi Abdirahman | G8: 2175.6438
A9: =VLOOKUP(B9,'W-Sponsor'!$A$2:$B$62,2,FALSE) -> Adidas/Boulder Running Co | B9: Wendy Thomas | C9: 1661.4828 | E9: =VLOOKUP(F9,'M-Sponsor'!$A$2:$B$59,2,FALSE) -> Asics/Mammoth TC | F9: Josphat Boit | G9: 2439.7504
A10: =VLOOKUP(B10,'W-Sponsor'!$A$2:$B$62,2,FALSE) -> Brooks/Team USA Minnesota | B10: Kristen Fryburg-Zaitz | C10: 1679.7714 | E10: =VLOOKUP(F10,'M-Sponsor'!$A$2:$B$59,2,FALSE) -> Nike/Oregon TC | F10: Matt Tegankamp | G10: 2473.5109
A11: =VLOOKUP(B11,'W-Sponsor'!$A$2:$B$62,2,FALSE) -> Adidas/Boulder Running Co | B11: Mattie Suver | C11: 1685.4262 | E11: =VLOOKUP(F11,'M-Sponsor'!$A$2:$B$59,2,FALSE) -> SRA Elite | F11: Shadrack Biwott | G11: 2527.4165
A12: =VLOOKUP(B12,'W-Sponsor'!$A$2:$B$62,2,FALSE) -> Adidas/Boulder Running Co | B12: Alisha Williams | C12: 1687.6843
A13: =VLOOKUP(B13,'W-Sponsor'!$A$2:$B$62,2,FALSE) -> Boulder Track Club | B13: Laura Thweat | C13: 1687.6843 | F13: Median | G13: =MEDIAN(G2:G11) -> 1906.2356
A14: =VLOOKUP(B14,'W-Sponsor'!$A$2:$B$62,2,FALSE) -> Nike/Oregon TC | B14: Emily Infeld | C14: 2473.5109 | F14: Mean | G14: =AVERAGE(G2:G11) -> 1772.7726
F15: Mode | G15: =MODE(G2:G11) -> 1687.6843
B16: Median | C16: =MEDIAN(C4:C14) -> 1661.4828 | F16: Max | G16: =MAX(G2:G11) -> 2527.4165
B17: Mean | C17: =AVERAGE(C4:C14) -> 1300.0298 | F17: Min | G17: =MIN(G2:G11) -> 115.77101
B18: Mode | C18: =MODE(C4:C14) -> 1053.2051 | F18: N | G18: =COUNT(G2:G11) -> 10
B19: Max | C19: =MAX(C4:C14) -> 2473.5109
B20: Min | C20: =MIN(C4:C14) -> 113.32444
B21: N | C21: =COUNT(C4:C14) -> 11

Sheet 25k
B1: Athlete | C1: Distance
A2: =VLOOKUP(B2,'W-Sponsor'!$A$2:$B$62,2,FALSE) -> Unnattached | B2: Theresa Taggart | C2: 0 | E2: =VLOOKUP(F2,'M-Sponsor'!$A$2:$B$59,2,FALSE) -> Mizuno | F2: Christo Landry | G2: 108.63726
A3: =VLOOKUP(B3,'W-Sponsor'!$A$2:$B$62,2,FALSE) -> Hansons-Brooks | B3: Melissa White | C3: 123.57906 | E3: =VLOOKUP(F3,'M-Sponsor'!$A$2:$B$59,2,FALSE) -> Twin Cities TC | F3: Michael Reneau | G3: 393.73792 | J3: Women | K3: {=INDEX(A2:A11,MATCH(MAX(COUNTIF(A2:A11,A2:A11)),COUNTIF(A2:A11,A2:A11),0))} -> Adidas/Boulder Running Co
A4: =VLOOKUP(B4,'W-Sponsor'!$A$2:$B$62,2,FALSE) -> Hansons-Brooks | B4: Dot McMahan | C4: 129.36019 | E4: =VLOOKUP(F4,'M-Sponsor'!$A$2:$B$59,2,FALSE) -> Twin Cities TC | F4: Joe Moore | G4: 402.5895 | J4: Men | K4: {=INDEX(E2:E12,MATCH(MAX(COUNTIF(E2:E12,E2:E12)),COUNTIF(E2:E12,E2:E12),0))} -> Twin Cities TC
A5: =VLOOKUP(B5,'W-Sponsor'!$A$2:$B$62,2,FALSE) -> Reebok | B5: Katie McGregor | C5: 406.93448 | E5: =VLOOKUP(F5,'M-Sponsor'!$A$2:$B$59,2,FALSE) -> Team USA Minnesota | F5: Ben Sathre | G5: 414.58863
A6: =VLOOKUP(B6,'W-Sponsor'!$A$2:$B$62,2,FALSE) -> Reebok/Zap Fitness | B6: Stephanie Pezzullo | C6: 593.58134 | E6: =VLOOKUP(F6,'M-Sponsor'!$A$2:$B$59,2,FALSE) -> Brooks | F6: Andrew Carlson | G6: 606.85486
A7: =VLOOKUP(B7,'W-Sponsor'!$A$2:$B$62,2,FALSE) -> Adidas/Boulder Running Co | B7: Wendy Thomas | C7: 1004.343 | E7: =VLOOKUP(F7,'M-Sponsor'!$A$2:$B$59,2,FALSE) -> Saucony | F7: Zachary Hine | G7: 1032.2945
A8: =VLOOKUP(B8,'W-Sponsor'!$A$2:$B$62,2,FALSE) -> Adidas/Boulder Running Co | B8: Brianne Nelson | C8: 1035.4163 | E8: =VLOOKUP(F8,'M-Sponsor'!$A$2:$B$59,2,FALSE) -> Adidas/Rogue AC | F8: Scott MacPherson | G8: 1101.127
A9: =VLOOKUP(B9,'W-Sponsor'!$A$2:$B$62,2,FALSE) -> Adidas/Boulder Running Co | B9: Mattie Suver | C9: 1037.5766 | E9: =VLOOKUP(F9,'M-Sponsor'!$A$2:$B$59,2,FALSE) -> Unattached | F9: Craig Curley | G9: 1560.7039
A10: =VLOOKUP(B10,'W-Sponsor'!$A$2:$B$62,2,FALSE) -> Adidas/Boulder Running Co | B10: Tera Moody | C10: 1037.5766 | E10: =VLOOKUP(F10,'M-Sponsor'!$A$2:$B$59,2,FALSE) -> Asics/Mammoth TC | F10: Josphat Boit | G10: 1780.5616
A11: =VLOOKUP(B11,'W-Sponsor'!$A$2:$B$62,2,FALSE) -> Asics/Mammoth TC | B11: Lauren Jimison | C11: 1860.9551 | E11: =VLOOKUP(F11,'M-Sponsor'!$A$2:$B$59,2,FALSE) -> Nike/Oregon TC | F11: Matt Tegankamp | G11: 1824.0109
E12: =VLOOKUP(F12,'M-Sponsor'!$A$2:$B$59,2,FALSE) -> Nike | F12: Mo Trafeh | G12: 1835.7957
B13: Median | C13: =MEDIAN(C2:C11) -> 798.96218
B14: Mean | C14: =AVERAGE(C2:C11) -> 722.93226 | F14: Median | G14: =MEDIAN(G2:G12) -> 1032.2945
B15: Mode | C15: =MODE(C2:C11) -> 1037.5766 | F15: Mean | G15: =AVERAGE(G2:G12) -> 1005.5365
B16: Max | C16: =MAX(C2:C11) -> 1860.9551 | F16: Mode | G16: =MODE(G2:G12) -> #N/A
B17: Min | C17: =MIN(C2:C11) -> 0 | F17: Max | G17: =MAX(G2:G12) -> 1835.7957
B18: N | C18: =COUNT(C2:C11) -> 10 | F18: Min | G18: =MIN(G2:G12) -> 108.63726
F19: N | G19: =COUNT(G2:G12) -> 11

Sheet 5k
B1: Athlete | C1: Distance
A2: =VLOOKUP(B2,'W-Sponsor'!$A$2:$B$62,2,FALSE) -> Saucony | B2: Molly Huddle | C2: 0 | E2: =VLOOKUP(F2,'M-Sponsor'!$A$2:$B$59,2,FALSE) -> Adidas/BAA | F2: Tim Ritchie | G2: 38.303373
A3: =VLOOKUP(B3,'W-Sponsor'!$A$2:$B$62,2,FALSE) -> Adidas/BAA | B3: Katie Matthews | C3: 41.124748 | E3: =VLOOKUP(F3,'M-Sponsor'!$A$2:$B$59,2,FALSE) -> New Balance | F3: Pat Fullerton | G3: 67.56204 | J3: Women | K3: NAZ Elite
A4: =VLOOKUP(B4,'W-Sponsor'!$A$2:$B$62,2,FALSE) -> New Balance/NJNY TC | B4: Frances Koons | C4: 199.3522 | E4: =VLOOKUP(F4,'M-Sponsor'!$A$2:$B$59,2,FALSE) -> Reebok/ZAP Fitness | F4: Joe Stilin | G4: 676.3152 | J4: Men | K4: {=INDEX(E2:E11,MATCH(MAX(COUNTIF(E2:E11,E2:E11)),COUNTIF(E2:E11,E2:E11),0))} -> Nike/Oregon TC
A5: =VLOOKUP(B5,'W-Sponsor'!$A$2:$B$62,2,FALSE) -> Hansons-Brooks | B5: Neely Spence Gracey | C5: 607.47651 | E5: =VLOOKUP(F5,'M-Sponsor'!$A$2:$B$59,2,FALSE) -> Twin Cities TC | F5: Joe Moore | G5: 1114.9317
A6: =VLOOKUP(B6,'W-Sponsor'!$A$2:$B$62,2,FALSE) -> Team USA Minnesota | B6: Meghan Peyton | C6: 1114.9317 | E6: =VLOOKUP(F6,'M-Sponsor'!$A$2:$B$59,2,FALSE) -> Adidas | F6: Aaron Braun | G6: 1752.9887
A7: =VLOOKUP(B7,'W-Sponsor'!$A$2:$B$62,2,FALSE) -> Team Nebraska | B7: Ashley Miller | C7: 1308.4811 | E7: =VLOOKUP(F7,'M-Sponsor'!$A$2:$B$59,2,FALSE) -> Brooks | F7: Jared Bassett | G7: 2489.8854
A8: =VLOOKUP(B8,'W-Sponsor'!$A$2:$B$62,2,FALSE) -> Boulder Track Club | B8: Laura Thweat | C8: 1760.6446 | E8: =VLOOKUP(F8,'M-Sponsor'!$A$2:$B$59,2,FALSE) -> Asics/Mammoth TC | F8: John Gilberston | G8: 2511.0475
A9: =VLOOKUP(B9,'W-Sponsor'!$A$2:$B$62,2,FALSE) -> Adidas/NAZ Elite | B9: Amy Van Alstine | C9: 2202.2051 | E9: =VLOOKUP(F9,'M-Sponsor'!$A$2:$B$59,2,FALSE) -> Nike | F9: Andrew Bumbalough | G9: 2530.8125
A10: =VLOOKUP(B10,'W-Sponsor'!$A$2:$B$62,2,FALSE) -> NAZ Elite | B10: Kellyn Johnson | C10: 2202.2051 | E10: =VLOOKUP(F10,'M-Sponsor'!$A$2:$B$59,2,FALSE) -> Nike/Oregon TC | F10: Chris Solinsky | G10: 2530.8125
A11: =VLOOKUP(B11,'W-Sponsor'!$A$2:$B$62,2,FALSE) -> Brooks | B11: Deborah Maier | C11: 2485.9778 | E11: =VLOOKUP(F11,'M-Sponsor'!$A$2:$B$59,2,FALSE) -> Nike/Oregon TC | F11: Matt Tegankamp | G11: 2530.8125
A12: =VLOOKUP(B12,'W-Sponsor'!$A$2:$B$62,2,FALSE) -> Nike/Oregon TC | B12: Alexi Pappas | C12: 2575.0678
F13: Median | G13: =MEDIAN(G2:G11) -> 2121.437
B14: Median | C14: =MEDIAN(C2:C12) -> 1308.4811 | F14: Mean | G14: =AVERAGE(G2:G11) -> 1624.3471
B15: Mean | C15: =AVERAGE(C2:C12) -> 1317.9515 | F15: Mode | G15: =MODE(G2:G11) -> 2530.8125
B16: Mode | C16: =MODE(C2:C12) -> 2202.2051 | F16: Max | G16: =MAX(G2:G11) -> 2530.8125
B17: Max | C17: =MAX(C2:C12) -> 2575.0678 | F17: Min | G17: =MIN(G2:G11) -> 38.303373
B18: Min | C18: =MIN(C2:C12) -> 0 | F18: N | G18: =COUNT(G2:G11) -> 10
B19: N | C19: =COUNT(C2:C12) -> 11

Sheet HM
B1: Athlete | C1: Distance
A2: =VLOOKUP(B2,'W-Sponsor'!$A$2:$B$62,2,FALSE) -> Unattached | B2: Kelly Brinkman | C2: 136.63681 | E2: =VLOOKUP(F2,'M-Sponsor'!$A$2:$B$59,2,FALSE) -> Twin Cities TC | F2: Joe Moore | G2: 136.63681
A3: =VLOOKUP(B3,'W-Sponsor'!$A$2:$B$62,2,FALSE) -> Team USA Minnesota | B3: Ladia Abertson-Junkans | C3: 136.63681 | E3: =VLOOKUP(F3,'M-Sponsor'!$A$2:$B$59,2,FALSE) -> Brooks | F3: Andrew Carlson | G3: 221.7172
A4: =VLOOKUP(B4,'W-Sponsor'!$A$2:$B$62,2,FALSE) -> Team USA Minnesota | B4: Michelle Frey | C4: 136.63681 | E4: =VLOOKUP(F4,'M-Sponsor'!$A$2:$B$59,2,FALSE) -> Nashville Harriers | F4: Scott Wietecha | G4: 777.20334
A5: =VLOOKUP(B5,'W-Sponsor'!$A$2:$B$62,2,FALSE) -> Reebok | B5: Katie McGregor | C5: 140.22608 | E5: =VLOOKUP(F5,'M-Sponsor'!$A$2:$B$59,2,FALSE) -> Saucony | F5: Zachary Hine | G5: 808.2328 | I5: Women | J5: {=INDEX(A2:A21,MATCH(MAX(COUNTIF(A2:A21,A2:A21)),COUNTIF(A2:A21,A2:A21),0))} -> Adidas/Boulder Running Co
A6: =VLOOKUP(B6,'W-Sponsor'!$A$2:$B$62,2,FALSE) -> Hansons-Brooks | B6: Melissa White | C6: 514.57482 | E6: =VLOOKUP(F6,'M-Sponsor'!$A$2:$B$59,2,FALSE) -> Unattached | F6: Bobby Mack | G6: 1030.038 | I6: Men | J6: {=INDEX(E2:E17,MATCH(MAX(COUNTIF(E2:E17,E2:E17)),COUNTIF(E2:E17,E2:E17),0))} -> Asics/Mammoth TC
A7: =VLOOKUP(B7,'W-Sponsor'!$A$2:$B$62,2,FALSE) -> Hansons-Brooks | B7: Desi Davila | C7: 525.61112 | E7: =VLOOKUP(F7,'M-Sponsor'!$A$2:$B$59,2,FALSE) -> Adidas/BAA | F7: Tim Ritchie | G7: 1071.657
A8: =VLOOKUP(B8,'W-Sponsor'!$A$2:$B$62,2,FALSE) -> Unattached | B8: Nicole Camp | C8: 636.02558 | E8: =VLOOKUP(F8,'M-Sponsor'!$A$2:$B$59,2,FALSE) -> Under Armour/Team Run Flagstaff Pro | F8: Nick Arciniaga | G8: 1290.2369
A9: =VLOOKUP(B9,'W-Sponsor'!$A$2:$B$62,2,FALSE) -> Adidas/Boulder Running Co | B9: Wendy Thomas | C9: 772.96275 | E9: =VLOOKUP(F9,'M-Sponsor'!$A$2:$B$59,2,FALSE) -> Nike | F9: Abdi Abdirahman | G9: 1414.126
A10: =VLOOKUP(B10,'W-Sponsor'!$A$2:$B$62,2,FALSE) -> Brooks/Team USA Minnesota | B10: Kristen Fryburg-Zaitz | C10: 804.97334 | E10: =VLOOKUP(F10,'M-Sponsor'!$A$2:$B$59,2,FALSE) -> Adidas/Boulder Running Co | F10: Ian Burrell | G10: 1414.126
A11: =VLOOKUP(B11,'W-Sponsor'!$A$2:$B$62,2,FALSE) -> Asics | B11: Adriana Nelson | C11: 808.2328 | E11: =VLOOKUP(F11,'M-Sponsor'!$A$2:$B$59,2,FALSE) -> Asics/Mammoth TC | F11: Chris Barnicle | G11: 1503.2127
A12: =VLOOKUP(B12,'W-Sponsor'!$A$2:$B$62,2,FALSE) -> Adidas/Boulder Running Co | B12: Brianne Nelson | C12: 817.80468 | E12: =VLOOKUP(F12,'M-Sponsor'!$A$2:$B$59,2,FALSE) -> Asics/Mammoth TC | F12: Josphat Boit | G12: 1503.2127
A13: =VLOOKUP(B13,'W-Sponsor'!$A$2:$B$62,2,FALSE) -> Adidas/Boulder Running Co | B13: Mattie Suver | C13: 845.28517 | E13: =VLOOKUP(F13,'M-Sponsor'!$A$2:$B$59,2,FALSE) -> SRA Elite | F13: Shadrack Biwott | G13: 1567.3787
A14: =VLOOKUP(B14,'W-Sponsor'!$A$2:$B$62,2,FALSE) -> Reebok/Zap Fitness | B14: Sarah Crouch | C14: 910.89153 | E14: =VLOOKUP(F14,'M-Sponsor'!$A$2:$B$59,2,FALSE) -> Nike | F14: Mo Trafeh | G14: 1605.1881
A15: =VLOOKUP(B15,'W-Sponsor'!$A$2:$B$62,2,FALSE) -> Mizuno | B15: Serena Burla | C15: 930.43526 | E15: =VLOOKUP(F15,'M-Sponsor'!$A$2:$B$59,2,FALSE) -> Asics/Mammoth TC | F15: Meb Keflezighi | G15: 1636.5616
A16: =VLOOKUP(B16,'W-Sponsor'!$A$2:$B$62,2,FALSE) -> Reebok/Zap Fitness | B16: Esther Erb | C16: 983.11444 | E16: =VLOOKUP(F16,'M-Sponsor'!$A$2:$B$59,2,FALSE) -> Ujena Fit Club | F16: Malcolm Richards | G16: 1657.3826
A17: =VLOOKUP(B17,'W-Sponsor'!$A$2:$B$62,2,FALSE) -> NYAC | B17: Sarah Cummings | C17: 992.72335 | E17: =VLOOKUP(F17,'M-Sponsor'!$A$2:$B$59,2,FALSE) -> Asics Aggie Running Club | F17: Sergio Reyes | G17: 1680.2332
A18: =VLOOKUP(B18,'W-Sponsor'!$A$2:$B$62,2,FALSE) -> Unnattached | B18: Sheri Piers | C18: 1078.2628
A19: =VLOOKUP(B19,'W-Sponsor'!$A$2:$B$62,2,FALSE) -> Unattached/Team Rono | B19: Atalelech Asfaw | C19: 1102.8844 | F19: Median | G19: =MEDIAN(G2:G17) -> 1414.126
A20: =VLOOKUP(B20,'W-Sponsor'!$A$2:$B$62,2,FALSE) -> NAZ Elite | B20: Maegan Krifchin | C20: 1290.2369 | F20: Mean | G20: =AVERAGE(G2:G17) -> 1207.3215
A21: =VLOOKUP(B21,'W-Sponsor'!$A$2:$B$62,2,FALSE) -> NAZ Elite | B21: Stephanie Bruce | C21: 1290.2369 | F21: Mode | G21: =MODE(G2:G17) -> 1414.126
F22: Max | G22: =MAX(G2:G17) -> 1680.2332
B23: Median | C23: =MEDIAN(C2:C21) -> 813.01874 | F23: Min | G23: =MIN(G2:G17) -> 136.63681
B24: Mean | C24: =AVERAGE(C2:C21) -> 742.71962 | F24: N | G24: =COUNT(G2:G17) -> 16
B25: Mode | C25: =MODE(C2:C21) -> 136.63681
B26: Max | C26: =MAX(C2:C21) -> 1290.2369
B27: Min | C27: =MIN(C2:C21) -> 136.63681
B28: N | C28: =COUNT(C2:C21) -> 20

Sheet MAR
B1: Athlete | C1: Distance
A2: =VLOOKUP(B2,'W-Sponsor'!$A$2:$B$62,2,FALSE) -> Team USA Minnesota | B2: Meghan Peyton | C2: 0 | E2: =VLOOKUP(F2,'M-Sponsor'!$A$2:$B$59,2,FALSE) -> Mizuno | F2: Christo Landry | G2: 511.1644
A3: =VLOOKUP(B3,'W-Sponsor'!$A$2:$B$62,2,FALSE) -> Team USA Minnesota | B3: Michelle Frey | C3: 0 | E3: =VLOOKUP(F3,'M-Sponsor'!$A$2:$B$59,2,FALSE) -> Adidas/Rogue AC | F3: Scott MacPherson | G3: 1045.4357 | I3: Women | J3: {=INDEX(A2:A12,MATCH(MAX(COUNTIF(A2:A12,A2:A12)),COUNTIF(A2:A12,A2:A12),0))} -> Unattached
A4: =VLOOKUP(B4,'W-Sponsor'!$A$2:$B$62,2,FALSE) -> Reebok | B4: Katie McGregor | C4: 5.3176258 | E4: =VLOOKUP(F4,'M-Sponsor'!$A$2:$B$59,2,FALSE) -> Adidas/BAA | F4: Tim Ritchie | G4: 1116.1088 | I4: Men | J4: {=INDEX(E2:E11,MATCH(MAX(COUNTIF(E2:E11,E2:E11)),COUNTIF(E2:E11,E2:E11),0))} -> Unattached
A5: =VLOOKUP(B5,'W-Sponsor'!$A$2:$B$62,2,FALSE) -> New Balance Silicon Valley | B5: Annie Bersagel | C5: 21.149931 | E5: =VLOOKUP(F5,'M-Sponsor'!$A$2:$B$59,2,FALSE) -> Under Armour/Team Run Flagstaff Pro | F5: Nick Arciniaga | G5: 1179.3523
A6: =VLOOKUP(B6,'W-Sponsor'!$A$2:$B$62,2,FALSE) -> Unattached | B6: Laura Portis | C6: 426.42621 | E6: =VLOOKUP(F6,'M-Sponsor'!$A$2:$B$59,2,FALSE) -> Unattached | F6: Craig Curley | G6: 1293.4221
A7: =VLOOKUP(B7,'W-Sponsor'!$A$2:$B$62,2,FALSE) -> Unattached | B7: Nicole Camp | C7: 635.29536 | E7: =VLOOKUP(F7,'M-Sponsor'!$A$2:$B$59,2,FALSE) -> Asics/Mammoth TC | F7: Josphat Boit | G7: 1419.5511
A8: =VLOOKUP(B8,'W-Sponsor'!$A$2:$B$62,2,FALSE) -> Adidas/Boulder Running Co | B8: Wendy Thomas | C8: 666.64297 | E8: =VLOOKUP(F8,'M-Sponsor'!$A$2:$B$59,2,FALSE) -> SRA Elite | F8: Shadrack Biwott | G8: 1492.9562
A9: =VLOOKUP(B9,'W-Sponsor'!$A$2:$B$62,2,FALSE) -> Reebok/Zap Fitness | B9: Esther Erb | C9: 967.17672 | E9: =VLOOKUP(F9,'M-Sponsor'!$A$2:$B$59,2,FALSE) -> Unattached | F9: Jake Schmitt | G9: 1581.3269
A10: =VLOOKUP(B10,'W-Sponsor'!$A$2:$B$62,2,FALSE) -> Unattached/Team Rono | B10: Atalelech Asfaw | C10: 979.08697 | E10: =VLOOKUP(F10,'M-Sponsor'!$A$2:$B$59,2,FALSE) -> Ujena Fit Club | F10: Malcolm Richards | G10: 1581.3269
A11: =VLOOKUP(B11,'W-Sponsor'!$A$2:$B$62,2,FALSE) -> NYAC | B11: Sarah Cummings | C11: 1016.4564 | E11: =VLOOKUP(F11,'M-Sponsor'!$A$2:$B$59,2,FALSE) -> Asics Aggie Running Club | F11: Sergio Reyes | G11: 1591.0958
A12: Unattached | B12: Sheri Piers | C12: 1135.0339
F13: Median | G13: 1356.4866
B14: Median | C14: =MEDIAN(C2:C12) -> 635.29536 | F14: Mean | G14: 1281.174
B15: Mean | C15: =AVERAGE(C2:C12) -> 532.05328 | F15: Mode | G15: 1581.3269
B16: Mode | C16: =MODE(C2:C12) -> 0 | F16: Max | G16: 1591.0958
B17: Max | C17: =MAX(C2:C12) -> 1135.0339 | F17: Min | G17: 511.1644
B18: Min | C18: =MIN(C2:C12) -> 0 | F18: N | G18: 10
B19: N | C19: =COUNT(C2:C12) -> 11

Sheet XC
A1: Women | B1: Athlete | C1: Distance | E1: Men | F1: Athlete
A2: =VLOOKUP(B2,'W-Sponsor'!$A$2:$B$62,2,FALSE) -> Hansons-Brooks | B2: Neely Spence Gracey | C2: 463.83433 | E2: =VLOOKUP(F2,'M-Sponsor'!$A$2:$B$59,2,FALSE) -> Unattached | F2: Elliot Krause | G2: 400.12073
A3: =VLOOKUP(B3,'W-Sponsor'!$A$2:$B$62,2,FALSE) -> New Balance Silicon Valley | B3: Annie Bersagel | C3: 465.97918 | E3: =VLOOKUP(F3,'M-Sponsor'!$A$2:$B$59,2,FALSE) -> Hansons-Brooks | F3: Jake Riley | G3: 462.51732
A4: =VLOOKUP(B4,'W-Sponsor'!$A$2:$B$62,2,FALSE) -> Brooks/Team USA Minnesota | B4: Jamie Cheever | C4: 466.63181 | E4: =VLOOKUP(F4,'M-Sponsor'!$A$2:$B$59,2,FALSE) -> Unattached | F4: Bobby Mack | G4: 665.41729 | I4: Women | J4: {=INDEX(A2:A18,MATCH(MAX(COUNTIF(A2:A18,A2:A18)),COUNTIF(A2:A18,A2:A18),0))} -> Team USA Minnesota
A5: =VLOOKUP(B5,'W-Sponsor'!$A$2:$B$62,2,FALSE) -> Team USA Minnesota | B5: Ladia Abertson-Junkans | C5: 466.63181 | E5: =VLOOKUP(F5,'M-Sponsor'!$A$2:$B$59,2,FALSE) -> WCAP | F5: Augustus Maiyo | G5: 787.40559 | I5: Men | J5: {=INDEX(E2:E18,MATCH(MAX(COUNTIF(E2:E18,E2:E18)),COUNTIF(E2:E18,E2:E18),0))} -> Unattached
A6: =VLOOKUP(B6,'W-Sponsor'!$A$2:$B$62,2,FALSE) -> Team USA Minnesota | B6: Meghan Peyton | C6: 466.63181 | E6: =VLOOKUP(F6,'M-Sponsor'!$A$2:$B$59,2,FALSE) -> Adidas/Boulder Running Co | F6: James Strang | G6: 787.40559 | J6: Oregon TC
A7: =VLOOKUP(B7,'W-Sponsor'!$A$2:$B$62,2,FALSE) -> Reebok/Zap Fitness | B7: Alissa McKaig | C7: 498.29778 | E7: =VLOOKUP(F7,'M-Sponsor'!$A$2:$B$59,2,FALSE) -> WCAP | F7: Joseph Chirlee | G7: 792.85973
A8: =VLOOKUP(B8,'W-Sponsor'!$A$2:$B$62,2,FALSE) -> Adidas/Boulder Running Co | B8: Mattie Suver | C8: 787.40559 | E8: =VLOOKUP(F8,'M-Sponsor'!$A$2:$B$59,2,FALSE) -> Unattached | F8: Richard Medina | G8: 810.26966 | J8: Formulas:
A9: =VLOOKUP(B9,'W-Sponsor'!$A$2:$B$62,2,FALSE) -> Adidas/Boulder Running Co | B9: Brianne Nelson | C9: 807.22635 | E9: =VLOOKUP(F9,'M-Sponsor'!$A$2:$B$59,2,FALSE) -> Boulder TC | F9: Sean Quigley | G9: 810.26966 | I9: Mode(Text) | J9: **INDEX(Range,MATCH(MAX(COUNTIF(Range,Range)),COUNTIF(Range,Range),0))
A10: =VLOOKUP(B10,'W-Sponsor'!$A$2:$B$62,2,FALSE) -> New Balance/NJNY TC | B10: Frances Koons | C10: 824.26519 | E10: =VLOOKUP(F10,'M-Sponsor'!$A$2:$B$59,2,FALSE) -> Saucony | F10: Ben True | G10: 992.90645
A11: =VLOOKUP(B11,'W-Sponsor'!$A$2:$B$62,2,FALSE) -> NJNY TC | B11: Delilah DiCrescenzo | C11: 871.90577 | E11: =VLOOKUP(F11,'M-Sponsor'!$A$2:$B$59,2,FALSE) -> Unattached | F11: Craig Curley | G11: 1244.6404
A12: =VLOOKUP(B12,'W-Sponsor'!$A$2:$B$62,2,FALSE) -> NAZ Elite | B12: Kellyn Johnson | C12: 1205.592 | E12: =VLOOKUP(F12,'M-Sponsor'!$A$2:$B$59,2,FALSE) -> Adidas/Boulder Running Co | F12: Ian Burrell | G12: 1244.6404
A13: =VLOOKUP(B13,'W-Sponsor'!$A$2:$B$62,2,FALSE) -> Asics | B13: Sara Hall | C13: 1205.592 | E13: =VLOOKUP(F13,'M-Sponsor'!$A$2:$B$59,2,FALSE) -> Nike/Oregon TC | F13: Chris Derrick | G13: 1719.2804
A14: =VLOOKUP(B14,'W-Sponsor'!$A$2:$B$62,2,FALSE) -> Asics/Mammoth TC | B14: Deena Kastor | C14: 1558.6729 | E14: =VLOOKUP(F14,'M-Sponsor'!$A$2:$B$59,2,FALSE) -> Nike/Oregon Project | F14: Dathan Ritzenhein | G14: 1719.2804
A15: =VLOOKUP(B15,'W-Sponsor'!$A$2:$B$62,2,FALSE) -> New Balance/SRA | B15: Kim Conley | C15: 1683.3677 | E15: =VLOOKUP(F15,'M-Sponsor'!$A$2:$B$59,2,FALSE) -> Nike/Oregon TC | F15: Elliot Heath | G15: 1719.2804
A16: =VLOOKUP(B16,'W-Sponsor'!$A$2:$B$62,2,FALSE) -> Nike/Oregon TC | B16: Emily Infeld | C16: 1719.2804 | E16: =VLOOKUP(F16,'M-Sponsor'!$A$2:$B$59,2,FALSE) -> Nike/Oregon TC | F16: Matt Tegankamp | G16: 1719.2804
A17: =VLOOKUP(B17,'W-Sponsor'!$A$2:$B$62,2,FALSE) -> Nike/Oregon TC | B17: Shalane Flanagan | C17: 1719.2804 | E17: =VLOOKUP(F17,'M-Sponsor'!$A$2:$B$59,2,FALSE) -> Brooks | F17: Ryan Vail | G17: 1719.2804
A18: Unattached | B18: Chelsea Reilly | C18: 1741.4142 | E18: =VLOOKUP(F18,'M-Sponsor'!$A$2:$B$59,2,FALSE) -> Unattached | F18: Luke Puskedra | G18: 1725.2439
B20: Median | C20: =MEDIAN(C2:C18) -> 824.26519 | F20: Median | G20: =MEDIAN(G2:G18) -> 992.90645
B21: Mean | C21: =AVERAGE(C2:C18) -> 997.17702 | F21: Mean | G21: =AVERAGE(G2:G18) -> 1136.4764
B22: Mode | C22: =MODE(C2:C18) -> 466.63181 | F22: Mode | G22: =MODE(G2:G18) -> 1719.2804
B23: Max | C23: =MAX(C2:C18) -> 1741.4142 | F23: Max | G23: =MAX(G2:G18) -> 1725.2439
B24: Min | C24: =MIN(C2:C18) -> 463.83433 | F24: Min | G24: =MIN(G2:G18) -> 400.12073
B25: N | C25: =COUNT(C2:C18) -> 17 | F25: N | G25: =COUNT(G2:G18) -> 17

Sheet W-AllRaces
A1: Name | B1: XC | C1: 15K | D1: 10M | E1: 1M | F1: 25K | G1: HM | H1: 10K | I1: 20K | J1: 5K | K1: MAR | L1: 12K | M1: Total | N1: placed
A2: Molly Huddle | J2: 1 | L2: 1 | M2: =SUM(B2:L2) -> 2 | N2: 2 | O2: =N2/M2 -> 1
A3: Shalane Flanagan | B3: 1 | L3: 1 | M3: =SUM(B3:L3) -> 2 | N3: 2 | O3: =N3/M3 -> 1
A4: Mattie Suver | B4: 1 | C4: 1 | F4: 1 | G4: 1 | H4: 1 | I4: 1 | L4: 1 | M4: =SUM(B4:L4) -> 7 | N4: 6 | O4: =N4/M4 -> 0.85714286
A5: Janet Bawcom | C5: 1 | D5: 1 | H5: 1 | M5: =SUM(B5:L5) -> 3 | N5: 3 | O5: =N5/M5 -> 1
A6: Brianne Nelson | B6: 1 | C6: 1 | D6: 1 | F6: 1 | G6: 1 | H6: 1 | L6: 1 | M6: =SUM(B6:L6) -> 7 | N6: 5 | O6: =N6/M6 -> 0.71428571 | Q6: Placed/Total
A7: Annie Bersagel | B7: 1 | C7: 1 | D7: 1 | K7: 1 | L7: 1 | M7: =SUM(B7:L7) -> 5 | N7: 3 | O7: =N7/M7 -> 0.6 | Q7: 0.73795863
A8: Laura Thweat | C8: 1 | I8: 1 | J8: 1 | L8: 1 | M8: =SUM(B8:L8) -> 4 | N8: 3 | O8: =N8/M8 -> 0.75
A9: Sara Hall | B9: 1 | E9: 1 | H9: 1 | L9: 1 | M9: =SUM(B9:L9) -> 4 | N9: 4 | O9: =N9/M9 -> 1
A10: Kim Conley | B10: 1 | L10: 1 | M10: =SUM(B10:L10) -> 2 | N10: 2 | O10: =N10/M10 -> 1
A11: Kellyn Johnson | B11: 1 | C11: 1 | D11: 1 | E11: 1 | H11: 1 | J11: 1 | L11: 1 | M11: =SUM(B11:L11) -> 7 | N11: 5 | O11: =N11/M11 -> 0.71428571
A12: Meghan Peyton | B12: 1 | C12: 1 | E12: 1 | H12: 1 | I12: 1 | J12: 1 | K12: 1 | L12: 1 | M12: =SUM(B12:L12) -> 8 | N12: 5 | O12: =N12/M12 -> 0.625
A13: Stephanie Bruce | C13: 1 | G13: 1 | H13: 1 | M13: =SUM(B13:L13) -> 3 | N13: 3 | O13: =N13/M13 -> 1
A14: Laura Portis | K14: 1 | M14: =SUM(B14:L14) -> 1 | N14: 1 | O14: =N14/M14 -> 1
A15: Esther Erb | G15: 1 | H15: 1 | I15: 1 | K15: 1 | L15: 1 | M15: =SUM(B15:L15) -> 5 | N15: 2 | O15: =N15/M15 -> 0.4
A16: Wendy Thomas | D16: 1 | F16: 1 | G16: 1 | H16: 1 | I16: 1 | K16: 1 | L16: 1 | M16: =SUM(B16:L16) -> 7 | N16: 4 | O16: =N16/M16 -> 0.57142857
A17: Adriana Nelson | G17: 1 | H17: 1 | M17: =SUM(B17:L17) -> 2 | N17: 2 | O17: =N17/M17 -> 1
A18: Emily Infeld | B18: 1 | J18: 1 | M18: =SUM(B18:L18) -> 2 | N18: 2 | O18: =N18/M18 -> 1
A19: Delilah DiCrescenzo | B19: 1 | C19: 1 | H19: 1 | I19: 1 | M19: =SUM(B19:L19) -> 4 | N19: 4 | O19: =N19/M19 -> 1
A20: Katie DiCamillo | C20: 1 | D20: 1 | H20: 1 | I20: 1 | M20: =SUM(B20:L20) -> 4 | N20: 3 | O20: =N20/M20 -> 0.75
A21: Michelle Frey | G21: 1 | K21: 1 | M21: =SUM(B21:L21) -> 2 | N21: 2 | O21: =N21/M21 -> 1
A22: Kate Grace | E22: 1 | M22: =SUM(B22:L22) -> 1 | N22: 1 | O22: =N22/M22 -> 1
A23: Dot McMahan | C23: 1 | F23: 1 | M23: =SUM(B23:L23) -> 2 | N23: 1 | O23: =N23/M23 -> 0.5
A24: Maegan Krifchin | G24: 1 | H24: 1 | M24: =SUM(B24:L24) -> 2 | N24: 2 | O24: =N24/M24 -> 1
A25: Alisha Williams | C25: 1 | I25: 1 | M25: =SUM(B25:L25) -> 2 | N25: 1 | O25: =N25/M25 -> 0.5
A26: Desi Davila | G26: 1 | M26: =SUM(B26:L26) -> 1 | N26: 1 | O26: =N26/M26 -> 1
A27: Neely Spence Gracey | B27: 1 | J27: 1 | M27: =SUM(B27:L27) -> 2 | N27: 2 | O27: =N27/M27 -> 1
A28: Atalelech Asfaw | C28: 1 | G28: 1 | K28: 1 | L28: 1 | M28: =SUM(B28:L28) -> 4 | N28: 1 | O28: =N28/M28 -> 0.25
A29: Deena Kastor | B29: 1 | M29: =SUM(B29:L29) -> 1 | N29: 1 | O29: =N29/M29 -> 1
A30: Sarah Crouch | C30: 1 | D30: 1 | G30: 1 | M30: =SUM(B30:L30) -> 3 | N30: 1 | O30: =N30/M30 -> 0.33333333
A31: Heather Kamph | E31: 1 | M31: =SUM(B31:L31) -> 1 | N31: 1 | O31: =N31/M31 -> 1
A32: Tera Moody | F32: 1 | M32: =SUM(B32:L32) -> 1 | N32: 1 | O32: =N32/M32 -> 1
A33: Kelly Brinkman | G33: 1 | I33: 1 | L33: 1 | M33: =SUM(B33:L33) -> 3 | N33: 1 | O33: =N33/M33 -> 0.33333333
A34: Caitlin Comfort | I34: 1 | L34: 1 | M34: =SUM(B34:L34) -> 2 | N34: 1 | O34: =N34/M34 -> 0.5
A35: Alexi Pappas | J35: 1 | M35: =SUM(B35:L35) -> 1 | N35: 1 | O35: =N35/M35 -> 1
A36: Nicole Camp | G36: 1 | K36: 1 | M36: =SUM(B36:L36) -> 2 | N36: 1 | O36: =N36/M36 -> 0.5
A37: Alissa McKaig | B37: 1 | C37: 1 | M37: =SUM(B37:L37) -> 2 | N37: 2 | O37: =N37/M37 -> 1
A38: Sarah Brown | E38: 1 | M38: =SUM(B38:L38) -> 1 | N38: 1 | O38: =N38/M38 -> 1
A39: Melissa White | C39: 1 | F39: 1 | G39: 1 | M39: =SUM(B39:L39) -> 3 | N39: 1 | O39: =N39/M39 -> 0.33333333
A40: Jen Rhines | C40: 1 | D40: 1 | M40: =SUM(B40:L40) -> 2 | N40: 1 | O40: =N40/M40 -> 0.5
A41: Gabriele Grunewald | E41: 1 | M41: =SUM(B41:L41) -> 1 | N41: 1 | O41: =N41/M41 -> 1
A42: Stephanie Pezzullo | D42: 1 | F42: 1 | M42: =SUM(B42:L42) -> 2 | N42: 2 | O42: =N42/M42 -> 1
A43: Sheri Piers | C43: 1 | G43: 1 | K43: 1 | M43: =SUM(B43:L43) -> 3 | N43: 1 | O43: =N43/M43 -> 0.33333333
A44: Katie Matthews | H44: 1 | J44: 1 | L44: 1 | M44: =SUM(B44:L44) -> 3 | N44: 3 | O44: =N44/M44 -> 1
A45: Shannon Rowbury | E45: 1 | M45: =SUM(B45:L45) -> 1 | N45: 1 | O45: =N45/M45 -> 1
A46: Heather Cappello | C46: 1 | D46: 1 | M46: =SUM(B46:L46) -> 2 | N46: 1 | O46: =N46/M46 -> 0.5
A47: Alice Schmidt | E47: 1 | M47: =SUM(B47:L47) -> 1 | N47: 1 | O47: =N47/M47 -> 1
A48: Serena Burla | G48: 1 | H48: 1 | M48: =SUM(B48:L48) -> 2 | N48: 1 | O48: =N48/M48 -> 0.5
A49: Frances Koons | B49: 1 | I49: 1 | J49: 1 | M49: =SUM(B49:L49) -> 3 | N49: 1 | O49: =N49/M49 -> 0.33333333
A50: Amy Van Alstine | H50: 1 | J50: 1 | M50: =SUM(B50:L50) -> 2 | N50: 2 | O50: =N50/M50 -> 1
A51: Ladia Albertson-Junkans | B51: 1 | C51: 1 | D51: 1 | G51: 1 | M51: =SUM(B51:L51) -> 4 | N51: 1 | O51: =N51/M51 -> 0.25
A52: Renee Tomlin | E52: 1 | L52: 1 | M52: =SUM(B52:L52) -> 2 | N52: 1 | O52: =N52/M52 -> 0.5
A53: Katie McGregor | C53: 1 | F53: 1 | G53: 1 | H53: 1 | K53: 1 | M53: =SUM(B53:L53) -> 5 | N53: 1 | O53: =N53/M53 -> 0.2
A54: Kristen Fryburg-Zaitz | G54: 1 | H54: 1 | I54: 1 | M54: =SUM(B54:L54) -> 3 | N54: 1 | O54: =N54/M54 -> 0.33333333
A55: Deborah Maier | J55: 1 | M55: =SUM(B55:L55) -> 1 | N55: 1 | O55: =N55/M55 -> 1
A56: Chelsea Reilly | B56: 1 | C56: 1 | M56: =SUM(B56:L56) -> 2 | N56: 1 | O56: =N56/M56 -> 0.5
A57: Ashley Miller | E57: 1 | J57: 1 | M57: =SUM(B57:L57) -> 2 | N57: 1 | O57: =N57/M57 -> 0.5
A58: Theresa Taggart | F58: 1 | M58: =SUM(B58:L58) -> 1 | N58: 1 | O58: =N58/M58 -> 1
A59: Sarah Cummings | G59: 1 | K59: 1 | M59: =SUM(B59:L59) -> 2 | N59: 1 | O59: =N59/M59 -> 0.5
A60: Jamie Cheever | B60: 1 | M60: =SUM(B60:L60) -> 1 | N60: 1 | O60: =N60/M60 -> 1
A61: Clara Grandt | D61: 1 | H61: 1 | M61: =SUM(B61:L61) -> 2 | N61: 1 | O61: =N61/M61 -> 0.5
A62: Lauren Jimison | C62: 1 | F62: 1 | L62: 1 | M62: =SUM(B62:L62) -> 3 | N62: 1 | O62: =N62/M62 -> 0.33333333

Sheet W-PlacedRaces
A1: Name | B1: XC | C1: 15K | D1: 10M | E1: 1M | F1: 25K | G1: HM | H1: 10K | I1: 20K | J1: 5K | K1: MAR | L1: 12K | M1: Total
A2: Molly Huddle | J2: 1 | L2: 1 | M2: =SUM(B2:L2) -> 2
A3: Shalane Flanagan | B3: 1 | L3: 1 | M3: =SUM(B3:L3) -> 2
A4: Mattie Suver | B4: 1 | C4: 1 | F4: 1 | G4: 1 | H4: 1 | I4: 1 | M4: =SUM(B4:L4) -> 6
A5: Janet Bawcom | C5: 1 | D5: 1 | H5: 1 | M5: =SUM(B5:L5) -> 3
A6: Brianne Nelson | C6: 1 | D6: 1 | F6: 1 | G6: 1 | L6: 1 | M6: =SUM(B6:L6) -> 5
A7: Annie Bersagel | D7: 1 | K7: 1 | L7: 1 | M7: =SUM(B7:L7) -> 3
A8: Laura Thweat | I8: 1 | J8: 1 | L8: 1 | M8: =SUM(B8:L8) -> 3
A9: Sara Hall | B9: 1 | E9: 1 | H9: 1 | L9: 1 | M9: =SUM(B9:L9) -> 4
A10: Kim Conley | B10: 1 | L10: 1 | M10: =SUM(B10:L10) -> 2
A11: Kellyn Johnson | C11: 1 | D11: 1 | E11: 1 | J11: 1 | L11: 1 | M11: =SUM(B11:L11) -> 5
A12: Meghan Peyton | H12: 1 | I12: 1 | J12: 1 | K12: 1 | L12: 1 | M12: =SUM(B12:L12) -> 5
A13: Stephanie Bruce | C13: 1 | G13: 1 | H13: 1 | M13: =SUM(B13:L13) -> 3
A14: Laura Portis | K14: 1 | M14: =SUM(B14:L14) -> 1
A15: Esther Erb | I15: 1 | K15: 1 | M15: =SUM(B15:L15) -> 2
A16: Wendy Thomas | F16: 1 | G16: 1 | I16: 1 | K16: 1 | M16: =SUM(B16:L16) -> 4
A17: Adriana Nelson | G17: 1 | H17: 1 | M17: =SUM(B17:L17) -> 2
A18: Emily Infeld | B18: 1 | J18: 1 | M18: =SUM(B18:L18) -> 2
A19: Delilah DiCrescenzo | B19: 1 | C19: 1 | H19: 1 | I19: 1 | M19: =SUM(B19:L19) -> 4
A20: Katie DiCamillo | C20: 1 | D20: 1 | I20: 1 | M20: =SUM(B20:L20) -> 3
A21: Michelle Frey | G21: 1 | K21: 1 | M21: =SUM(B21:L21) -> 2
A22: Kate Grace | E22: 1 | M22: =SUM(B22:L22) -> 1
A23: Dot McMahan | F23: 1 | M23: =SUM(B23:L23) -> 1
A24: Maegan Krifchin | G24: 1 | H24: 1 | M24: =SUM(B24:L24) -> 2
A25: Alisha Williams | C25: 1 | M25: =SUM(B25:L25) -> 1
A26: Desi Davila | G26: 1 | M26: =SUM(B26:L26) -> 1
A27: Neely Spence Gracey | B27: 1 | J27: 1 | M27: =SUM(B27:L27) -> 2
A28: Atalelech Asfaw | K28: 1 | M28: =SUM(B28:L28) -> 1
A29: Deena Kastor | B29: 1 | M29: =SUM(B29:L29) -> 1
A30: Sarah Crouch | D30: 1 | M30: =SUM(B30:L30) -> 1
A31: Heather Kamph | E31: 1 | M31: =SUM(B31:L31) -> 1
A32: Tera Moody | F32: 1 | M32: =SUM(B32:L32) -> 1
A33: Kelly Brinkman | G33: 1 | M33: =SUM(B33:L33) -> 1
A34: Caitlin Comfort | I34: 1 | M34: =SUM(B34:L34) -> 1
A35: Alexi Pappas | J35: 1 | M35: =SUM(B35:L35) -> 1
A36: Nicole Camp | K36: 1 | M36: =SUM(B36:L36) -> 1
A37: Alissa McKaig | B37: 1 | C37: 1 | M37: =SUM(B37:L37) -> 2
A38: Sarah Brown | E38: 1 | M38: =SUM(B38:L38) -> 1
A39: Melissa White | F39: 1 | M39: =SUM(B39:L39) -> 1
A40: Jen Rhines | D40: 1 | M40: =SUM(B40:L40) -> 1
A41: Gabriele Grunewald | E41: 1 | M41: =SUM(B41:L41) -> 1
A42: Stephanie Pezzullo | D42: 1 | F42: 1 | M42: =SUM(B42:L42) -> 2
A43: Sheri Piers | K43: 1 | M43: =SUM(B43:L43) -> 1
A44: Katie Matthews | H44: 1 | J44: 1 | L44: 1 | M44: =SUM(B44:L44) -> 3
A45: Shannon Rowbury | E45: 1 | M45: =SUM(B45:L45) -> 1
A46: Heather Cappello | D46: 1 | M46: =SUM(B46:L46) -> 1
A47: Alice Schmidt | E47: 1 | M47: =SUM(B47:L47) -> 1
A48: Serena Burla | G48: 1 | M48: =SUM(B48:L48) -> 1
A49: Frances Koons | I49: 1 | M49: =SUM(B49:L49) -> 1
A50: Amy Van Alstine | H50: 1 | J50: 1 | M50: =SUM(B50:L50) -> 2
A51: Ladia Abertson-Junkans | D51: 1 | M51: =SUM(B51:L51) -> 1
A52: Renee Tomlin | E52: 1 | M52: =SUM(B52:L52) -> 1
A53: Katie McGregor | F53: 1 | M53: =SUM(B53:L53) -> 1
A54: Kristen Fryburg-Zaitz | I54: 1 | M54: =SUM(B54:L54) -> 1
A55: Deborah Maier | J55: 1 | M55: =SUM(B55:L55) -> 1
A56: Chelsea Reilly | C56: 1 | M56: =SUM(B56:L56) -> 1
A57: Ashley Miller | E57: 1 | M57: =SUM(B57:L57) -> 1
A58: Theresa Taggart | F58: 1 | M58: =SUM(B58:L58) -> 1
A59: Sarah Cummings | K59: 1 | M59: =SUM(B59:L59) -> 1
A60: Jamie Cheever | B60: 1 | M60: =SUM(B60:L60) -> 1
A61: Clara Grandt | D61: 1 | M61: =SUM(B61:L61) -> 1
A62: Lauren Jimison | F62: 1 | M62: =SUM(B62:L62) -> 1

Sheet M-AllRaces
A1: Name | B1: XC | C1: 15K | D1: 1M | E1: 25K | F1: HM | G1: 10K | H1: 20K | I1: 5K | J1: MAR (2x) | K1: 12K (3x) | L1: Total | M1: Placed
A2: Shadrack Biwott | C2: 1 | F2: 1 | G2: 1 | H2: 1 | J2: 1 | K2: 1 | L2: =SUM(B2:K2) -> 6 | M2: 5 | N2: =M2/L2 -> 0.83333333
A3: Matt Tegankamp | B3: 1 | E3: 1 | G3: 1 | H3: 1 | I3: 1 | K3: 1 | L3: =SUM(B3:K3) -> 6 | M3: 6 | N3: =M3/L3 -> 1
A4: Aaron Braun | I4: 1 | K4: 1 | L4: =SUM(B4:K4) -> 2 | M4: 2 | N4: =M4/L4 -> 1
A5: Josphat Boit | C5: 1 | E5: 1 | F5: 1 | G5: 1 | H5: 1 | J5: 1 | K5: 1 | L5: =SUM(B5:K5) -> 7 | M5: 6 | N5: =M5/L5 -> 0.85714286
A6: Tim Ritchie | C6: 1 | F6: 1 | H6: 1 | I6: 1 | J6: 1 | K6: 1 | L6: =SUM(B6:K6) -> 6 | M6: 6 | N6: =M6/L6 -> 1 | P6: 0.78374384
A7: Christo Landry | C7: 1 | E7: 1 | J7: 1 | K7: 1 | L7: =SUM(B7:K7) -> 4 | M7: 4 | N7: =M7/L7 -> 1
A8: Tyler Pennel | C8: 1 | G8: 1 | K8: 1 | L8: =SUM(B8:K8) -> 3 | M8: 3 | N8: =M8/L8 -> 1
A9: Mo Trafeh | C9: 1 | E9: 1 | F9: 1 | L9: =SUM(B9:K9) -> 3 | M9: 3 | N9: =M9/L9 -> 1
A10: Nick Arciniaga | F10: 1 | J10: 1 | K10: 1 | L10: =SUM(B10:K10) -> 3 | M10: 1 | N10: =M10/L10 -> 0.33333333
A11: Abdi Abdirahman | F11: 1 | G11: 1 | H11: 1 | K11: 1 | L11: =SUM(B11:K11) -> 4 | M11: 3 | N11: =M11/L11 -> 0.75
A12: Ben True | B12: 1 | C12: 1 | L12: =SUM(B12:K12) -> 2 | M12: 2 | N12: =M12/L12 -> 1
A13: Bobby Curtis | C13: 1 | G13: 1 | L13: =SUM(B13:K13) -> 2 | M13: 2 | N13: =M13/L13 -> 1
A14: Meb Keflezighi | F14: 1 | G14: 1 | L14: =SUM(B14:K14) -> 2 | M14: 2 | N14: =M14/L14 -> 1
A15: Elliot Krause | B15: 1 | H15: 1 | K15: 1 | L15: =SUM(B15:K15) -> 3 | M15: 1 | N15: =M15/L15 -> 0.33333333
A16: Craig Curley | B16: 1 | C16: 1 | E16: 1 | J16: 1 | K16: 1 | L16: =SUM(B16:K16) -> 5 | M16: 3 | N16: =M16/L16 -> 0.6
A17: Matt Llano | C17: 1 | H17: 1 | K17: 1 | L17: =SUM(B17:K17) -> 3 | M17: 2 | N17: =M17/L17 -> 0.66666667
A18: Chris Derrick | B18: 1 | L18: =SUM(B18:K18) -> 1 | M18: 1 | N18: =M18/L18 -> 1
A19: Ryan Vail | B19: 1 | C19: 1 | L19: =SUM(B19:K19) -> 2 | M19: 2 | N19: =M19/L19 -> 1
A20: Garrett Heath | D20: 1 | L20: =SUM(B20:K20) -> 1 | M20: 1 | N20: =M20/L20 -> 1
A21: Andrew Bumbalough | I21: 1 | L21: =SUM(B21:K21) -> 1 | M21: 1 | N21: =M21/L21 -> 1
A22: Sergio Reyes | C22: 1 | F22: 1 | J22: 1 | L22: =SUM(B22:K22) -> 3 | M22: 1 | N22: =M22/L22 -> 0.33333333
A23: Dathan Ritzenhein | B23: 1 | L23: =SUM(B23:K23) -> 1 | M23: 1 | N23: =M23/L23 -> 1
A24: Jeff See | D24: 1 | L24: =SUM(B24:K24) -> 1 | M24: 1 | N24: =M24/L24 -> 1
A25: Leo Manzano | D25: 1 | L25: =SUM(B25:K25) -> 1 | M25: 1 | N25: =M25/L25 -> 1
A26: Joe Moore | E26: 1 | F26: 1 | I26: 1 | K26: 1 | L26: =SUM(B26:K26) -> 4 | M26: 3 | N26: =M26/L26 -> 0.75
A27: Bobby Mack | B27: 1 | F27: 1 | G27: 1 | L27: =SUM(B27:K27) -> 3 | M27: 2 | N27: =M27/L27 -> 0.66666667
A28: Luke Puskedra | B28: 1 | G28: 1 | L28: =SUM(B28:K28) -> 2 | M28: 2 | N28: =M28/L28 -> 1
A29: Sean Quigley | B29: 1 | C29: 1 | H29: 1 | L29: =SUM(B29:K29) -> 3 | M29: 2 | N29: =M29/L29 -> 0.66666667
A30: Jake Schmitt | J30: 1 | L30: =SUM(B30:K30) -> 1 | M30: 1 | N30: =M30/L30 -> 1
A31: Elliot Heath | B31: 1 | L31: =SUM(B31:K31) -> 1 | M31: 1 | N31: =M31/L31 -> 1
A32: Craig Miller | D32: 1 | L32: =SUM(B32:K32) -> 1 | M32: 1 | N32: =M32/L32 -> 1
A33: Travis Mahoney | D33: 1 | L33: =SUM(B33:K33) -> 1 | M33: 1 | N33: =M33/L33 -> 1
A34: Joseph Chirlee | B34: 1 | L34: =SUM(B34:K34) -> 1 | M34: 1 | N34: =M34/L34 -> 1
A35: Joe Stilin | I35: 1 | K35: 1 | L35: =SUM(B35:K35) -> 2 | M35: 1 | N35: =M35/L35 -> 0.5
A36: Miles Batty | D36: 1 | L36: =SUM(B36:K36) -> 1 | M36: 1 | N36: =M36/L36 -> 1
A37: Andrew Carlson | E37: 1 | F37: 1 | L37: =SUM(B37:K37) -> 2 | M37: 1 | N37: =M37/L37 -> 0.5
A38: Jason Hartmann | H38: 1 | L38: =SUM(B38:K38) -> 1 | M38: 1 | N38: =M38/L38 -> 1
A39: Chris Solinsky | I39: 1 | K39: 1 | L39: =SUM(B39:K39) -> 2 | M39: 1 | N39: =M39/L39 -> 0.5
A40: Liam Boylan-Pett | D40: 1 | L40: =SUM(B40:K40) -> 1 | M40: 1 | N40: =M40/L40 -> 1
A41: Chris Barnicle | F41: 1 | G41: 1 | L41: =SUM(B41:K41) -> 2 | M41: 2 | N41: =M41/L41 -> 1
A42: John Gilberston | I42: 1 | K42: 1 | L42: =SUM(B42:K42) -> 2 | M42: 1 | N42: =M42/L42 -> 0.5
A43: Malcolm Richards | F43: 1 | J43: 1 | L43: =SUM(B43:K43) -> 2 | M43: 1 | N43: =M43/L43 -> 0.5
A44: AJ Acosta | D44: 1 | L44: =SUM(B44:K44) -> 1 | M44: 1 | N44: =M44/L44 -> 1
A45: Michael Reneau | E45: 1 | G45: 1 | K45: 1 | L45: =SUM(B45:K45) -> 3 | M45: 1 | N45: =M45/L45 -> 0.33333333
A46: Ian Burrell | B46: 1 | F46: 1 | L46: =SUM(B46:K46) -> 2 | M46: 1 | N46: =M46/L46 -> 0.5
A47: Pat Fullerton | I47: 1 | K47: 1 | L47: =SUM(B47:K47) -> 2 | M47: 1 | N47: =M47/L47 -> 0.5
A48: James Strang | B48: 1 | L48: =SUM(B48:K48) -> 1 | M48: 1 | N48: =M48/L48 -> 1
A49: Tony Filipek | D49: 1 | K49: 1 | L49: =SUM(B49:K49) -> 2 | M49: 1 | N49: =M49/L49 -> 0.5
A50: Zachary Hine | E50: 1 | F50: 1 | L50: =SUM(B50:K50) -> 2 | M50: 1 | N50: =M50/L50 -> 0.5
A51: Scott Wietecha | F51: 1 | L51: =SUM(B51:K51) -> 1 | M51: 1 | N51: =M51/L51 -> 1
A52: Jake Riley | B52: 1 | G52: 1 | K52: 1 | L52: =SUM(B52:K52) -> 3 | M52: 1 | N52: =M52/L52 -> 0.33333333
A53: Augustus Maiyo | B53: 1 | C53: 1 | H53: 1 | L53: =SUM(B53:K53) -> 3 | M53: 1 | N53: =M53/L53 -> 0.33333333
A54: Scott MacPherson | C54: 1 | E54: 1 | J54: 1 | L54: =SUM(B54:K54) -> 3 | M54: 1 | N54: =M54/L54 -> 0.33333333
A55: Richard Medina | B55: 1 | K55: 1 | L55: =SUM(B55:K55) -> 2 | M55: 1 | N55: =M55/L55 -> 0.5
A56: Donn Cabral | C56: 1 | L56: =SUM(B56:K56) -> 1 | M56: 1 | N56: =M56/L56 -> 1
A57: Brian Gagnon | D57: 1 | L57: =SUM(B57:K57) -> 1 | M57: 1 | N57: =M57/L57 -> 1
A58: Ben Sathre | C58: 1 | E58: 1 | K58: 1 | L58: =SUM(B58:K58) -> 3 | M58: 1 | N58: =M58/L58 -> 0.33333333
A59: Jared Bassett | I59: 1 | L59: =SUM(B59:K59) -> 1 | M59: 1 | N59: =M59/L59 -> 1

Sheet M-PlacedRaces
A1: Name | B1: XC | C1: 15K | D1: 1M | E1: 25K | F1: HM | G1: 10K | H1: 20K | I1: 5K | J1: MAR (2x) | K1: 12K (3x) | L1: Total
A2: Shadrack Biwott | F2: 1 | G2: 1 | H2: 1 | J2: 1 | K2: 1 | L2: =SUM(B2:K2) -> 5
A3: Matt Tegankamp | B3: 1 | E3: 1 | G3: 1 | H3: 1 | I3: 1 | K3: 1 | L3: =SUM(B3:K3) -> 6
A4: Aaron Braun | I4: 1 | K4: 1 | L4: =SUM(B4:K4) -> 2
A5: Josphat Boit | E5: 1 | F5: 1 | G5: 1 | H5: 1 | J5: 1 | K5: 1 | L5: =SUM(B5:K5) -> 6
A6: Tim Ritchie | C6: 1 | F6: 1 | H6: 1 | I6: 1 | J6: 1 | K6: 1 | L6: =SUM(B6:K6) -> 6
A7: Christo Landry | C7: 1 | E7: 1 | J7: 1 | K7: 1 | L7: =SUM(B7:K7) -> 4
A8: Tyler Pennel | C8: 1 | G8: 1 | K8: 1 | L8: =SUM(B8:K8) -> 3
A9: Mo Trafeh | C9: 1 | E9: 1 | F9: 1 | L9: =SUM(B9:K9) -> 3
A10: Nick Arciniaga | J10: 1 | L10: =SUM(B10:K10) -> 1
A11: Abdi Abdirahman | F11: 1 | G11: 1 | H11: 1 | L11: =SUM(B11:K11) -> 3
A12: Ben True | B12: 1 | C12: 1 | L12: =SUM(B12:K12) -> 2
A13: Bobby Curtis | C13: 1 | G13: 1 | L13: =SUM(B13:K13) -> 2
A14: Meb Keflezighi | F14: 1 | G14: 1 | L14: =SUM(B14:K14) -> 2
A15: Elliot Krause | K15: 1 | L15: =SUM(B15:K15) -> 1
A16: Craig Curley | C16: 1 | E16: 1 | J16: 1 | L16: =SUM(B16:K16) -> 3
A17: Matt Llano | H17: 1 | K17: 1 | L17: =SUM(B17:K17) -> 2
A18: Chris Derrick | B18: 1 | L18: =SUM(B18:K18) -> 1
A19: Ryan Vail | B19: 1 | C19: 1 | L19: =SUM(B19:K19) -> 2
A20: Garrett Heath | D20: 1 | L20: =SUM(B20:K20) -> 1
A21: Andrew Bumbalough | I21: 1 | L21: =SUM(B21:K21) -> 1
A22: Sergio Reyes | J22: 1 | L22: =SUM(B22:K22) -> 1
A23: Dathan Ritzenhein | B23: 1 | L23: =SUM(B23:K23) -> 1
A24: Jeff See | D24: 1 | L24: =SUM(B24:K24) -> 1
A25: Leo Manzano | D25: 1 | L25: =SUM(B25:K25) -> 1
A26: Joe Moore | E26: 1 | I26: 1 | K26: 1 | L26: =SUM(B26:K26) -> 3
A27: Bobby Mack | B27: 1 | F27: 1 | L27: =SUM(B27:K27) -> 2
A28: Luke Puskedra | B28: 1 | G28: 1 | L28: =SUM(B28:K28) -> 2
A29: Sean Quigley | C29: 1 | H29: 1 | L29: =SUM(B29:K29) -> 2
A30: Jake Schmitt | J30: 1 | L30: =SUM(B30:K30) -> 1
A31: Elliot Heath | B31: 1 | L31: =SUM(B31:K31) -> 1
A32: Craig Miller | D32: 1 | L32: =SUM(B32:K32) -> 1
A33: Travis Mahoney | D33: 1 | L33: =SUM(B33:K33) -> 1
A34: Joseph Chirlee | H34: 1 | L34: =SUM(B34:K34) -> 1
A35: Joe Stilin | I35: 1 | L35: =SUM(B35:K35) -> 1
A36: Miles Batty | D36: 1 | L36: =SUM(B36:K36) -> 1
A37: Andrew Carlson | E37: 1 | L37: =SUM(B37:K37) -> 1
A38: Jason Hartmann | H38: 1 | L38: =SUM(B38:K38) -> 1
A39: Chris Solinsky | I39: 1 | L39: =SUM(B39:K39) -> 1
A40: Liam Boylan-Pett | D40: 1 | L40: =SUM(B40:K40) -> 1
A41: Chris Barnicle | F41: 1 | G41: 1 | L41: =SUM(B41:K41) -> 2
A42: John Gilberston | I42: 1 | L42: =SUM(B42:K42) -> 1
A43: Malcolm Richards | J43: 1 | L43: =SUM(B43:K43) -> 1
A44: AJ Acosta | D44: 1 | L44: =SUM(B44:K44) -> 1
A45: Michael Reneau | E45: 1 | L45: =SUM(B45:K45) -> 1
A46: Ian Burrell | F46: 1 | L46: =SUM(B46:K46) -> 1
A47: Pat Fullerton | I47: 1 | L47: =SUM(B47:K47) -> 1
A48: James Strang | B48: 1 | L48: =SUM(B48:K48) -> 1
A49: Tony Filipek | D49: 1 | L49: =SUM(B49:K49) -> 1
A50: Zachary Hine | E50: 1 | L50: =SUM(B50:K50) -> 1
A51: Scott Wietecha | F51: 1 | L51: =SUM(B51:K51) -> 1
A52: Jake Riley | G52: 1 | L52: =SUM(B52:K52) -> 1
A53: Augustus Maiyo | H53: 1 | L53: =SUM(B53:K53) -> 1
A54: Scott MacPherson | J54: 1 | L54: =SUM(B54:K54) -> 1
A55: Richard Medina | B55: 1 | L55: =SUM(B55:K55) -> 1
A56: Donn Cabral | C56: 1 | L56: =SUM(B56:K56) -> 1
A57: Brian Gagnon | D57: 1 | L57: =SUM(B57:K57) -> 1
A58: Ben Sathre | E58: 1 | L58: =SUM(B58:K58) -> 1
A59: Jared Bassett | I59: 1 | L59: =SUM(B59:K59) -> 1

Sheet W-GeoTable
A1: Athlete | B1: City | C1: State | D1: Latitute | E1: Longitude
A2: Molly Huddle | B2: Providence | C2: RI | D2: 41.823989 | E2: -71.412834
A3: Shalane Flanagan | B3: Portland | C3: OR | D3: 45.523452 | E3: -122.67621
A4: Mattie Suver | B4: Colorado Springs | C4: CO | D4: 38.833882 | E4: -104.82136
A5: Janet Bawcom | B5: Rome | C5: GA | D5: 34.257038 | E5: -85.164673
A6: Brianne Nelson | B6: Golden | C6: CO | D6: 39.755543 | E6: -105.2211
A7: Annie Bersagel | B7: Victoria | C7: MN | D7: 44.858723 | E7: -93.661534
A8: Laura Thweat | B8: Boulder | C8: CO | D8: 40.014986 | E8: -105.27055
A9: Sara Hall | B9: Flagstaff | C9: AZ | D9: 35.198284 | E9: -111.6513
A10: Kim Conley | B10: West Sacramento | C10: CA | D10: 38.580461 | E10: -121.53023
A11: Kellyn Johnson | B11: Flagstaff | C11: AZ | D11: 35.198284 | E11: -111.6513
A12: Meghan Peyton | B12: Minneapolis | C12: MN | D12: 44.983334 | E12: -93.26667
A13: Stephanie Bruce | B13: Flagstaff | C13: AZ | D13: 35.198284 | E13: -111.6513
... A62: Lauren Jimison | B62: El Dorado Hills | C62: CA | D62: 38.685737 | E62: -121.08217
A65: **http://mynasadata.larc.nasa.gov/latitudelongitude-finder/

Sheet W-RaceMatrix
D1: 38.627003 | E1: 30.332184 | F1: 38.907231 | G1: 41.600545 | H1: 42.96336 | I1: 46.786672 | J1: 33.748995 | K1: 41.308274 | L1: 41.823989 | M1: 44.983334 | N1: 38.804836
D2: -90.199404 | E2: -81.655651 | F2: -77.036464 | G2: -93.609106 | H2: -85.668086 | I2: -92.100485 | J2: -84.387982 | K2: -72.927884 | L2: -71.412834 | M2: -93.26667 | N2: -77.046921
D3: XC | E3: 15K | F3: 10M | G3: 1M | H3: 25K | I3: Half-Marathon | J3: 10K | K3: 20K | L3: 5K | M3: Marathon | N3: 12K
A4: 41.823989 | B4: -71.412834 | C4: Molly Huddle | D4: =ACOS(COS(RADIANS(90-$A4)) *COS(RADIANS(90-D$1)) +SIN(RADIANS(90-$A4)) *SIN(RADIANS(90-D$1)) *COS(RADIANS($B4-D$2))) *3958.756 -> 1013.1596 | E4: =ACOS(COS(RADIANS(90-$A4)) *COS(RADIANS(90-E$1)) +SIN(RADIANS(90-$A4)) *SIN(RADIANS(90-E$1)) *COS(RADIANS($B4-E$2))) *3958.756 -> 976.96323 | F4: =ACOS(COS(RADIANS(90-$A4)) *COS(RADIANS(90-F$1)) +SIN(RADIANS(90-$A4)) *SIN(RADIANS(90-F$1)) *COS(RADIANS($B4-F$2))) *3958.756 -> 358.00887 | G4: =ACOS(COS(RADIANS(90-$A4)) *COS(RADIANS(90-G$1)) +SIN(RADIANS(90-$A4)) *SIN(RADIANS(90-G$1)) *COS(RADIANS($B4-G$2))) *3958.756 -> 1141.7449 | H4: =ACOS(COS(RADIANS(90-$A4)) *COS(RADIANS(90-H$1)) +SIN(RADIANS(90-$A4)) *SIN(RADIANS(90-H$1)) *COS(RADIANS($B4-H$2))) *3958.756 -> 730.76479 | I4: =ACOS(COS(RADIANS(90-$A4)) *COS(RADIANS(90-I$1)) +SIN(RADIANS(90-$A4)) *SIN(RADIANS(90-I$1)) *COS(RADIANS($B4-I$2))) *3958.756 -> 1075.0857 | J4: =ACOS(COS(RADIANS(90-$A4)) *COS(RADIANS(90-J$1)) +SIN(RADIANS(90-$A4)) *SIN(RADIANS(90-J$1)) *COS(RADIANS($B4-J$2))) *3958.756 -> 900.06481 | K4: =ACOS(COS(RADIANS(90-$A4)) *COS(RADIANS(90-K$1)) +SIN(RADIANS(90-$A4)) *SIN(RADIANS(90-K$1)) *COS(RADIANS($B4-K$2))) *3958.756 -> 86.043419 | ... N4: =ACOS(COS(RADIANS(90-$A4)) *COS(RADIANS(90-N$1)) +SIN(RADIANS(90-$A4)) *SIN(RADIANS(90-N$1)) *COS(RADIANS($B4-N$2))) *3958.756 -> 362.66674
A5: 45.523452 | B5: -122.67621 | C5: Shalane Flanagan | D5: =ACOS(COS(RADIANS(90-$A5)) *COS(RADIANS(90-D$1)) +SIN(RADIANS(90-$A5)) *SIN(RADIANS(90-D$1)) *COS(RADIANS($B5-D$2))) *3958.756 -> 1719.2804 | E5: =ACOS(COS(RADIANS(90-$A5)) *COS(RADIANS(90-E$1)) +SIN(RADIANS(90-$A5)) *SIN(RADIANS(90-E$1)) *COS(RADIANS($B5-E$2))) *3958.756 -> 2435.933 | F5: =ACOS(COS(RADIANS(90-$A5)) *COS(RADIANS(90-F$1)) +SIN(RADIANS(90-$A5)) *SIN(RADIANS(90-F$1)) *COS(RADIANS($B5-F$2))) *3958.756 -> 2347.1174 | G5: =ACOS(COS(RADIANS(90-$A5)) *COS(RADIANS(90-G$1)) +SIN(RADIANS(90-$A5)) *SIN(RADIANS(90-G$1)) *COS(RADIANS($B5-G$2))) *3958.756 -> 1471.9137 | H5: =ACOS(COS(RADIANS(90-$A5)) *COS(RADIANS(90-H$1)) +SIN(RADIANS(90-$A5)) *SIN(RADIANS(90-H$1)) *COS(RADIANS($B5-H$2))) *3958.756 -> 1824.0109 | I5: =ACOS(COS(RADIANS(90-$A5)) *COS(RADIANS(90-I$1)) +SIN(RADIANS(90-$A5)) *SIN(RADIANS(90-I$1)) *COS(RADIANS($B5-I$2))) *3958.756 -> 1456.7533 | J5: =ACOS(COS(RADIANS(90-$A5)) *COS(RADIANS(90-J$1)) +SIN(RADIANS(90-$A5)) *SIN(RADIANS(90-J$1)) *COS(RADIANS($B5-J$2))) *3958.756 -> 2168.7432 | K5: =ACOS(COS(RADIANS(90-$A5)) *COS(RADIANS(90-K$1)) +SIN(RADIANS(90-$A5)) *SIN(RADIANS(90-K$1)) *COS(RADIANS($B5-K$2))) *3958.756 -> 2473.5109 | ... N5: =ACOS(COS(RADIANS(90-$A5)) *COS(RADIANS(90-N$1)) +SIN(RADIANS(90-$A5)) *SIN(RADIANS(90-N$1)) *COS(RADIANS($B5-N$2))) *3958.756 -> 2349.7557
A6: 38.833882 | B6: -104.82136 | C6: Mattie Suver | D6: =ACOS(COS(RADIANS(90-$A6)) *COS(RADIANS(90-D$1)) +SIN(RADIANS(90-$A6)) *SIN(RADIANS(90-D$1)) *COS(RADIANS($B6-D$2))) *3958.756 -> 787.40559 | E6: =ACOS(COS(RADIANS(90-$A6)) *COS(RADIANS(90-E$1)) +SIN(RADIANS(90-$A6)) *SIN(RADIANS(90-E$1)) *COS(RADIANS($B6-E$2))) *3958.756 -> 1437.409 | F6: =ACOS(COS(RADIANS(90-$A6)) *COS(RADIANS(90-F$1)) +SIN(RADIANS(90-$A6)) *SIN(RADIANS(90-F$1)) *COS(RADIANS($B6-F$2))) *3958.756 -> 1488.8167 | G6: =ACOS(COS(RADIANS(90-$A6)) *COS(RADIANS(90-G$1)) +SIN(RADIANS(90-$A6)) *SIN(RADIANS(90-G$1)) *COS(RADIANS($B6-G$2))) *3958.756 -> 621.12818 | H6: =ACOS(COS(RADIANS(90-$A6)) *COS(RADIANS(90-H$1)) +SIN(RADIANS(90-$A6)) *SIN(RADIANS(90-H$1)) *COS(RADIANS($B6-H$2))) *3958.756 -> 1037.5766 | I6: =ACOS(COS(RADIANS(90-$A6)) *COS(RADIANS(90-I$1)) +SIN(RADIANS(90-$A6)) *SIN(RADIANS(90-I$1)) *COS(RADIANS($B6-I$2))) *3958.756 -> 845.28517 | J6: =ACOS(COS(RADIANS(90-$A6)) *COS(RADIANS(90-J$1)) +SIN(RADIANS(90-$A6)) *SIN(RADIANS(90-J$1)) *COS(RADIANS($B6-J$2))) *3958.756 -> 1187.9724 | K6: =ACOS(COS(RADIANS(90-$A6)) *COS(RADIANS(90-K$1)) +SIN(RADIANS(90-$A6)) *SIN(RADIANS(90-K$1)) *COS(RADIANS($B6-K$2))) *3958.756 -> 1685.4262 | ... N6: =ACOS(COS(RADIANS(90-$A6)) *COS(RADIANS(90-N$1)) +SIN(RADIANS(90-$A6)) *SIN(RADIANS(90-N$1)) *COS(RADIANS($B6-N$2))) *3958.756 -> 1489.3379
A7: 34.257038 | B7: -85.164673 | C7: Janet Bawcom | D7: =ACOS(COS(RADIANS(90-$A7)) *COS(RADIANS(90-D$1)) +SIN(RADIANS(90-$A7)) *SIN(RADIANS(90-D$1)) *COS(RADIANS($B7-D$2))) *3958.756 -> 411.53342 | E7: =ACOS(COS(RADIANS(90-$A7)) *COS(RADIANS(90-E$1)) +SIN(RADIANS(90-$A7)) *SIN(RADIANS(90-E$1)) *COS(RADIANS($B7-E$2))) *3958.756 -> 339.85617 | F7: =ACOS(COS(RADIANS(90-$A7)) *COS(RADIANS(90-F$1)) +SIN(RADIANS(90-$A7)) *SIN(RADIANS(90-F$1)) *COS(RADIANS($B7-F$2))) *3958.756 -> 553.34344 | G7: =ACOS(COS(RADIANS(90-$A7)) *COS(RADIANS(90-G$1)) +SIN(RADIANS(90-$A7)) *SIN(RADIANS(90-G$1)) *COS(RADIANS($B7-G$2))) *3958.756 -> 684.30609 | H7: =ACOS(COS(RADIANS(90-$A7)) *COS(RADIANS(90-H$1)) +SIN(RADIANS(90-$A7)) *SIN(RADIANS(90-H$1)) *COS(RADIANS($B7-H$2))) *3958.756 -> 602.159 | I7: =ACOS(COS(RADIANS(90-$A7)) *COS(RADIANS(90-I$1)) +SIN(RADIANS(90-$A7)) *SIN(RADIANS(90-I$1)) *COS(RADIANS($B7-I$2))) *3958.756 -> 938.29666 | J7: =ACOS(COS(RADIANS(90-$A7)) *COS(RADIANS(90-J$1)) +SIN(RADIANS(90-$A7)) *SIN(RADIANS(90-J$1)) *COS(RADIANS($B7-J$2))) *3958.756 -> 56.668525 | K7: =ACOS(COS(RADIANS(90-$A7)) *COS(RADIANS(90-K$1)) +SIN(RADIANS(90-$A7)) *SIN(RADIANS(90-K$1)) *COS(RADIANS($B7-K$2))) *3958.756 -> 825.6222 | ... N7: =ACOS(COS(RADIANS(90-$A7)) *COS(RADIANS(90-N$1)) +SIN(RADIANS(90-$A7)) *SIN(RADIANS(90-N$1)) *COS(RADIANS($B7-N$2))) *3958.756 -> 549.04781
A8: 39.755543 | B8: -105.2211 | C8: Brianne Nelson | D8: =ACOS(COS(RADIANS(90-$A8)) *COS(RADIANS(90-D$1)) +SIN(RADIANS(90-$A8)) *SIN(RADIANS(90-D$1)) *COS(RADIANS($B8-D$2))) *3958.756 -> 807.22635 | E8: =ACOS(COS(RADIANS(90-$A8)) *COS(RADIANS(90-E$1)) +SIN(RADIANS(90-$A8)) *SIN(RADIANS(90-E$1)) *COS(RADIANS($B8-E$2))) *3958.756 -> 1477.3727 | F8: =ACOS(COS(RADIANS(90-$A8)) *COS(RADIANS(90-F$1)) +SIN(RADIANS(90-$A8)) *SIN(RADIANS(90-F$1)) *COS(RADIANS($B8-F$2))) *3958.756 -> 1501.1981 | G8: =ACOS(COS(RADIANS(90-$A8)) *COS(RADIANS(90-G$1)) +SIN(RADIANS(90-$A8)) *SIN(RADIANS(90-G$1)) *COS(RADIANS($B8-G$2))) *3958.756 -> 621.15379 | H8: =ACOS(COS(RADIANS(90-$A8)) *COS(RADIANS(90-H$1)) +SIN(RADIANS(90-$A8)) *SIN(RADIANS(90-H$1)) *COS(RADIANS($B8-H$2))) *3958.756 -> 1035.4163 | I8: =ACOS(COS(RADIANS(90-$A8)) *COS(RADIANS(90-I$1)) +SIN(RADIANS(90-$A8)) *SIN(RADIANS(90-I$1)) *COS(RADIANS($B8-I$2))) *3958.756 -> 817.80468 | J8: =ACOS(COS(RADIANS(90-$A8)) *COS(RADIANS(90-J$1)) +SIN(RADIANS(90-$A8)) *SIN(RADIANS(90-J$1)) *COS(RADIANS($B8-J$2))) *3958.756 -> 1222.2209 | K8: =ACOS(COS(RADIANS(90-$A8)) *COS(RADIANS(90-K$1)) +SIN(RADIANS(90-$A8)) *SIN(RADIANS(90-K$1)) *COS(RADIANS($B8-K$2))) *3958.756 -> 1689.4486 | ... N8: =ACOS(COS(RADIANS(90-$A8)) *COS(RADIANS(90-N$1)) +SIN(RADIANS(90-$A8)) *SIN(RADIANS(90-N$1)) *COS(RADIANS($B8-N$2))) *3958.756 -> 1502.0386
A9: 44.858723 | B9: -93.661534 | C9: Annie Bersagel | D9: =ACOS(COS(RADIANS(90-$A9)) *COS(RADIANS(90-D$1)) +SIN(RADIANS(90-$A9)) *SIN(RADIANS(90-D$1)) *COS(RADIANS($B9-D$2))) *3958.756 -> 465.97918 | E9: =ACOS(COS(RADIANS(90-$A9)) *COS(RADIANS(90-E$1)) +SIN(RADIANS(90-$A9)) *SIN(RADIANS(90-E$1)) *COS(RADIANS($B9-E$2))) *3958.756 -> 1196.8038 | F9: =ACOS(COS(RADIANS(90-$A9)) *COS(RADIANS(90-F$1)) +SIN(RADIANS(90-$A9)) *SIN(RADIANS(90-F$1)) *COS(RADIANS($B9-F$2))) *3958.756 -> 946.53441 | G9: =ACOS(COS(RADIANS(90-$A9)) *COS(RADIANS(90-G$1)) +SIN(RADIANS(90-$A9)) *SIN(RADIANS(90-G$1)) *COS(RADIANS($B9-G$2))) *3958.756 -> 225.13381 | H9: =ACOS(COS(RADIANS(90-$A9)) *COS(RADIANS(90-H$1)) +SIN(RADIANS(90-$A9)) *SIN(RADIANS(90-H$1)) *COS(RADIANS($B9-H$2))) *3958.756 -> 418.66667 | I9: =ACOS(COS(RADIANS(90-$A9)) *COS(RADIANS(90-I$1)) +SIN(RADIANS(90-$A9)) *SIN(RADIANS(90-I$1)) *COS(RADIANS($B9-I$2))) *3958.756 -> 152.94358 | J9: =ACOS(COS(RADIANS(90-$A9)) *COS(RADIANS(90-J$1)) +SIN(RADIANS(90-$A9)) *SIN(RADIANS(90-J$1)) *COS(RADIANS($B9-J$2))) *3958.756 -> 912.41634 | K9: =ACOS(COS(RADIANS(90-$A9)) *COS(RADIANS(90-K$1)) +SIN(RADIANS(90-$A9)) *SIN(RADIANS(90-K$1)) *COS(RADIANS($B9-K$2))) *3958.756 -> 1071.4529 | ... N9: =ACOS(COS(RADIANS(90-$A9)) *COS(RADIANS(90-N$1)) +SIN(RADIANS(90-$A9)) *SIN(RADIANS(90-N$1)) *COS(RADIANS($B9-N$2))) *3958.756 -> 949.72646
A10: 40.014986 | B10: -105.27055 | C10: Laura Thweat | D10: =ACOS(COS(RADIANS(90-$A10)) *COS(RADIANS(90-D$1)) +SIN(RADIANS(90-$A10)) *SIN(RADIANS(90-D$1)) *COS(RADIANS($B10-D$2))) *3958.756 -> 810.26966 | E10: =ACOS(COS(RADIANS(90-$A10)) *COS(RADIANS(90-E$1)) +SIN(RADIANS(90-$A10)) *SIN(RADIANS(90-E$1)) *COS(RADIANS($B10-E$2))) *3958.756 -> 1485.7195 | F10: =ACOS(COS(RADIANS(90-$A10)) *COS(RADIANS(90-F$1)) +SIN(RADIANS(90-$A10)) *SIN(RADIANS(90-F$1)) *COS(RADIANS($B10-F$2))) *3958.756 -> 1501.7594 | G10: =ACOS(COS(RADIANS(90-$A10)) *COS(RADIANS(90-G$1)) +SIN(RADIANS(90-$A10)) *SIN(RADIANS(90-G$1)) *COS(RADIANS($B10-G$2))) *3958.756 -> 619.11649 | H10: =ACOS(COS(RADIANS(90-$A10)) *COS(RADIANS(90-H$1)) +SIN(RADIANS(90-$A10)) *SIN(RADIANS(90-H$1)) *COS(RADIANS($B10-H$2))) *3958.756 -> 1032.2945 | I10: =ACOS(COS(RADIANS(90-$A10)) *COS(RADIANS(90-I$1)) +SIN(RADIANS(90-$A10)) *SIN(RADIANS(90-I$1)) *COS(RADIANS($B10-I$2))) *3958.756 -> 808.2328 | J10: =ACOS(COS(RADIANS(90-$A10)) *COS(RADIANS(90-J$1)) +SIN(RADIANS(90-$A10)) *SIN(RADIANS(90-J$1)) *COS(RADIANS($B10-J$2))) *3958.756 -> 1229.0016 | K10: =ACOS(COS(RADIANS(90-$A10)) *COS(RADIANS(90-K$1)) +SIN(RADIANS(90-$A10)) *SIN(RADIANS(90-K$1)) *COS(RADIANS($B10-K$2))) *3958.756 -> 1687.6843 | ... N10: =ACOS(COS(RADIANS(90-$A10)) *COS(RADIANS(90-N$1)) +SIN(RADIANS(90-$A10)) *SIN(RADIANS(90-N$1)) *COS(RADIANS($B10-N$2))) *3958.756 -> 1502.6869
A11: 35.198284 | B11: -111.6513 | C11: Sara Hall | D11: =ACOS(COS(RADIANS(90-$A11)) *COS(RADIANS(90-D$1)) +SIN(RADIANS(90-$A11)) *SIN(RADIANS(90-D$1)) *COS(RADIANS($B11-D$2))) *3958.756 -> 1205.592 | E11: =ACOS(COS(RADIANS(90-$A11)) *COS(RADIANS(90-E$1)) +SIN(RADIANS(90-$A11)) *SIN(RADIANS(90-E$1)) *COS(RADIANS($B11-E$2))) *3958.756 -> 1767.8976 | F11: =ACOS(COS(RADIANS(90-$A11)) *COS(RADIANS(90-F$1)) +SIN(RADIANS(90-$A11)) *SIN(RADIANS(90-F$1)) *COS(RADIANS($B11-F$2))) *3958.756 -> 1914.2832 | G11: =ACOS(COS(RADIANS(90-$A11)) *COS(RADIANS(90-G$1)) +SIN(RADIANS(90-$A11)) *SIN(RADIANS(90-G$1)) *COS(RADIANS($B11-G$2))) *3958.756 -> 1069.6705 | H11: =ACOS(COS(RADIANS(90-$A11)) *COS(RADIANS(90-H$1)) +SIN(RADIANS(90-$A11)) *SIN(RADIANS(90-H$1)) *COS(RADIANS($B11-H$2))) *3958.756 -> 1485.8376 | I11: =ACOS(COS(RADIANS(90-$A11)) *COS(RADIANS(90-I$1)) +SIN(RADIANS(90-$A11)) *SIN(RADIANS(90-I$1)) *COS(RADIANS($B11-I$2))) *3958.756 -> 1290.2369 | J11: =ACOS(COS(RADIANS(90-$A11)) *COS(RADIANS(90-J$1)) +SIN(RADIANS(90-$A11)) *SIN(RADIANS(90-J$1)) *COS(RADIANS($B11-J$2))) *3958.756 -> 1551.2806 | K11: =ACOS(COS(RADIANS(90-$A11)) *COS(RADIANS(90-K$1)) +SIN(RADIANS(90-$A11)) *SIN(RADIANS(90-K$1)) *COS(RADIANS($B11-K$2))) *3958.756 -> 2124.787 | ... N11: =ACOS(COS(RADIANS(90-$A11)) *COS(RADIANS(90-N$1)) +SIN(RADIANS(90-$A11)) *SIN(RADIANS(90-N$1)) *COS(RADIANS($B11-N$2))) *3958.756 -> 1914.1312
A12: 38.580461 | B12: -121.53023 | C12: Kim Conley | D12: =ACOS(COS(RADIANS(90-$A12)) *COS(RADIANS(90-D$1)) +SIN(RADIANS(90-$A12)) *SIN(RADIANS(90-D$1)) *COS(RADIANS($B12-D$2))) *3958.756 -> 1683.3677 | E12: =ACOS(COS(RADIANS(90-$A12)) *COS(RADIANS(90-E$1)) +SIN(RADIANS(90-$A12)) *SIN(RADIANS(90-E$1)) *COS(RADIANS($B12-E$2))) *3958.756 -> 2322.7709 | F12: =ACOS(COS(RADIANS(90-$A12)) *COS(RADIANS(90-F$1)) +SIN(RADIANS(90-$A12)) *SIN(RADIANS(90-F$1)) *COS(RADIANS($B12-F$2))) *3958.756 -> 2373.4302 | G12: =ACOS(COS(RADIANS(90-$A12)) *COS(RADIANS(90-G$1)) +SIN(RADIANS(90-$A12)) *SIN(RADIANS(90-G$1)) *COS(RADIANS($B12-G$2))) *3958.756 -> 1483.9384 | H12: =ACOS(COS(RADIANS(90-$A12)) *COS(RADIANS(90-H$1)) +SIN(RADIANS(90-$A12)) *SIN(RADIANS(90-H$1)) *COS(RADIANS($B12-H$2))) *3958.756 -> 1886.1487 | I12: =ACOS(COS(RADIANS(90-$A12)) *COS(RADIANS(90-I$1)) +SIN(RADIANS(90-$A12)) *SIN(RADIANS(90-I$1)) *COS(RADIANS($B12-I$2))) *3958.756 -> 1587.2753 | J12: =ACOS(COS(RADIANS(90-$A12)) *COS(RADIANS(90-J$1)) +SIN(RADIANS(90-$A12)) *SIN(RADIANS(90-J$1)) *COS(RADIANS($B12-J$2))) *3958.756 -> 2084.1519 | K12: =ACOS(COS(RADIANS(90-$A12)) *COS(RADIANS(90-K$1)) +SIN(RADIANS(90-$A12)) *SIN(RADIANS(90-K$1)) *COS(RADIANS($B12-K$2))) *3958.756 -> 2547.6846 | ... N12: =ACOS(COS(RADIANS(90-$A12)) *COS(RADIANS(90-N$1)) +SIN(RADIANS(90-$A12)) *SIN(RADIANS(90-N$1)) *COS(RADIANS($B12-N$2))) *3958.756 -> 2374.5858
A13: 35.198284 | B13: -111.6513 | C13: Kellyn Johnson | D13: =ACOS(COS(RADIANS(90-$A13)) *COS(RADIANS(90-D$1)) +SIN(RADIANS(90-$A13)) *SIN(RADIANS(90-D$1)) *COS(RADIANS($B13-D$2))) *3958.756 -> 1205.592 | E13: =ACOS(COS(RADIANS(90-$A13)) *COS(RADIANS(90-E$1)) +SIN(RADIANS(90-$A13)) *SIN(RADIANS(90-E$1)) *COS(RADIANS($B13-E$2))) *3958.756 -> 1767.8976 | F13: =ACOS(COS(RADIANS(90-$A13)) *COS(RADIANS(90-F$1)) +SIN(RADIANS(90-$A13)) *SIN(RADIANS(90-F$1)) *COS(RADIANS($B13-F$2))) *3958.756 -> 1914.2832 | G13: =ACOS(COS(RADIANS(90-$A13)) *COS(RADIANS(90-G$1)) +SIN(RADIANS(90-$A13)) *SIN(RADIANS(90-G$1)) *COS(RADIANS($B13-G$2))) *3958.756 -> 1069.6705 | H13: =ACOS(COS(RADIANS(90-$A13)) *COS(RADIANS(90-H$1)) +SIN(RADIANS(90-$A13)) *SIN(RADIANS(90-H$1)) *COS(RADIANS($B13-H$2))) *3958.756 -> 1485.8376 | I13: =ACOS(COS(RADIANS(90-$A13)) *COS(RADIANS(90-I$1)) +SIN(RADIANS(90-$A13)) *SIN(RADIANS(90-I$1)) *COS(RADIANS($B13-I$2))) *3958.756 -> 1290.2369 | J13: =ACOS(COS(RADIANS(90-$A13)) *COS(RADIANS(90-J$1)) +SIN(RADIANS(90-$A13)) *SIN(RADIANS(90-J$1)) *COS(RADIANS($B13-J$2))) *3958.756 -> 1551.2806 | K13: =ACOS(COS(RADIANS(90-$A13)) *COS(RADIANS(90-K$1)) +SIN(RADIANS(90-$A13)) *SIN(RADIANS(90-K$1)) *COS(RADIANS($B13-K$2))) *3958.756 -> 2124.787 | ... N13: =ACOS(COS(RADIANS(90-$A13)) *COS(RADIANS(90-N$1)) +SIN(RADIANS(90-$A13)) *SIN(RADIANS(90-N$1)) *COS(RADIANS($B13-N$2))) *3958.756 -> 1914.1312
A14: 44.983334 | B14: -93.26667 | C14: Meghan Peyton | D14: =ACOS(COS(RADIANS(90-$A14)) *COS(RADIANS(90-D$1)) +SIN(RADIANS(90-$A14)) *SIN(RADIANS(90-D$1)) *COS(RADIANS($B14-D$2))) *3958.756 -> 466.63181 | E14: =ACOS(COS(RADIANS(90-$A14)) *COS(RADIANS(90-E$1)) +SIN(RADIANS(90-$A14)) *SIN(RADIANS(90-E$1)) *COS(RADIANS($B14-E$2))) *3958.756 -> 1192.2458 | F14: =ACOS(COS(RADIANS(90-$A14)) *COS(RADIANS(90-F$1)) +SIN(RADIANS(90-$A14)) *SIN(RADIANS(90-F$1)) *COS(RADIANS($B14-F$2))) *3958.756 -> 931.45875 | G14: =ACOS(COS(RADIANS(90-$A14)) *COS(RADIANS(90-G$1)) +SIN(RADIANS(90-$A14)) *SIN(RADIANS(90-G$1)) *COS(RADIANS($B14-G$2))) *3958.756 -> 234.36106 | H14: =ACOS(COS(RADIANS(90-$A14)) *COS(RADIANS(90-H$1)) +SIN(RADIANS(90-$A14)) *SIN(RADIANS(90-H$1)) *COS(RADIANS($B14-H$2))) *3958.756 -> 402.5895 | I14: =ACOS(COS(RADIANS(90-$A14)) *COS(RADIANS(90-I$1)) +SIN(RADIANS(90-$A14)) *SIN(RADIANS(90-I$1)) *COS(RADIANS($B14-I$2))) *3958.756 -> 136.63681 | J14: =ACOS(COS(RADIANS(90-$A14)) *COS(RADIANS(90-J$1)) +SIN(RADIANS(90-$A14)) *SIN(RADIANS(90-J$1)) *COS(RADIANS($B14-J$2))) *3958.756 -> 908.34099 | K14: =ACOS(COS(RADIANS(90-$A14)) *COS(RADIANS(90-K$1)) +SIN(RADIANS(90-$A14)) *SIN(RADIANS(90-K$1)) *COS(RADIANS($B14-K$2))) *3958.756 -> 1053.2051 | ... N14: =ACOS(COS(RADIANS(90-$A14)) *COS(RADIANS(90-N$1)) +SIN(RADIANS(90-$A14)) *SIN(RADIANS(90-N$1)) *COS(RADIANS($B14-N$2))) *3958.756 -> 934.75165
A15: 35.198284 | B15: -111.6513 | C15: Stephanie Bruce | D15: =ACOS(COS(RADIANS(90-$A15)) *COS(RADIANS(90-D$1)) +SIN(RADIANS(90-$A15)) *SIN(RADIANS(90-D$1)) *COS(RADIANS($B15-D$2))) *3958.756 -> 1205.592 | E15: =ACOS(COS(RADIANS(90-$A15)) *COS(RADIANS(90-E$1)) +SIN(RADIANS(90-$A15)) *SIN(RADIANS(90-E$1)) *COS(RADIANS($B15-E$2))) *3958.756 -> 1767.8976 | F15: =ACOS(COS(RADIANS(90-$A15)) *COS(RADIANS(90-F$1)) +SIN(RADIANS(90-$A15)) *SIN(RADIANS(90-F$1)) *COS(RADIANS($B15-F$2))) *3958.756 -> 1914.2832 | G15: =ACOS(COS(RADIANS(90-$A15)) *COS(RADIANS(90-G$1)) +SIN(RADIANS(90-$A15)) *SIN(RADIANS(90-G$1)) *COS(RADIANS($B15-G$2))) *3958.756 -> 1069.6705 | H15: =ACOS(COS(RADIANS(90-$A15)) *COS(RADIANS(90-H$1)) +SIN(RADIANS(90-$A15)) *SIN(RADIANS(90-H$1)) *COS(RADIANS($B15-H$2))) *3958.756 -> 1485.8376 | I15: =ACOS(COS(RADIANS(90-$A15)) *COS(RADIANS(90-I$1)) +SIN(RADIANS(90-$A15)) *SIN(RADIANS(90-I$1)) *COS(RADIANS($B15-I$2))) *3958.756 -> 1290.2369 | J15: =ACOS(COS(RADIANS(90-$A15)) *COS(RADIANS(90-J$1)) +SIN(RADIANS(90-$A15)) *SIN(RADIANS(90-J$1)) *COS(RADIANS($B15-J$2))) *3958.756 -> 1551.2806 | K15: =ACOS(COS(RADIANS(90-$A15)) *COS(RADIANS(90-K$1)) +SIN(RADIANS(90-$A15)) *SIN(RADIANS(90-K$1)) *COS(RADIANS($B15-K$2))) *3958.756 -> 2124.787 | ... N15: =ACOS(COS(RADIANS(90-$A15)) *COS(RADIANS(90-N$1)) +SIN(RADIANS(90-$A15)) *SIN(RADIANS(90-N$1)) *COS(RADIANS($B15-N$2))) *3958.756 -> 1914.1312
... A64: 38.685737 | B64: -121.08217 | C64: Lauren Jimison | D64: =ACOS(COS(RADIANS(90-$A64)) *COS(RADIANS(90-D$1)) +SIN(RADIANS(90-$A64)) *SIN(RADIANS(90-D$1)) *COS(RADIANS($B64-D$2))) *3958.756 -> 1658.2968 | E64: =ACOS(COS(RADIANS(90-$A64)) *COS(RADIANS(90-E$1)) +SIN(RADIANS(90-$A64)) *SIN(RADIANS(90-E$1)) *COS(RADIANS($B64-E$2))) *3958.756 -> 2298.8734 | F64: =ACOS(COS(RADIANS(90-$A64)) *COS(RADIANS(90-F$1)) +SIN(RADIANS(90-$A64)) *SIN(RADIANS(90-F$1)) *COS(RADIANS($B64-F$2))) *3958.756 -> 2348.1922 | G64: =ACOS(COS(RADIANS(90-$A64)) *COS(RADIANS(90-G$1)) +SIN(RADIANS(90-$A64)) *SIN(RADIANS(90-G$1)) *COS(RADIANS($B64-G$2))) *3958.756 -> 1458.6847 | H64: =ACOS(COS(RADIANS(90-$A64)) *COS(RADIANS(90-H$1)) +SIN(RADIANS(90-$A64)) *SIN(RADIANS(90-H$1)) *COS(RADIANS($B64-H$2))) *3958.756 -> 1860.9551 | I64: =ACOS(COS(RADIANS(90-$A64)) *COS(RADIANS(90-I$1)) +SIN(RADIANS(90-$A64)) *SIN(RADIANS(90-I$1)) *COS(RADIANS($B64-I$2))) *3958.756 -> 1562.738 | J64: =ACOS(COS(RADIANS(90-$A64)) *COS(RADIANS(90-J$1)) +SIN(RADIANS(90-$A64)) *SIN(RADIANS(90-J$1)) *COS(RADIANS($B64-J$2))) *3958.756 -> 2059.7102 | K64: =ACOS(COS(RADIANS(90-$A64)) *COS(RADIANS(90-K$1)) +SIN(RADIANS(90-$A64)) *SIN(RADIANS(90-K$1)) *COS(RADIANS($B64-K$2))) *3958.756 -> 2522.4712 | ... N64: =ACOS(COS(RADIANS(90-$A64)) *COS(RADIANS(90-N$1)) +SIN(RADIANS(90-$A64)) *SIN(RADIANS(90-N$1)) *COS(RADIANS($B64-N$2))) *3958.756 -> 2349.3507

Sheet W-CleanRaceMatrix
B1: XC | C1: 15K | D1: 10M | E1: 1M | F1: 25K | G1: Half-Marathon | H1: 10K | I1: 20K | J1: 5K | K1: Marathon | L1: 12K
A2: Molly Huddle | J2: 0 | L2: 362.66674 | M2: =COUNT(B2:L2) -> 2
A3: Shalane Flanagan | B3: 1719.2804 | L3: 2349.7557 | M3: =COUNT(B3:L3) -> 2
A4: Mattie Suver | B4: 787.40559 | C4: 1437.409 | F4: 1037.5766 | G4: 845.28517 | H4: 1187.9724 | I4: 1685.4262 | L4: 1489.3379 | M4: =COUNT(B4:L4) -> 7
A5: Janet Bawcom | C5: 339.85617 | D5: 553.34344 | H5: 56.668525 | M5: =COUNT(B5:L5) -> 3
A6: Brianne Nelson | B6: 807.22635 | C6: 1477.3727 | D6: 1501.1981 | F6: 1035.4163 | G6: 817.80468 | H6: 1222.2209 | L6: 1502.0386 | M6: =COUNT(B6:L6) -> 7
A7: Annie Bersagel | B7: 465.97918 | C7: 1196.8038 | D7: 946.53441 | K7: 21.149931 | L7: 949.72646 | M7: =COUNT(B7:L7) -> 5
A8: Laura Thweat | C8: 1485.7195 | H8: 1229.0016 | I8: 1687.6843 | J8: 1760.6446 | L8: 1502.6869 | M8: =COUNT(B8:L8) -> 5
A9: Sara Hall | B9: 1205.592 | E9: 1069.6705 | H9: 1551.2806 | L9: 1914.1312 | M9: =COUNT(B9:L9) -> 4
A10: Kim Conley | B10: 1683.3677 | L10: 2374.5858 | M10: =COUNT(B10:L10) -> 2
A11: Kellyn Johnson | B11: 1205.592 | C11: 1767.8976 | D11: 1914.2832 | E11: 1069.6705 | H11: 1551.2806 | J11: 2202.2051 | L11: 1914.1312 | M11: =COUNT(B11:L11) -> 7
A12: Meghan Peyton | B12: 466.63181 | C12: 1192.2458 | E12: 234.36106 | H12: 908.34099 | I12: 1053.2051 | J12: 1114.9317 | K12: 0 | L12: 934.75165 | M12: =COUNT(B12:L12) -> 8
A13: Stephanie Bruce | C13: 1767.8976 | G13: 1290.2369 | H13: 1551.2806 | M13: =COUNT(B13:L13) -> 3
A14: Laura Portis | K14: 426.42621 | M14: =COUNT(B14:L14) -> 1
A15: Esther Erb | G15: 983.11444 | H15: 469.88843 | I15: 354.37319 | K15: 967.17672 | L15: 89.862454 | M15: =COUNT(B15:L15) -> 5
A16: Wendy Thomas | D16: 1479.2815 | F16: 1004.343 | G16: 772.96275 | H16: 1218.4373 | I16: 1661.4828 | K16: 666.64297 | L16: 1480.3536 | M16: =COUNT(B16:L16) -> 7
A17: Adriana Nelson | G17: 808.2328 | H17: 1229.0016 | M17: =COUNT(B17:L17) -> 2
A18: Emily Infeld | B18: 1719.2804 | I18: 2473.5109 | M18: =COUNT(B18:L18) -> 2
A19: Delilah DiCrescenzo | B19: 871.90577 | C19: 835.61014 | H19: 745.9073 | I19: 69.592581 | M19: =COUNT(B19:L19) -> 4
A20: Katie DiCamillo | C20: 976.96323 | D20: 358.00887 | H20: 900.06481 | I20: 86.043419 | M20: =COUNT(B20:L20) -> 4
A21: Michelle Frey | G21: 136.63681 | K21: 0 | M21: =COUNT(B21:L21) -> 2
A22: Kate Grace | E22: 1407.4241 | M22: =COUNT(B22:L22) -> 1
A23: Dot McMahan | C23: 855.65053 | F23: 129.36019 | M23: =COUNT(B23:L23) -> 2
A24: Maegan Krifchin | G24: 1290.2369 | H24: 1551.2806 | M24: =COUNT(B24:L24) -> 2
A25: Alisha Williams | C25: 1485.7195 | I25: 1687.6843 | M25: =COUNT(B25:L25) -> 2
A26: Desi Davila | G26: 525.61112 | M26: =COUNT(B26:L26) -> 1
A27: Neely Spence Gracey | B27: 463.83433 | J27: 607.47651 | M27: =COUNT(B27:L27) -> 2
A28: Atalelech Asfaw | C28: 1483.4349 | G28: 1102.8844 | K28: 979.08697 | L28: 1644.7158 | M28: =COUNT(B28:L28) -> 4
A29: Deena Kastor | B29: 1558.6729 | M29: =COUNT(B29:L29) -> 1
A30: Sarah Crouch | C30: 400.94678 | D30: 318.31254 | G30: 910.89153 | M30: =COUNT(B30:L30) -> 3
A31: Heather Kamph | E31: 234.36106 | M31: =COUNT(B31:L31) -> 1
A32: Tera Moody | F32: 1037.5766 | M32: =COUNT(B32:L32) -> 1
A33: Kelly Brinkman | G33: 136.63681 | I33: 1053.2051 | L33: 934.75165 | M33: =COUNT(B33:L33) -> 3
A34: Caitlin Comfort | I34: 850.66039 | L34: 708.12297 | M34: =COUNT(B34:L34) -> 2
A35: Alexi Pappas | J35: 2575.0678 | M35: =COUNT(B35:L35) -> 1
A36: Nicole Camp | G36: 636.02558 | K36: 635.29536 | M36: =COUNT(B36:L36) -> 2
A37: Alissa McKaig | B37: 498.29778 | C37: 400.94678 | M37: =COUNT(B37:L37) -> 2
A38: Sarah Brown | E38: 650.5829 | M38: =COUNT(B38:L38) -> 1
A39: Melissa White | C39: 864.80305 | F39: 123.57906 | G39: 514.57482 | M39: =COUNT(B39:L39) -> 3
A40: Jen Rhines | C40: 2181.5247 | D40: 2256.0149 | M40: =COUNT(B40:L40) -> 2
A41: Gabriele Grunewald | E41: 234.36106 | M41: =COUNT(B41:L41) -> 1
A42: Stephanie Pezzullo | D42: 329.62454 | F42: 593.58134 | M42: =COUNT(B42:L42) -> 2
A43: Sheri Piers | C43: 1116.5815 | G43: 1078.2628 | K43: 1135.0339 | M43: =COUNT(B43:L43) -> 3
A44: Katie Matthews | H44: 935.92913 | J44: 41.124748 | L44: 398.56212 | M44: =COUNT(B44:L44) -> 3
A45: Shannon Rowbury | E45: 1547.0379 | M45: =COUNT(B45:L45) -> 1
A46: Heather Cappello | C46: 1017.0867 | D46: 393.62269 | M46: =COUNT(B46:L46) -> 2
A47: Alice Schmidt | E47: 1430.7758 | M47: =COUNT(B47:L47) -> 1
A48: Serena Burla | G48: 930.43526 | H48: 535.60422 | M48: =COUNT(B48:L48) -> 2
A49: Frances Koons | B49: 824.26519 | I49: 113.32444 | J49: 199.3522 | M49: =COUNT(B49:L49) -> 3
A50: Amy Van Alstine | H50: 1551.2806 | J50: 2202.2051 | M50: =COUNT(B50:L50) -> 2
A51: Ladia Abertson-Junkans | B51: 466.63181 | C51: 1192.2458 | D51: 931.45875 | G51: 136.63681 | M51: =COUNT(B51:L51) -> 4
A52: Renee Tomlin | E52: 1011.608 | L52: 136.63249 | M52: =COUNT(B52:L52) -> 2
A53: Katie McGregor | C53: 1193.902 | F53: 406.93448 | G53: 140.22608 | H53: 909.8682 | K53: 5.3176258 | M53: =COUNT(B53:L53) -> 5
A54: Kristen Fryburg-Zaitz | G54: 804.97334 | H54: 1217.9748 | I54: 1679.7714 | M54: =COUNT(B54:L54) -> 3
A55: Deborah Maier | J55: 2485.9778 | M55: =COUNT(B55:L55) -> 1
A56: Chelsea Reilly | B56: 1741.4142 | C56: 2370.0796 | M56: =COUNT(B56:L56) -> 2
A57: Ashley Miller | E57: 168.86414 | J57: 1308.4811 | M57: =COUNT(B57:L57) -> 2
A58: Theresa Taggart | F58: 0 | M58: =COUNT(B58:L58) -> 1
A59: Sarah Cummings | G59: 992.72335 | K59: 1016.4564 | M59: =COUNT(B59:L59) -> 2
A60: Jamie Cheever | B60: 466.63181 | M60: =COUNT(B60:L60) -> 1
A61: Clara Grandt | D61: 163.9354 | H61: 474.58607 | M61: =COUNT(B61:L61) -> 2
A62: Lauren Jimison | C62: 2298.8734 | F62: 1860.9551 | L62: 2349.3507 | M62: =COUNT(B62:L62) -> 3

Sheet Dirty-Women2013
J1: 41307 | K1: 41342 | L1: 41371 | M1: 41387 | N1: 41405 | O1: 41447 | P1: 41459 | Q1: 41519 | R1: 41539 | S1: 41553 | T1: 41595
J2: St. Louis | K2: Jacksonville | L2: Washington | M2: Des Moines | N2: Grand Rapids | O2: Duluth | P2: Atlanta | Q2: New Haven | R2: Providence | S2: Minneapolis | T2: Alexandria
J3: MO | K3: FL | L3: DC | M3: IA | N3: MI | O3: MN | P3: GA | Q3: CT | R3: RI | S3: MN | T3: VA
A4: Club | B4: Sponsor | C4: Sponsor/Club | D4: City | E4: State | F4: Age | G4: Pl | H4: Name | I4: Prize Money | J4: XC | K4: 15K | L4: 10M | M4: 1M | N4: 25K | O4: HM | P4: 10K | Q4: 20K | R4: 5K | S4: MAR (2x) | T4: 12K (3x) | U4: Total
B5: 1 | C5: Saucony | D5: Providence | E5: RI | F5: 29 | G5: 1 | H5: Molly Huddle | I5: 25000 | R5: 15 | T5: 45 | U5: 60
A6: 1 | B6: 1 | C6: Nike/Oregon TC | D6: Portland | E6: OR | F6: 32 | G6: 2 | H6: Shalane Flanagan | I6: 12000 | J6: 15 | T6: 36 | U6: 51
A7: 1 | B7: 1 | C7: Adidas/Boulder Running Co | D7: Colorado Springs | E7: CO | F7: 26 | G7: 3 | H7: Mattie Suver | I7: 15250 | J7: 4 | K7: 6 | N7: 12 | O7: 6 | P7: 7 | Q7: 12 | U7: 47
B8: 1 | C8: Nike | D8: Rome | E8: GA | F8: 34 | G8: 4 | H8: Janet Bawcom | I8: 32000 | K8: 15 | L8: 15 | P8: 15 | U8: 45
A9: 1 | B9: 1 | C9: Adidas/Boulder Running Co | D9: Golden | E9: CO | F9: 33 | G9: 5 | H9: Brianne Nelson | I9: 7300 | K9: 7 | L9: 12 | N9: 6 | O9: 3 | T9: 12 | U9: 40
A10: 1 | C10: New Balance Silicon Valley | D10: Victoria | E10: MN | F10: 30 | G10: 6 | H10: Annie Bersagel | I10: 25750 | L10: 15 | S10: 30 | T10: 9 | U10: 54
A11: 1 | C11: Boulder Track Club | D11: Boulder | E11: CO | F11: 24 | G11: 7 | H11: Laura Thweat | I11: 9300 | Q11: 1 | R11: 7 | T11: 30 | U11: 38
B12: 1 | C12: Asics | D12: Flagstaff | E12: AZ | F12: 30 | G12: 8 | H12: Sara Hall | I12: 6200 | J12: 3 | M12: 12 | P12: 6 | T12: 15 | U12: 36
A13: 1 | B13: 1 | C13: New Balance/SRA | D13: West Sacramento | E13: CA | F13: 27 | G13: 9 | H13: Kim Conley | I13: 6000 | J13: 12 | T13: 21 | U13: 33
A14: 1 | C14: NAZ Elite | D14: Flagstaff | E14: AZ | F14: 27 | G14: 10 | H14: Kellyn Johnson | I14: 6000 | K14: 1 | L14: 7 | M14: 1 | R14: 5 | T14: 18 | U14: 32
A15: 1 | C15: Team USA Minnesota | D15: Minneapolis | E15: MN | F15: 27 | G15: 11 | H15: Meghan Peyton | I15: 11900 | P15: 2 | Q15: 15 | R15: 4 | S15: 4 | T15: 6 | U15: 31
A16: 1 | C16: NAZ Elite | D16: Flagstaff | E16: AZ | F16: 29 | G16: 12 | H16: Stephanie Bruce | I16: 13000 | K16: 10 | O16: 7 | P16: 12 | U16: 29
C17: Unattached | D17: Kalamazoo | E17: MI | F17: 26 | G17: 13 | H17: Laura Portis | I17: 15000 | S17: 24 | U17: 24
A18: 1 | B18: 1 | C18: Reebok/Zap Fitness | D18: Richmond | E18: VA | F18: 27 | G18: 14 | H18: Esther Erb | I18: 10400 | Q18: 2 | S18: 20 | U18: 22
A19: 1 | B19: 1 | C19: Adidas/Boulder Running Co | D19: Windsor | E19: CO | F19: 34 | H19: Wendy Thomas | I19: 6300 | N19: 5 | O19: 1 | Q19: 6 | S19: 10 | U19: 22
B20: 1 | C20: Asics | D20: Boulder | E20: CO | F20: 33 | G20: 16 | H20: Adriana Nelson | I20: 13000 | O20: 15 | P20: 5 | U20: 20
A21: 1 | B21: 1 | C21: Nike/Oregon TC | D21: Portland | E21: OR | F21: 23 | G21: 17 | H21: Emily Infeld | I21: 3600 | J21: 7 | R21: 12 | U21: 19
A22: 1 | C22: NJNY TC | D22: New York | E22: NY | F22: 30 | G22: 18 | H22: Delilah DiCrescenzo | I22: 2700 | J22: 5 | K22: 3 | P22: 4 | Q22: 5 | U22: 17
A23: 1 | B23: 1 | C23: New Balance/Boston | D23: Providence | E23: RI | F23: 26 | G23: 19 | H23: Katie DiCamillo | I23: 3100 | K23: 4 | L23: 5 | Q23: 7 | U23: 16
A24: 1 | C24: Team USA Minnesota | D24: Minneapolis | E24: MN | F24: 31 | H24: Michelle Frey | I24: 7800 | O24: 2 | S24: 14 | U24: 16
B25: 1 | C25: Oiselle | D25: Bend | E25: OR | F25: 25 | G25: 21 | H25: Kate Grace | I25: 7500 | M25: 15 | U25: 15
A26: 1 | B26: 1 | C26: Hansons-Brooks | D26: Rochester Hills | E26: MI | F26: 31 | H26: Dot McMahan | I26: 7000 | N26: 15 | U26: 15
A27: 1 | C27: NAZ Elite | D27: Flagstaff | E27: AZ | F27: 25 | H27: Maegan Krifchin | I27: 6000 | O27: 5 | P27: 10 | U27: 15
A28: 1 | B28: 1 | C28: Adidas/Boulder Running Co | D28: Boulder | E28: CO | F28: 31 | G28: 24 | H28: Alisha Williams | I28: 5000 | K28: 12 | U28: 12
A29: 1 | B29: 1 | C29: Hansons-Brooks | D29: Washington Towns | E29: MI | F29: 29 | H29: Desi Davila | I29: 8000 | O29: 12 | U29: 12
A30: 1 | B30: 1 | C30: Hansons-Brooks | D30: Lake Orion | E30: MI | F30: 23 | H30: Neely Spence Gracey | I30: 1500 | J30: 6 | R30: 6 | U30: 12
A31: 1 | C31: Unattached/Team Rono | D31: Albuquerque | E31: NM | F31: 30 | H31: Atalelech Asfaw | I31: 5000 | S31: 12 | U31: 12
A32: 1 | B32: 1 | C32: Asics/Mammoth TC | D32: Mammoth Lakes | E32: CA | F32: 41 | G32: 28 | H32: Deena Kastor | I32: 800 | J32: 10 | U32: 10
A33: 1 | B33: 1 | C33: Reebok/Zap Fitness | D33: Blowing Rock | E33: NC | F33: 23 | H33: Sarah Crouch | I33: 2000 | L33: 10 | U33: 10
A34: 1 | B34: 1 | C34: Asics/Team USA Minnesota | D34: Minneapolis | E34: MN | F34: 27 | H34: Heather Kamph | I34: 1500 | M34: 10 | U34: 10
A35: 1 | B35: 1 | C35: Adidas/Boulder Running Co | D35: Colorado Springs | E35: CO | F35: 33 | H35: Tera Moody | I35: 1500 | N35: 10 | U35: 10
C36: Unattached | D36: Minneapolis | E36: MN | F36: 32 | H36: Kelly Brinkman | I36: 5000 | O36: 10 | U36: 10
B37: 1 | C37: Oiselle | D37: Madison | E37: WI | F37: 24 | H37: Caitlin Comfort | I37: 2500 | Q37: 10 | U37: 10
A38: 1 | B38: 1 | C38: Nike/Oregon TC | D38: Eugene | E38: OR | F38: 23 | H38: Alexi Pappas | I38: 2000 | R38: 10 | U38: 10
C39: Unattached | D39: Cleveland Heights | E39: OH | F39: 27 | G39: 35 | H39: Nicole Camp | I39: 3000 | S39: 8 | U39: 8
A40: 1 | B40: 1 | C40: Reebok/Zap Fitness | D40: Blowing Rock | E40: NC | F40: 27 | G40: 36 | H40: Alissa McKaig | I40: 1050 | J40: 2 | K40: 5 | U40: 7
B41: 1 | C41: New Balance | D41: Knoxville | E41: TN | F41: 27 | H41: Sarah Brown | I41: 1250 | M41: 7 | U41: 7
A42: 1 | B42: 1 | C42: Hansons-Brooks | D42: Lake Orion | E42: MI | F42: 32 | H42: Melissa White | I42: 1000 | N42: 7 | U42: 7
A43: 1 | B43: 1 | C43: Adidas/BAA | D43: Mammoth Lakes | E43: CA | F43: 38 | G43: 39 | H43: Jen Rhines | I43: 1000 | L43: 6 | U43: 6
A44: 1 | B44: 1 | C44: Brooks/Team USA Minnesota | D44: Minneapolis | E44: MN | F44: 27 | H44: Gabriele Grunewald | I44: 1000 | M44: 6 | U44: 6
A45: 1 | B45: 1 | C45: Reebok/Zap Fitness | D45: Charlotte | E45: NC | F45: 31 | H45: Stephanie Pezzullo | I45: 800 | L45: 2 | N45: 4 | U45: 6
C46: Unnattached | D46: Falmouth | E46: ME | F46: 42 | H46: Sheri Piers | I46: 2000 | S46: 6 | U46: 6
A47: 1 | B47: 1 | C47: Adidas/BAA | D47: Boston | E47: MA | F47: 22 | H47: Katie Matthews | I47: 1150 | P47: 1 | R47: 2 | T47: 3 | U47: 6
B48: 1 | C48: Nike | D48: San Francisco | E48: CA | F48: 29 | G48: 44 | H48: Shannon Rowbury | I48: 500 | M48: 5 | U48: 5
A49: 1 | B49: 1 | C49: Adidas/BAA | D49: Boston | E49: MA | F49: 33 | G49: 45 | H49: Heather Cappello | I49: 600 | L49: 4 | U49: 4
C50: Unattached | D50: Coronado | E50: CA | F50: 32 | H50: Alice Schmidt | I50: 300 | M50: 4 | U50: 4
B51: 1 | C51: Mizuno | D51: Falls Church | E51: VA | F51: 30 | H51: Serena Burla | I51: 1500 | O51: 4 | U51: 4
A52: 1 | B52: 1 | C52: New Balance/NJNY TC | D52: Clinton | E52: NJ | F52: 28 | H52: Frances Koons | I52: 600 | Q52: 4 | U52: 4
A53: 1 | B53: 1 | C53: Adidas/NAZ Elite | D53: Flagstaff | E53: AZ | F53: 26 | H53: Amy Van Alstine | I53: 900 | P53: 3 | R53: 1 | U53: 4
A54: 1 | C54: Team USA Minnesota | D54: Minneapolis | E54: MN | F54: 27 | G54: 50 | H54: Ladia Abertson-Junkans | I54: 500 | L54: 3 | U54: 3
A55: 1 | B55: 1 | C55: Nike/NJNY TC | D55: Ocean City | E55: NJ | F55: 24 | H55: Renee Tomlin | I55: 200 | M55: 3 | U55: 3
B56: 1 | C56: Reebok | D56: St. Louis Pk | E56: MN | F56: 35 | H56: Katie McGregor | I56: 400 | N56: 3 | U56: 3
A57: 1 | B57: 1 | C57: Brooks/Team USA Minnesota | D57: Broomfield | E57: CO | F57: 32 | H57: Kristen Fryburg-Zaitz | I57: 500 | Q57: 3 | U57: 3
B58: 1 | C58: Brooks | D58: Seattle | E58: WA | F58: 23 | H58: Deborah Maier | I58: 500 | R58: 3 | U58: 3
C59: Unnattached | D59: San Francisco | E59: CA | F59: 23 | G59: 55 | H59: Chelsea Reilly | I59: 600 | K59: 2 | U59: 2
A60: 1 | C60: Team Nebraska | D60: Lincoln | E60: NE | F60: 25 | H60: Ashley Miller | I60: 150 | M60: 2 | U60: 2
C61: Unnattached | D61: Grand Rapids | E61: MI | F61: 39 | H61: Theresa Taggart | I61: 200 | N61: 2 | U61: 2
A62: 1 | C62: NYAC | D62: New York | E62: NY | F62: 24 | H62: Sarah Cummings | I62: 500 | S62: 2 | U62: 2
A63: 1 | B63: 1 | C63: Brooks/Team USA Minnesota | D63: Minneapolis | E63: MN | F63: 26 | G63: 59 | H63: Jamie Cheever | I63: 100 | J63: 1 | U63: 1
B64: 1 | C64: Mizuno | D64: Morgantown | E64: WV | F64: 26 | H64: Clara Grandt | I64: 200 | L64: 1 | U64: 1
A65: 1 | B65: 1 | C65: Asics/Mammoth TC | D65: El Dorado Hills | E65: CA | F65: 23 | H65: Lauren Jimison | I65: 100 | N65: 1 | U65: 1

Sheet M-GeoTable
A1: Athlete | B1: City | C1: State | D1: Latitude | E1: Longitude
A2: Shadrack Biwott | B2: Folsom | C2: CA | D2: 38.677959 | E2: -121.17606
A3: Matt Tegankamp | B3: Portland | C3: OR | D3: 45.523452 | E3: -122.67621
A4: Aaron Braun | B4: Englewood | C4: CO | D4: 39.647765 | E4: -104.98776
A5: Josphat Boit | B5: Mammoth Lakes | C5: CA | D5: 37.648546 | E5: -118.97208
A6: Tim Ritchie | B6: Brighton | C6: MA | D6: 42.34635 | E6: -71.162676
A7: Christo Landry | B7: Ann Arbor | C7: MI | D7: 42.280826 | E7: -83.743038
A8: Tyler Pennel | B8: Blowing Rock | C8: NC | D8: 36.135129 | E8: -81.677606
A9: Mo Trafeh | B9: Duarte | C9: CA | D9: 34.139451 | E9: -117.97729
A10: Nick Arciniaga | B10: Flagstaff | C10: AZ | D10: 35.198284 | E10: -111.6513
A11: Abdi Abdirahman | B11: Tucson | C11: AZ | D11: 32.221743 | E11: -110.92648
A12: Ben True | B12: Hanover | C12: NH | D12: 43.702245 | E12: -72.289553
A13: Bobby Curtis | B13: Berkley | C13: MI | D13: 42.503091 | E13: -83.183539
... A59: Jared Bassett | B59: Bend | C59: OR | D59: 44.058173 | E59: -121.31531

Sheet M-RaceMatrix
D1: 38.627003 | E1: 30.332184 | F1: 41.600545 | G1: 42.96336 | H1: 46.786672 | I1: 33.748995 | J1: 41.308274 | K1: 41.823989 | L1: 44.983334 | M1: 38.804836
D2: -90.199404 | E2: -81.655651 | F2: -93.609106 | G2: -85.668086 | H2: -92.100485 | I2: -84.387982 | J2: -72.927884 | K2: -71.412834 | L2: -93.26667 | M2: -77.046921
D3: XC | E3: 15K | F3: 1M | G3: 25K | H3: Half-Marathon | I3: 10K | J3: 20K | K3: 5K | L3: Marathon | M3: 12K
A4: 38.677959 | B4: -121.17606 | C4: Shadrack Biwott | D4: =ACOS(COS(RADIANS(90-$A4)) *COS(RADIANS(90-D$1)) +SIN(RADIANS(90-$A4)) *SIN(RADIANS(90-D$1)) *COS(RADIANS($B4-D$2))) *3958.756 -> 1663.3792 | E4: =ACOS(COS(RADIANS(90-$A4)) *COS(RADIANS(90-E$1)) +SIN(RADIANS(90-$A4)) *SIN(RADIANS(90-E$1)) *COS(RADIANS($B4-E$2))) *3958.756 -> 2303.9117 | F4: =ACOS(COS(RADIANS(90-$A4)) *COS(RADIANS(90-F$1)) +SIN(RADIANS(90-$A4)) *SIN(RADIANS(90-F$1)) *COS(RADIANS($B4-F$2))) *3958.756 -> 1463.6893 | G4: =ACOS(COS(RADIANS(90-$A4)) *COS(RADIANS(90-G$1)) +SIN(RADIANS(90-$A4)) *SIN(RADIANS(90-G$1)) *COS(RADIANS($B4-G$2))) *3958.756 -> 1865.8847 | H4: =ACOS(COS(RADIANS(90-$A4)) *COS(RADIANS(90-H$1)) +SIN(RADIANS(90-$A4)) *SIN(RADIANS(90-H$1)) *COS(RADIANS($B4-H$2))) *3958.756 -> 1567.3787 | I4: =ACOS(COS(RADIANS(90-$A4)) *COS(RADIANS(90-I$1)) +SIN(RADIANS(90-$A4)) *SIN(RADIANS(90-I$1)) *COS(RADIANS($B4-I$2))) *3958.756 -> 2064.7899 | J4: =ACOS(COS(RADIANS(90-$A4)) *COS(RADIANS(90-J$1)) +SIN(RADIANS(90-$A4)) *SIN(RADIANS(90-J$1)) *COS(RADIANS($B4-J$2))) *3958.756 -> 2527.4165 | K4: =ACOS(COS(RADIANS(90-$A4)) *COS(RADIANS(90-K$1)) +SIN(RADIANS(90-$A4)) *SIN(RADIANS(90-K$1)) *COS(RADIANS($B4-K$2))) *3958.756 -> 2596.4024 | ... M4: =ACOS(COS(RADIANS(90-$A4)) *COS(RADIANS(90-M$1)) +SIN(RADIANS(90-$A4)) *SIN(RADIANS(90-M$1)) *COS(RADIANS($B4-M$2))) *3958.756 -> 2354.3892
A5: 45.523452 | B5: -122.67621 | C5: Matt Tegankamp | D5: =ACOS(COS(RADIANS(90-$A5)) *COS(RADIANS(90-D$1)) +SIN(RADIANS(90-$A5)) *SIN(RADIANS(90-D$1)) *COS(RADIANS($B5-D$2))) *3958.756 -> 1719.2804 | E5: =ACOS(COS(RADIANS(90-$A5)) *COS(RADIANS(90-E$1)) +SIN(RADIANS(90-$A5)) *SIN(RADIANS(90-E$1)) *COS(RADIANS($B5-E$2))) *3958.756 -> 2435.933 | F5: =ACOS(COS(RADIANS(90-$A5)) *COS(RADIANS(90-F$1)) +SIN(RADIANS(90-$A5)) *SIN(RADIANS(90-F$1)) *COS(RADIANS($B5-F$2))) *3958.756 -> 1471.9137 | G5: =ACOS(COS(RADIANS(90-$A5)) *COS(RADIANS(90-G$1)) +SIN(RADIANS(90-$A5)) *SIN(RADIANS(90-G$1)) *COS(RADIANS($B5-G$2))) *3958.756 -> 1824.0109 | H5: =ACOS(COS(RADIANS(90-$A5)) *COS(RADIANS(90-H$1)) +SIN(RADIANS(90-$A5)) *SIN(RADIANS(90-H$1)) *COS(RADIANS($B5-H$2))) *3958.756 -> 1456.7533 | I5: =ACOS(COS(RADIANS(90-$A5)) *COS(RADIANS(90-I$1)) +SIN(RADIANS(90-$A5)) *SIN(RADIANS(90-I$1)) *COS(RADIANS($B5-I$2))) *3958.756 -> 2168.7432 | J5: =ACOS(COS(RADIANS(90-$A5)) *COS(RADIANS(90-J$1)) +SIN(RADIANS(90-$A5)) *SIN(RADIANS(90-J$1)) *COS(RADIANS($B5-J$2))) *3958.756 -> 2473.5109 | K5: =ACOS(COS(RADIANS(90-$A5)) *COS(RADIANS(90-K$1)) +SIN(RADIANS(90-$A5)) *SIN(RADIANS(90-K$1)) *COS(RADIANS($B5-K$2))) *3958.756 -> 2530.8125 | ... M5: =ACOS(COS(RADIANS(90-$A5)) *COS(RADIANS(90-M$1)) +SIN(RADIANS(90-$A5)) *SIN(RADIANS(90-M$1)) *COS(RADIANS($B5-M$2))) *3958.756 -> 2349.7557
A6: 39.647765 | B6: -104.98776 | C6: Aaron Braun | D6: =ACOS(COS(RADIANS(90-$A6)) *COS(RADIANS(90-D$1)) +SIN(RADIANS(90-$A6)) *SIN(RADIANS(90-D$1)) *COS(RADIANS($B6-D$2))) *3958.756 -> 794.75011 | E6: =ACOS(COS(RADIANS(90-$A6)) *COS(RADIANS(90-E$1)) +SIN(RADIANS(90-$A6)) *SIN(RADIANS(90-E$1)) *COS(RADIANS($B6-E$2))) *3958.756 -> 1463.2278 | F6: =ACOS(COS(RADIANS(90-$A6)) *COS(RADIANS(90-F$1)) +SIN(RADIANS(90-$A6)) *SIN(RADIANS(90-F$1)) *COS(RADIANS($B6-F$2))) *3958.756 -> 611.28211 | G6: =ACOS(COS(RADIANS(90-$A6)) *COS(RADIANS(90-G$1)) +SIN(RADIANS(90-$A6)) *SIN(RADIANS(90-G$1)) *COS(RADIANS($B6-G$2))) *3958.756 -> 1026.0999 | H6: =ACOS(COS(RADIANS(90-$A6)) *COS(RADIANS(90-H$1)) +SIN(RADIANS(90-$A6)) *SIN(RADIANS(90-H$1)) *COS(RADIANS($B6-H$2))) *3958.756 -> 813.36055 | I6: =ACOS(COS(RADIANS(90-$A6)) *COS(RADIANS(90-I$1)) +SIN(RADIANS(90-$A6)) *SIN(RADIANS(90-I$1)) *COS(RADIANS($B6-I$2))) *3958.756 -> 1208.4387 | J6: =ACOS(COS(RADIANS(90-$A6)) *COS(RADIANS(90-J$1)) +SIN(RADIANS(90-$A6)) *SIN(RADIANS(90-J$1)) *COS(RADIANS($B6-J$2))) *3958.756 -> 1679.2627 | K6: =ACOS(COS(RADIANS(90-$A6)) *COS(RADIANS(90-K$1)) +SIN(RADIANS(90-$A6)) *SIN(RADIANS(90-K$1)) *COS(RADIANS($B6-K$2))) *3958.756 -> 1752.9887 | ... M6: =ACOS(COS(RADIANS(90-$A6)) *COS(RADIANS(90-M$1)) +SIN(RADIANS(90-$A6)) *SIN(RADIANS(90-M$1)) *COS(RADIANS($B6-M$2))) *3958.756 -> 1490.5831
A7: 37.648546 | B7: -118.97208 | C7: Josphat Boit | D7: =ACOS(COS(RADIANS(90-$A7)) *COS(RADIANS(90-D$1)) +SIN(RADIANS(90-$A7)) *SIN(RADIANS(90-D$1)) *COS(RADIANS($B7-D$2))) *3958.756 -> 1558.6729 | E7: =ACOS(COS(RADIANS(90-$A7)) *COS(RADIANS(90-E$1)) +SIN(RADIANS(90-$A7)) *SIN(RADIANS(90-E$1)) *COS(RADIANS($B7-E$2))) *3958.756 -> 2181.5247 | F7: =ACOS(COS(RADIANS(90-$A7)) *COS(RADIANS(90-F$1)) +SIN(RADIANS(90-$A7)) *SIN(RADIANS(90-F$1)) *COS(RADIANS($B7-F$2))) *3958.756 -> 1371.8753 | G7: =ACOS(COS(RADIANS(90-$A7)) *COS(RADIANS(90-G$1)) +SIN(RADIANS(90-$A7)) *SIN(RADIANS(90-G$1)) *COS(RADIANS($B7-G$2))) *3958.756 -> 1780.5616 | H7: =ACOS(COS(RADIANS(90-$A7)) *COS(RADIANS(90-H$1)) +SIN(RADIANS(90-$A7)) *SIN(RADIANS(90-H$1)) *COS(RADIANS($B7-H$2))) *3958.756 -> 1503.2127 | I7: =ACOS(COS(RADIANS(90-$A7)) *COS(RADIANS(90-I$1)) +SIN(RADIANS(90-$A7)) *SIN(RADIANS(90-I$1)) *COS(RADIANS($B7-I$2))) *3958.756 -> 1948.0274 | J7: =ACOS(COS(RADIANS(90-$A7)) *COS(RADIANS(90-J$1)) +SIN(RADIANS(90-$A7)) *SIN(RADIANS(90-J$1)) *COS(RADIANS($B7-J$2))) *3958.756 -> 2439.7504 | K7: =ACOS(COS(RADIANS(90-$A7)) *COS(RADIANS(90-K$1)) +SIN(RADIANS(90-$A7)) *SIN(RADIANS(90-K$1)) *COS(RADIANS($B7-K$2))) *3958.756 -> 2511.0475 | ... M7: =ACOS(COS(RADIANS(90-$A7)) *COS(RADIANS(90-M$1)) +SIN(RADIANS(90-$A7)) *SIN(RADIANS(90-M$1)) *COS(RADIANS($B7-M$2))) *3958.756 -> 2256.8544
A8: 42.34635 | B8: -71.162676 | C8: Tim Ritchie | D8: =ACOS(COS(RADIANS(90-$A8)) *COS(RADIANS(90-D$1)) +SIN(RADIANS(90-$A8)) *SIN(RADIANS(90-D$1)) *COS(RADIANS($B8-D$2))) *3958.756 -> 1030.4163 | E8: =ACOS(COS(RADIANS(90-$A8)) *COS(RADIANS(90-E$1)) +SIN(RADIANS(90-$A8)) *SIN(RADIANS(90-E$1)) *COS(RADIANS($B8-E$2))) *3958.756 -> 1013.1614 | F8: =ACOS(COS(RADIANS(90-$A8)) *COS(RADIANS(90-F$1)) +SIN(RADIANS(90-$A8)) *SIN(RADIANS(90-F$1)) *COS(RADIANS($B8-F$2))) *3958.756 -> 1150.826 | G8: =ACOS(COS(RADIANS(90-$A8)) *COS(RADIANS(90-G$1)) +SIN(RADIANS(90-$A8)) *SIN(RADIANS(90-G$1)) *COS(RADIANS($B8-G$2))) *3958.756 -> 737.40073 | H8: =ACOS(COS(RADIANS(90-$A8)) *COS(RADIANS(90-H$1)) +SIN(RADIANS(90-$A8)) *SIN(RADIANS(90-H$1)) *COS(RADIANS($B8-H$2))) *3958.756 -> 1071.657 | I8: =ACOS(COS(RADIANS(90-$A8)) *COS(RADIANS(90-I$1)) +SIN(RADIANS(90-$A8)) *SIN(RADIANS(90-I$1)) *COS(RADIANS($B8-I$2))) *3958.756 -> 931.15377 | J8: =ACOS(COS(RADIANS(90-$A8)) *COS(RADIANS(90-J$1)) +SIN(RADIANS(90-$A8)) *SIN(RADIANS(90-J$1)) *COS(RADIANS($B8-J$2))) *3958.756 -> 115.77101 | K8: =ACOS(COS(RADIANS(90-$A8)) *COS(RADIANS(90-K$1)) +SIN(RADIANS(90-$A8)) *SIN(RADIANS(90-K$1)) *COS(RADIANS($B8-K$2))) *3958.756 -> 38.303373 | ... M8: =ACOS(COS(RADIANS(90-$A8)) *COS(RADIANS(90-M$1)) +SIN(RADIANS(90-$A8)) *SIN(RADIANS(90-M$1)) *COS(RADIANS($B8-M$2))) *3958.756 -> 393.83071
A9: 42.280826 | B9: -83.743038 | C9: Christo Landry | D9: =ACOS(COS(RADIANS(90-$A9)) *COS(RADIANS(90-D$1)) +SIN(RADIANS(90-$A9)) *SIN(RADIANS(90-D$1)) *COS(RADIANS($B9-D$2))) *3958.756 -> 422.82371 | E9: =ACOS(COS(RADIANS(90-$A9)) *COS(RADIANS(90-E$1)) +SIN(RADIANS(90-$A9)) *SIN(RADIANS(90-E$1)) *COS(RADIANS($B9-E$2))) *3958.756 -> 833.635 | F9: =ACOS(COS(RADIANS(90-$A9)) *COS(RADIANS(90-F$1)) +SIN(RADIANS(90-$A9)) *SIN(RADIANS(90-F$1)) *COS(RADIANS($B9-F$2))) *3958.756 -> 508.94314 | G9: =ACOS(COS(RADIANS(90-$A9)) *COS(RADIANS(90-G$1)) +SIN(RADIANS(90-$A9)) *SIN(RADIANS(90-G$1)) *COS(RADIANS($B9-G$2))) *3958.756 -> 108.63726 | H9: =ACOS(COS(RADIANS(90-$A9)) *COS(RADIANS(90-H$1)) +SIN(RADIANS(90-$A9)) *SIN(RADIANS(90-H$1)) *COS(RADIANS($B9-H$2))) *3958.756 -> 515.62359 | I9: =ACOS(COS(RADIANS(90-$A9)) *COS(RADIANS(90-I$1)) +SIN(RADIANS(90-$A9)) *SIN(RADIANS(90-I$1)) *COS(RADIANS($B9-I$2))) *3958.756 -> 590.53162 | J9: =ACOS(COS(RADIANS(90-$A9)) *COS(RADIANS(90-J$1)) +SIN(RADIANS(90-$A9)) *SIN(RADIANS(90-J$1)) *COS(RADIANS($B9-J$2))) *3958.756 -> 560.75799 | K9: =ACOS(COS(RADIANS(90-$A9)) *COS(RADIANS(90-K$1)) +SIN(RADIANS(90-$A9)) *SIN(RADIANS(90-K$1)) *COS(RADIANS($B9-K$2))) *3958.756 -> 632.82226 | ... M9: =ACOS(COS(RADIANS(90-$A9)) *COS(RADIANS(90-M$1)) +SIN(RADIANS(90-$A9)) *SIN(RADIANS(90-M$1)) *COS(RADIANS($B9-M$2))) *3958.756 -> 425.57031
A10: 36.135129 | B10: -81.677606 | C10: Tyler Pennel | D10: =ACOS(COS(RADIANS(90-$A10)) *COS(RADIANS(90-D$1)) +SIN(RADIANS(90-$A10)) *SIN(RADIANS(90-D$1)) *COS(RADIANS($B10-D$2))) *3958.756 -> 498.29778 | E10: =ACOS(COS(RADIANS(90-$A10)) *COS(RADIANS(90-E$1)) +SIN(RADIANS(90-$A10)) *SIN(RADIANS(90-E$1)) *COS(RADIANS($B10-E$2))) *3958.756 -> 400.94678 | F10: =ACOS(COS(RADIANS(90-$A10)) *COS(RADIANS(90-F$1)) +SIN(RADIANS(90-$A10)) *SIN(RADIANS(90-F$1)) *COS(RADIANS($B10-F$2))) *3958.756 -> 743.69337 | G10: =ACOS(COS(RADIANS(90-$A10)) *COS(RADIANS(90-G$1)) +SIN(RADIANS(90-$A10)) *SIN(RADIANS(90-G$1)) *COS(RADIANS($B10-G$2))) *3958.756 -> 517.30912 | H10: =ACOS(COS(RADIANS(90-$A10)) *COS(RADIANS(90-H$1)) +SIN(RADIANS(90-$A10)) *SIN(RADIANS(90-H$1)) *COS(RADIANS($B10-H$2))) *3958.756 -> 910.89153 | I10: =ACOS(COS(RADIANS(90-$A10)) *COS(RADIANS(90-I$1)) +SIN(RADIANS(90-$A10)) *SIN(RADIANS(90-I$1)) *COS(RADIANS($B10-I$2))) *3958.756 -> 225.24727 | J10: =ACOS(COS(RADIANS(90-$A10)) *COS(RADIANS(90-J$1)) +SIN(RADIANS(90-$A10)) *SIN(RADIANS(90-J$1)) *COS(RADIANS($B10-J$2))) *3958.756 -> 591.27891 | K10: =ACOS(COS(RADIANS(90-$A10)) *COS(RADIANS(90-K$1)) +SIN(RADIANS(90-$A10)) *SIN(RADIANS(90-K$1)) *COS(RADIANS($B10-K$2))) *3958.756 -> 676.3152 | ... M10: =ACOS(COS(RADIANS(90-$A10)) *COS(RADIANS(90-M$1)) +SIN(RADIANS(90-$A10)) *SIN(RADIANS(90-M$1)) *COS(RADIANS($B10-M$2))) *3958.756 -> 313.78788
A11: 34.139451 | B11: -117.97729 | C11: Mo Trafeh | D11: =ACOS(COS(RADIANS(90-$A11)) *COS(RADIANS(90-D$1)) +SIN(RADIANS(90-$A11)) *SIN(RADIANS(90-D$1)) *COS(RADIANS($B11-D$2))) *3958.756 -> 1569.6224 | E11: =ACOS(COS(RADIANS(90-$A11)) *COS(RADIANS(90-E$1)) +SIN(RADIANS(90-$A11)) *SIN(RADIANS(90-E$1)) *COS(RADIANS($B11-E$2))) *3958.756 -> 2127.8167 | F11: =ACOS(COS(RADIANS(90-$A11)) *COS(RADIANS(90-F$1)) +SIN(RADIANS(90-$A11)) *SIN(RADIANS(90-F$1)) *COS(RADIANS($B11-F$2))) *3958.756 -> 1419.5455 | G11: =ACOS(COS(RADIANS(90-$A11)) *COS(RADIANS(90-G$1)) +SIN(RADIANS(90-$A11)) *SIN(RADIANS(90-G$1)) *COS(RADIANS($B11-G$2))) *3958.756 -> 1835.7957 | H11: =ACOS(COS(RADIANS(90-$A11)) *COS(RADIANS(90-H$1)) +SIN(RADIANS(90-$A11)) *SIN(RADIANS(90-H$1)) *COS(RADIANS($B11-H$2))) *3958.756 -> 1605.1881 | I11: =ACOS(COS(RADIANS(90-$A11)) *COS(RADIANS(90-I$1)) +SIN(RADIANS(90-$A11)) *SIN(RADIANS(90-I$1)) *COS(RADIANS($B11-I$2))) *3958.756 -> 1916.6797 | J11: =ACOS(COS(RADIANS(90-$A11)) *COS(RADIANS(90-J$1)) +SIN(RADIANS(90-$A11)) *SIN(RADIANS(90-J$1)) *COS(RADIANS($B11-J$2))) *3958.756 -> 2482.7217 | K11: =ACOS(COS(RADIANS(90-$A11)) *COS(RADIANS(90-K$1)) +SIN(RADIANS(90-$A11)) *SIN(RADIANS(90-K$1)) *COS(RADIANS($B11-K$2))) *3958.756 -> 2558.6655 | ... M11: =ACOS(COS(RADIANS(90-$A11)) *COS(RADIANS(90-M$1)) +SIN(RADIANS(90-$A11)) *SIN(RADIANS(90-M$1)) *COS(RADIANS($B11-M$2))) *3958.756 -> 2277.7587
A12: 35.198284 | B12: -111.6513 | C12: Nick Arciniaga | D12: =ACOS(COS(RADIANS(90-$A12)) *COS(RADIANS(90-D$1)) +SIN(RADIANS(90-$A12)) *SIN(RADIANS(90-D$1)) *COS(RADIANS($B12-D$2))) *3958.756 -> 1205.592 | E12: =ACOS(COS(RADIANS(90-$A12)) *COS(RADIANS(90-E$1)) +SIN(RADIANS(90-$A12)) *SIN(RADIANS(90-E$1)) *COS(RADIANS($B12-E$2))) *3958.756 -> 1767.8976 | F12: =ACOS(COS(RADIANS(90-$A12)) *COS(RADIANS(90-F$1)) +SIN(RADIANS(90-$A12)) *SIN(RADIANS(90-F$1)) *COS(RADIANS($B12-F$2))) *3958.756 -> 1069.6705 | G12: =ACOS(COS(RADIANS(90-$A12)) *COS(RADIANS(90-G$1)) +SIN(RADIANS(90-$A12)) *SIN(RADIANS(90-G$1)) *COS(RADIANS($B12-G$2))) *3958.756 -> 1485.8376 | H12: =ACOS(COS(RADIANS(90-$A12)) *COS(RADIANS(90-H$1)) +SIN(RADIANS(90-$A12)) *SIN(RADIANS(90-H$1)) *COS(RADIANS($B12-H$2))) *3958.756 -> 1290.2369 | I12: =ACOS(COS(RADIANS(90-$A12)) *COS(RADIANS(90-I$1)) +SIN(RADIANS(90-$A12)) *SIN(RADIANS(90-I$1)) *COS(RADIANS($B12-I$2))) *3958.756 -> 1551.2806 | J12: =ACOS(COS(RADIANS(90-$A12)) *COS(RADIANS(90-J$1)) +SIN(RADIANS(90-$A12)) *SIN(RADIANS(90-J$1)) *COS(RADIANS($B12-J$2))) *3958.756 -> 2124.787 | K12: =ACOS(COS(RADIANS(90-$A12)) *COS(RADIANS(90-K$1)) +SIN(RADIANS(90-$A12)) *SIN(RADIANS(90-K$1)) *COS(RADIANS($B12-K$2))) *3958.756 -> 2202.2051 | ... M12: =ACOS(COS(RADIANS(90-$A12)) *COS(RADIANS(90-M$1)) +SIN(RADIANS(90-$A12)) *SIN(RADIANS(90-M$1)) *COS(RADIANS($B12-M$2))) *3958.756 -> 1914.1312
A13: 32.221743 | B13: -110.92648 | C13: Abdi Abdirahman | D13: =ACOS(COS(RADIANS(90-$A13)) *COS(RADIANS(90-D$1)) +SIN(RADIANS(90-$A13)) *SIN(RADIANS(90-D$1)) *COS(RADIANS($B13-D$2))) *3958.756 -> 1244.6404 | E13: =ACOS(COS(RADIANS(90-$A13)) *COS(RADIANS(90-E$1)) +SIN(RADIANS(90-$A13)) *SIN(RADIANS(90-E$1)) *COS(RADIANS($B13-E$2))) *3958.756 -> 1728.1084 | F13: =ACOS(COS(RADIANS(90-$A13)) *COS(RADIANS(90-F$1)) +SIN(RADIANS(90-$A13)) *SIN(RADIANS(90-F$1)) *COS(RADIANS($B13-F$2))) *3958.756 -> 1152.0179 | G13: =ACOS(COS(RADIANS(90-$A13)) *COS(RADIANS(90-G$1)) +SIN(RADIANS(90-$A13)) *SIN(RADIANS(90-G$1)) *COS(RADIANS($B13-G$2))) *3958.756 -> 1560.7039 | H13: =ACOS(COS(RADIANS(90-$A13)) *COS(RADIANS(90-H$1)) +SIN(RADIANS(90-$A13)) *SIN(RADIANS(90-H$1)) *COS(RADIANS($B13-H$2))) *3958.756 -> 1414.126 | I13: =ACOS(COS(RADIANS(90-$A13)) *COS(RADIANS(90-I$1)) +SIN(RADIANS(90-$A13)) *SIN(RADIANS(90-I$1)) *COS(RADIANS($B13-I$2))) *3958.756 -> 1537.4568 | J13: =ACOS(COS(RADIANS(90-$A13)) *COS(RADIANS(90-J$1)) +SIN(RADIANS(90-$A13)) *SIN(RADIANS(90-J$1)) *COS(RADIANS($B13-J$2))) *3958.756 -> 2175.6438 | K13: =ACOS(COS(RADIANS(90-$A13)) *COS(RADIANS(90-K$1)) +SIN(RADIANS(90-$A13)) *SIN(RADIANS(90-K$1)) *COS(RADIANS($B13-K$2))) *3958.756 -> 2256.3563 | ... M13: =ACOS(COS(RADIANS(90-$A13)) *COS(RADIANS(90-M$1)) +SIN(RADIANS(90-$A13)) *SIN(RADIANS(90-M$1)) *COS(RADIANS($B13-M$2))) *3958.756 -> 1947.0334
A14: 43.702245 | B14: -72.289553 | C14: Ben True | D14: =ACOS(COS(RADIANS(90-$A14)) *COS(RADIANS(90-D$1)) +SIN(RADIANS(90-$A14)) *SIN(RADIANS(90-D$1)) *COS(RADIANS($B14-D$2))) *3958.756 -> 992.90645 | E14: =ACOS(COS(RADIANS(90-$A14)) *COS(RADIANS(90-E$1)) +SIN(RADIANS(90-$A14)) *SIN(RADIANS(90-E$1)) *COS(RADIANS($B14-E$2))) *3958.756 -> 1056.8137 | F14: =ACOS(COS(RADIANS(90-$A14)) *COS(RADIANS(90-F$1)) +SIN(RADIANS(90-$A14)) *SIN(RADIANS(90-F$1)) *COS(RADIANS($B14-F$2))) *3958.756 -> 1090.0165 | G14: =ACOS(COS(RADIANS(90-$A14)) *COS(RADIANS(90-G$1)) +SIN(RADIANS(90-$A14)) *SIN(RADIANS(90-G$1)) *COS(RADIANS($B14-G$2))) *3958.756 -> 673.56555 | H14: =ACOS(COS(RADIANS(90-$A14)) *COS(RADIANS(90-H$1)) +SIN(RADIANS(90-$A14)) *SIN(RADIANS(90-H$1)) *COS(RADIANS($B14-H$2))) *3958.756 -> 984.19605 | I14: =ACOS(COS(RADIANS(90-$A14)) *COS(RADIANS(90-I$1)) +SIN(RADIANS(90-$A14)) *SIN(RADIANS(90-I$1)) *COS(RADIANS($B14-I$2))) *3958.756 -> 945.76364 | J14: =ACOS(COS(RADIANS(90-$A14)) *COS(RADIANS(90-J$1)) +SIN(RADIANS(90-$A14)) *SIN(RADIANS(90-J$1)) *COS(RADIANS($B14-J$2))) *3958.756 -> 168.57122 | K14: =ACOS(COS(RADIANS(90-$A14)) *COS(RADIANS(90-K$1)) +SIN(RADIANS(90-$A14)) *SIN(RADIANS(90-K$1)) *COS(RADIANS($B14-K$2))) *3958.756 -> 137.18124 | ... M14: =ACOS(COS(RADIANS(90-$A14)) *COS(RADIANS(90-M$1)) +SIN(RADIANS(90-$A14)) *SIN(RADIANS(90-M$1)) *COS(RADIANS($B14-M$2))) *3958.756 -> 418.84237
A15: 42.503091 | B15: -83.183539 | C15: Bobby Curtis | D15: =ACOS(COS(RADIANS(90-$A15)) *COS(RADIANS(90-D$1)) +SIN(RADIANS(90-$A15)) *SIN(RADIANS(90-D$1)) *COS(RADIANS($B15-D$2))) *3958.756 -> 455.07485 | E15: =ACOS(COS(RADIANS(90-$A15)) *COS(RADIANS(90-E$1)) +SIN(RADIANS(90-$A15)) *SIN(RADIANS(90-E$1)) *COS(RADIANS($B15-E$2))) *3958.756 -> 845.16597 | F15: =ACOS(COS(RADIANS(90-$A15)) *COS(RADIANS(90-F$1)) +SIN(RADIANS(90-$A15)) *SIN(RADIANS(90-F$1)) *COS(RADIANS($B15-F$2))) *3958.756 -> 538.15329 | G15: =ACOS(COS(RADIANS(90-$A15)) *COS(RADIANS(90-G$1)) +SIN(RADIANS(90-$A15)) *SIN(RADIANS(90-G$1)) *COS(RADIANS($B15-G$2))) *3958.756 -> 130.03494 | H15: =ACOS(COS(RADIANS(90-$A15)) *COS(RADIANS(90-H$1)) +SIN(RADIANS(90-$A15)) *SIN(RADIANS(90-H$1)) *COS(RADIANS($B15-H$2))) *3958.756 -> 528.39031 | I15: =ACOS(COS(RADIANS(90-$A15)) *COS(RADIANS(90-I$1)) +SIN(RADIANS(90-$A15)) *SIN(RADIANS(90-I$1)) *COS(RADIANS($B15-I$2))) *3958.756 -> 608.36242 | J15: =ACOS(COS(RADIANS(90-$A15)) *COS(RADIANS(90-J$1)) +SIN(RADIANS(90-$A15)) *SIN(RADIANS(90-J$1)) *COS(RADIANS($B15-J$2))) *3958.756 -> 533.44952 | K15: =ACOS(COS(RADIANS(90-$A15)) *COS(RADIANS(90-K$1)) +SIN(RADIANS(90-$A15)) *SIN(RADIANS(90-K$1)) *COS(RADIANS($B15-K$2))) *3958.756 -> 604.16091 | ... M15: =ACOS(COS(RADIANS(90-$A15)) *COS(RADIANS(90-M$1)) +SIN(RADIANS(90-$A15)) *SIN(RADIANS(90-M$1)) *COS(RADIANS($B15-M$2))) *3958.756 -> 410.61829
... A61: 44.058173 | B61: -121.31531 | C61: Jared Bassett | D61: =ACOS(COS(RADIANS(90-$A61)) *COS(RADIANS(90-D$1)) +SIN(RADIANS(90-$A61)) *SIN(RADIANS(90-D$1)) *COS(RADIANS($B61-D$2))) *3958.756 -> 1646.6125 | E61: =ACOS(COS(RADIANS(90-$A61)) *COS(RADIANS(90-E$1)) +SIN(RADIANS(90-$A61)) *SIN(RADIANS(90-E$1)) *COS(RADIANS($B61-E$2))) *3958.756 -> 2351.6482 | F61: =ACOS(COS(RADIANS(90-$A61)) *COS(RADIANS(90-F$1)) +SIN(RADIANS(90-$A61)) *SIN(RADIANS(90-F$1)) *COS(RADIANS($B61-F$2))) *3958.756 -> 1407.4241 | G61: =ACOS(COS(RADIANS(90-$A61)) *COS(RADIANS(90-G$1)) +SIN(RADIANS(90-$A61)) *SIN(RADIANS(90-G$1)) *COS(RADIANS($B61-G$2))) *3958.756 -> 1773.8746 | H61: =ACOS(COS(RADIANS(90-$A61)) *COS(RADIANS(90-H$1)) +SIN(RADIANS(90-$A61)) *SIN(RADIANS(90-H$1)) *COS(RADIANS($B61-H$2))) *3958.756 -> 1420.906 | I61: =ACOS(COS(RADIANS(90-$A61)) *COS(RADIANS(90-I$1)) +SIN(RADIANS(90-$A61)) *SIN(RADIANS(90-I$1)) *COS(RADIANS($B61-I$2))) *3958.756 -> 2088.8517 | J61: =ACOS(COS(RADIANS(90-$A61)) *COS(RADIANS(90-J$1)) +SIN(RADIANS(90-$A61)) *SIN(RADIANS(90-J$1)) *COS(RADIANS($B61-J$2))) *3958.756 -> 2429.5134 | K61: =ACOS(COS(RADIANS(90-$A61)) *COS(RADIANS(90-K$1)) +SIN(RADIANS(90-$A61)) *SIN(RADIANS(90-K$1)) *COS(RADIANS($B61-K$2))) *3958.756 -> 2489.8854 | ... M61: =ACOS(COS(RADIANS(90-$A61)) *COS(RADIANS(90-M$1)) +SIN(RADIANS(90-$A61)) *SIN(RADIANS(90-M$1)) *COS(RADIANS($B61-M$2))) *3958.756 -> 2293.6597

Sheet M-CleanRaceMatrix
B1: XC | C1: 15K | D1: 1M | E1: 25K | F1: Half-Marathon | G1: 10K | H1: 20K | I1: 5K | J1: Marathon | K1: 12K
A2: Shadrack Biwott | C2: 2303.9117 | F2: 1567.3787 | G2: 2064.7899 | H2: 2527.4165 | J2: 1492.9562 | K2: 2354.3892 | L2: =COUNT(B2:K2) -> 6
A3: Matt Tegankamp | B3: 1719.2804 | E3: 1824.0109 | G3: 2168.7432 | H3: 2473.5109 | I3: 2530.8125 | K3: 2349.7557 | L3: =COUNT(B3:K3) -> 6
A4: Aaron Braun | I4: 1752.9887 | K4: 1490.5831 | L4: =COUNT(B4:K4) -> 2
A5: Josphat Boit | C5: 2181.5247 | E5: 1780.5616 | F5: 1503.2127 | G5: 1948.0274 | H5: 2439.7504 | J5: 1419.5511 | K5: 2256.8544 | L5: =COUNT(B5:K5) -> 7
A6: Tim Ritchie | C6: 1013.1614 | F6: 1071.657 | H6: 115.77101 | I6: 38.303373 | J6: 1116.1088 | K6: 393.83071 | L6: =COUNT(B6:K6) -> 6
A7: Christo Landry | C7: 833.635 | E7: 108.63726 | J7: 511.1644 | K7: 425.57031 | L7: =COUNT(B7:K7) -> 4
A8: Tyler Pennel | C8: 400.94678 | G8: 225.24727 | K8: 313.78788 | L8: =COUNT(B8:K8) -> 3
A9: Mo Trafeh | C9: 2127.8167 | E9: 1835.7957 | F9: 1605.1881 | L9: =COUNT(B9:K9) -> 3
A10: Nick Arciniaga | F10: 1290.2369 | J10: 1179.3523 | K10: 1914.1312 | L10: =COUNT(B10:K10) -> 3
A11: Abdi Abdirahman | F11: 1414.126 | G11: 1537.4568 | H11: 2175.6438 | K11: 1947.0334 | L11: =COUNT(B11:K11) -> 4
A12: Ben True | B12: 992.90645 | C12: 1056.8137 | L12: =COUNT(B12:K12) -> 2
A13: Bobby Curtis | C13: 845.16597 | G13: 608.36242 | L13: =COUNT(B13:K13) -> 2
A14: Meb Keflezighi | F14: 1636.5616 | G14: 1887.4622 | L14: =COUNT(B14:K14) -> 2
A15: Elliot Krause | B15: 400.12073 | H15: 810.05123 | K15: 697.5111 | L15: =COUNT(B15:K15) -> 3
A16: Craig Curley | B16: 1244.6404 | C16: 1728.1084 | E16: 1560.7039 | J16: 1293.4221 | K16: 1947.0334 | L16: =COUNT(B16:K16) -> 5
A17: Matt Llano | C17: 1767.8976 | H17: 2124.787 | K17: 1914.1312 | L17: =COUNT(B17:K17) -> 3
A18: Chris Derrick | B18: 1719.2804 | L18: =COUNT(B18:K18) -> 1
A19: Ryan Vail | B19: 1719.2804 | C19: 2435.933 | L19: =COUNT(B19:K19) -> 2
A20: Garrett Heath | D20: 1463.1303 | L20: =COUNT(B20:K20) -> 1
A21: Andrew Bumbalough | I21: 2530.8125 | L21: =COUNT(B21:K21) -> 1
A22: Sergio Reyes | C22: 2285.5906 | F22: 1680.2332 | J22: 1591.0958 | L22: =COUNT(B22:K22) -> 3
A23: Dathan Ritzenhein | B23: 1719.2804 | L23: =COUNT(B23:K23) -> 1
A24: Jeff See | D24: 967.58929 | L24: =COUNT(B24:K24) -> 1
A25: Leo Manzano | D25: 816.21949 | L25: =COUNT(B25:K25) -> 1
A26: Joe Moore | E26: 402.5895 | F26: 136.63681 | I26: 1114.9317 | K26: 934.75165 | L26: =COUNT(B26:K26) -> 4
A27: Bobby Mack | B27: 665.41729 | F27: 1030.038 | G27: 355.1617 | L27: =COUNT(B27:K27) -> 3
A28: Luke Puskedra | B28: 1725.2439 | G28: 2174.4866 | L28: =COUNT(B28:K28) -> 2
A29: Sean Quigley | B29: 810.26966 | C29: 1485.7195 | H29: 1687.6843 | L29: =COUNT(B29:K29) -> 3
A30: Jake Schmitt | J30: 1581.3269 | L30: =COUNT(B30:K30) -> 1
A31: Elliot Heath | B31: 1719.2804 | L31: =COUNT(B31:K31) -> 1
A32: Craig Miller | D32: 621.12818 | L32: =COUNT(B32:K32) -> 1
A33: Travis Mahoney | D33: 1007.6261 | L33: =COUNT(B33:K33) -> 1
A34: Joseph Chirlee | B34: 792.85973 | L34: =COUNT(B34:K34) -> 1
A35: Joe Stilin | I35: 676.3152 | K35: 313.78788 | L35: =COUNT(B35:K35) -> 2
A36: Miles Batty | D36: 816.21949 | L36: =COUNT(B36:K36) -> 1
A37: Andrew Carlson | E37: 606.85486 | F37: 221.7172 | L37: =COUNT(B37:K37) -> 2
A38: Jason Hartmann | H38: 1687.6843 | L38: =COUNT(B38:K38) -> 1
A39: Chris Solinsky | I39: 2530.8125 | K39: 2349.7557 | L39: =COUNT(B39:K39) -> 2
A40: Liam Boylan-Pett | D40: 975.11101 | L40: =COUNT(B40:K40) -> 1
A41: Chris Barnicle | F41: 1503.2127 | G41: 1948.0274 | L41: =COUNT(B41:K41) -> 2
A42: John Gilberston | I42: 2511.0475 | K42: 2256.8544 | L42: =COUNT(B42:K42) -> 2
A43: Malcolm Richards | F43: 1657.3826 | J43: 1581.3269 | L43: =COUNT(B43:K43) -> 2
A44: AJ Acosta | D44: 1422.0061 | L44: =COUNT(B44:K44) -> 1
A45: Michael Reneau | E45: 393.73792 | G45: 901.80268 | K45: 925.96615 | L45: =COUNT(B45:K45) -> 3
A46: Ian Burrell | B46: 1244.6404 | F46: 1414.126 | L46: =COUNT(B46:K46) -> 2
A47: Pat Fullerton | I47: 67.56204 | K47: 415.2688 | L47: =COUNT(B47:K47) -> 2
A48: James Strang | B48: 787.40559 | L48: =COUNT(B48:K48) -> 1
A49: Tony Filipek | D49: 535.61273 | K49: 462.32204 | L49: =COUNT(B49:K49) -> 2
A50: Zachary Hine | E50: 1032.2945 | F50: 808.2328 | L50: =COUNT(B50:K50) -> 2
A51: Scott Wietecha | F51: 777.20334 | L51: =COUNT(B51:K51) -> 1
A52: Jake Riley | B52: 462.51732 | G52: 619.21621 | K52: 415.72706 | L52: =COUNT(B52:K52) -> 3
A53: Augustus Maiyo | B53: 787.40559 | C53: 1437.409 | H53: 1685.4262 | L53: =COUNT(B53:K53) -> 3
A54: Scott MacPherson | C54: 958.89906 | E54: 1101.127 | J54: 1045.4357 | L54: =COUNT(B54:K54) -> 3
A55: Richard Medina | B55: 810.26966 | K55: 1502.6869 | L55: =COUNT(B55:K55) -> 2
A56: Donn Cabral | C56: 806.17083 | L56: =COUNT(B56:K56) -> 1
A57: Brian Gagnon | D57: 973.68417 | L57: =COUNT(B57:K57) -> 1
A58: Ben Sathre | C58: 1191.2157 | E58: 414.58863 | K58: 945.32345 | L58: =COUNT(B58:K58) -> 3
A59: Jared Bassett | I59: 2489.8854 | L59: =COUNT(B59:K59) -> 1

Sheet Dirty-Men2013
J1: 41307 | K1: 41342 | L1: 41387 | M1: 41405 | N1: 41447 | O1: 41459 | P1: 41519 | Q1: 41539 | R1: 41553 | S1: 41595
J2: St. Louis | K2: Jacksonville | L2: Des Moines | M2: Grand Rapids | N2: Duluth | O2: Atlanta | P2: New Haven | Q2: Providence | R2: Minneapolis | S2: Alexandria
J3: MO | K3: FL | L3: IA | M3: MI | N3: MN | O3: GA | P3: CT | Q3: RI | R3: MN | S3: VA
A4: Club | B4: Sponsor | C4: Sponsor/Club | D4: City | E4: State | F4: Age | G4: Pl | H4: Name | I4: Prize Money | J4: XC | K4: 15K | L4: 1M | M4: 25K | N4: HM | O4: 10K | P4: 20K | Q4: 5K | R4: MAR (2x) | S4: 12K (3x) | T4: Total
A5: 1 | C5: SRA Elite | D5: Folsom | E5: CA | F5: 28 | G5: 1 | H5: Shadrack Biwott | I5: 34000 | N5: 10 | O5: 10 | P5: 12 | R5: 20 | S5: 36 | T5: 88
A6: 1 | B6: 1 | C6: Nike/Oregon TC | D6: Portland | E6: OR | F6: 31 | G6: 2 | H6: Matt Tegankamp | I6: 23050 | J6: 10 | M6: 10 | O6: 15 | P6: 15 | Q6: 10 | S6: 9 | T6: 69
B7: 1 | C7: Adidas | D7: Englewood | E7: CO | F7: 26 | G7: 3 | H7: Aaron Braun | I7: 23000 | Q7: 12 | S7: 45 | T7: 57
A8: 1 | B8: 1 | C8: Asics/Mammoth TC | D8: Mammoth Lakes | E8: CA | F8: 29 | G8: 4 | H8: Josphat Boit | I8: 23600 | M8: 12 | N8: 6 | O8: 1 | P8: 7 | R8: 24 | S8: 6 | T8: 56
A9: 1 | B9: 1 | C9: Adidas/BAA | D9: Brighton | E9: MA | F9: 26 | G9: 5 | H9: Tim Ritchie | I9: 12900 | K9: 5 | N9: 7 | P9: 3 | Q9: 7 | R9: 10 | S9: 15 | T9: 47
B10: 1 | C10: Mizuno | D10: Ann Arbor | E10: MI | F10: 27 | G10: 6 | H10: Christo Landry | I10: 12500 | K10: 6 | M10: 7 | R10: 12 | S10: 21 | T10: 46
A11: 1 | B11: 1 | C11: Reebok/ZAP Fitness | D11: Blowing Rock | E11: NC | F11: 25 | G11: 7 | H11: Tyler Pennel | I11: 9000 | K11: 2 | O11: 4 | S11: 30 | T11: 36
B12: 1 | C12: Nike | D12: Duarte | E12: CA | F12: 28 | G12: 8 | H12: Mo Trafeh | I12: 19700 | K12: 3 | M12: 15 | N12: 15 | T12: 33
A13: 1 | B13: 1 | C13: Under Armour/Team Run Flagstaff Pro | D13: Flagstaff | E13: AZ | F13: 30 | G13: 9 | H13: Nick Arciniaga | I13: 25000 | R13: 30 | T13: 30
B14: 1 | C14: Nike | D14: Tucson | E14: AZ | F14: 36 | G14: 10 | H14: Abdi Abdirahman | I14: 10500 | N14: 5 | O14: 12 | P14: 10 | T14: 27
B15: 1 | C15: Saucony | D15: Hanover | E15: NH | F15: 27 | G15: 11 | H15: Ben True | I15: 12500 | J15: 6 | K15: 15 | T15: 21
A16: 1 | B16: 1 | C16: Hansons-Brooks | D16: Berkley | E16: MI | F16: 28 | G16: 12 | H16: Bobby Curtis | I16: 8000 | K16: 12 | O16: 7 | T16: 19
A17: 1 | B17: 1 | C17: Asics/Mammoth TC | D17: San Diego | E17: CA | F17: 38 | G17: 13 | H17: Meb Keflezighi | I17: 9500 | N17: 12 | O17: 6 | T17: 18
C18: Unattached | D18: Appleton | E18: WI | F18: 23 | H18: Elliot Krause | I18: 3000 | S18: 18 | T18: 18
C19: Unattached | D19: Tucson | E19: AZ | F19: 25 | G19: 15 | H19: Craig Curley | I19: 3600 | K19: 4 | M19: 6 | R19: 6 | T19: 16
A20: 1 | C20: NAZ Elite | D20: Flagstaff | E20: AZ | F20: 25 | H20: Matt Llano | I20: 1600 | P20: 4 | S20: 12 | T20: 16
A21: 1 | B21: 1 | C21: Nike/Oregon TC | D21: Portland | E21: OR | F21: 22 | G21: 17 | H21: Chris Derrick | I21: 2000 | J21: 15 | T21: 15
B22: 1 | C22: Brooks | D22: Portland | E22: OR | F22: 26 | H22: Ryan Vail | I22: 3400 | J22: 5 | K22: 10 | T22: 15
B23: 1 | C23: Brooks | D23: Seattle | E23: OR | F23: 29 | H23: Garrett Heath | I23: 7500 | L23: 15 | T23: 15
B24: 1 | C24: Nike | D24: Portland | E24: OR | F24: 27 | H24: Andrew Bumbalough | I24: 5000 | Q24: 15 | T24: 15
A25: 1 | C25: Asics Aggie Running Club | D25: Los Osos | E25: CA | F25: 31 | G25: 21 | H25: Sergio Reyes | I25: 7000 | R25: 14 | T25: 14
A26: 1 | B26: 1 | C26: Nike/Oregon Project | D26: Portland | E26: OR | F26: 30 | G26: 22 | H26: Dathan Ritzenhein | I26: 1000 | J26: 12 | T26: 12
B27: 1 | C27: Saucony | D27: Greenville | E27: NC | F27: 27 | H27: Jeff See | I27: 2500 | L27: 12 | T27: 12
C28: Unattached | D28: Austin | E28: TX | F28: 29 | G28: 24 | H28: Leo Manzano | I28: 1500 | L28: 10 | T28: 10
A29: 1 | C29: Twin Cities TC | D29: Minneapolis | E29: MN | F29: 29 | G29: 25 | H29: Joe Moore | I29: 1050 | M29: 4 | Q29: 2 | S29: 3 | T29: 9
C30: Unattached | D30: Raleigh | E30: NC | F30: 28 | G30: 26 | H30: Bobby Mack | I30: 1750 | J30: 4 | N30: 4 | T30: 8
C31: Unattached | D31: Beaverton | E31: OR | F31: 23 | H31: Luke Puskedra | I31: 1200 | J31: 3 | O31: 5 | T31: 8
A32: 1 | C32: Boulder TC | D32: Boulder | E32: CO | F32: 28 | H32: Sean Quigley | I32: 2300 | K32: 7 | P32: 1 | T32: 8
C33: Unattached | D33: San Fransisco | E33: CA | F33: 26 | H33: Jake Schmitt | I33: 3000 | R33: 8 | T33: 8
A34: 1 | B34: 1 | C34: Nike/Oregon TC | D34: Portland | E34: OR | F34: 23 | G34: 30 | H34: Elliot Heath | I34: 600 | J34: 7 | T34: 7
B35: 1 | C35: New Balance | D35: Colorado Springs | E35: CO | F35: 26 | H35: Craig Miller | I35: 1250 | L35: 7 | T35: 7
A36: 1 | C36: NJNY TC | D36: Old Bridge | E36: NJ | F36: 23 | G36: 32 | H36: Travis Mahoney | I36: 1000 | L36: 6 | T36: 6
A37: 1 | C37: WCAP | D37: San Antonio | E37: TX | F37: 33 | H37: Joseph Chirlee | I37: 1000 | P37: 6 | T37: 6
A38: 1 | B38: 1 | C38: Reebok/ZAP Fitness | D38: Blowing Rock | E38: NC | F38: 23 | H38: Joe Stilin | I38: 1000 | Q38: 6 | T38: 6
A39: 1 | B39: 1 | C39: Asics/Austin TC | D39: Austin | E39: TX | F39: 26 | G39: 35 | H39: Miles Batty | I39: 500 | L39: 5 | T39: 5
B40: 1 | C40: Brooks | D40: Fargo | E40: ND | F40: 31 | H40: Andrew Carlson | I40: 600 | M40: 5 | T40: 5
C41: Unattached | D41: Boulder | E41: CO | F41: 33 | H41: Jason Hartmann | I41: 700 | P41: 5 | T41: 5
A42: 1 | B42: 1 | C42: Nike/Oregon TC | D42: Portland | E42: OR | F42: 29 | H42: Chris Solinsky | I42: 900 | Q42: 5 | T42: 5
A43: 1 | C43: NJNY TC | D43: Annandale | E43: NJ | F43: 28 | G43: 39 | H43: Liam Boylan-Pett | I43: 300 | L43: 4 | T43: 4
A44: 1 | B44: 1 | C44: Asics/Mammoth TC | D44: Mammoth Lakes | E44: CA | F44: 26 | H44: Chris Barnicle | I44: 1500 | N44: 1 | O44: 3 | T44: 4
A45: 1 | B45: 1 | C45: Asics/Mammoth TC | D45: Mammoth Lakes | E45: CA | F45: 22 | H45: John Gilberston | I45: 700 | Q45: 4 | T45: 4
A46: 1 | C46: Ujena Fit Club | D46: San Fransisco | E46: CA | F46: 31 | H46: Malcolm Richards | I46: 1000 | R46: 4 | T46: 4
C47: Unattached | D47: Oceanside | E47: CA | F47: 25 | G47: 43 | H47: AJ Acosta | I47: 200 | L47: 3 | T47: 3
A48: 1 | C48: Twin Cities TC | D48: St. Paul | E48: MN | F48: 35 | H48: Michael Reneau | I48: 400 | M48: 3 | T48: 3
A49: 1 | B49: 1 | C49: Adidas/Boulder Running Co | D49: Tucson | E49: AZ | F49: 28 | H49: Ian Burrell | I49: 1000 | N49: 3 | T49: 3
A50: 1 | C50: New Balance | D50: Bradford | E50: MA | F50: 25 | H50: Pat Fullerton | I50: 500 | Q50: 3 | T50: 3
A51: 1 | B51: 1 | C51: Adidas/Boulder Running Co | D51: Colorado Springs | E51: CO | F51: 28 | G51: 47 | H51: James Strang | I51: 150 | J51: 2 | T51: 2
C52: Unattached | D52: Caro | E52: MI | F52: 25 | H52: Tony Filipek | I52: 150 | L52: 2 | T52: 2
B53: 1 | C53: Saucony | D53: Boulder | E53: CO | F53: 25 | H53: Zachary Hine | I53: 200 | M53: 2 | T53: 2
A54: 1 | C54: Nashville Harriers | D54: Hendersonville | E54: TN | F54: 31 | H54: Scott Wietecha | I54: 800 | N54: 2 | T54: 2
A55: 1 | B55: 1 | C55: Hansons-Brooks | D55: Rochester | E55: MI | F55: 25 | H55: Jake Riley | I55: 700 | O55: 2 | T55: 2
A56: 1 | C56: WCAP | D56: Colorado Springs | E56: CO | F56: 30 | H56: Augustus Maiyo | I56: 400 | P56: 2 | T56: 2
A57: 1 | B57: 1 | C57: Adidas/Rogue AC | D57: Austin | E57: TX | F57: 26 | H57: Scott MacPherson | I57: 500 | R57: 2 | T57: 2
C58: Unattached | D58: Boulder | E58: CO | F58: 24 | G58: 54 | H58: Richard Medina | I58: 100 | J58: 1 | T58: 1
B59: 1 | C59: Nike | D59: Clinton | E59: NJ | F59: 24 | H59: Donn Cabral | I59: 500 | K59: 1 | T59: 1
A60: 1 | C60: NJNY TC | D60: Clinton | E60: NJ | F60: 26 | H60: Brian Gagnon | I60: 100 | L60: 1 | T60: 1
A61: 1 | C61: Team USA Minnesota | D61: Chaska | E61: MN | F61: 23 | H61: Ben Sathre | I61: 100 | M61: 1 | T61: 1
B62: 1 | C62: Brooks | D62: Bend | E62: OR | F62: 22 | H62: Jared Bassett | I62: 100 | Q62: 1 | T62: 1

Sheet Race-GeoTable
A1: Race | B1: City | C1: State | D1: Latitude | E1: Longitude
A2: XC | B2: St. Louis | C2: MO | D2: 38.627003 | E2: -90.199404
A3: 15K | B3: Jacksonville | C3: FL | D3: 30.332184 | E3: -81.655651
A4: 1M | B4: Des Moines | C4: IA | D4: 41.600545 | E4: -93.609106
A5: 25K | B5: Grand Rapids | C5: MI | D5: 42.96336 | E5: -85.668086
A6: Half-Marathon | B6: Duluth | C6: MN | D6: 46.786672 | E6: -92.100485
A7: 10K | B7: Atlanta | C7: GA | D7: 33.748995 | E7: -84.387982
A8: 20K | B8: New Haven | C8: CT | D8: 41.308274 | E8: -72.927884
A9: 5K | B9: Providence | C9: RI | D9: 41.823989 | E9: -71.412834
A10: Marathon | B10: Minneapolis | C10: MN | D10: 44.983334 | E10: -93.26667
A11: 12K | B11: Alexandria | C11: VA | D11: 38.804836 | E11: -77.046921
A13: 10M* | B13: Washington | C13: DC | D13: 38.907231 | E13: -77.036464
A14: *Women only
