Workbook

Sheet Stats
A1: Audience | B1: hypothetical | F1: Women | H1: XC | I1: 15K | J1: 10M | K1: 1M | L1: 25K | M1: HM | N1: 10K | O1: 20K | P1: 5K | Q1: MAR | R1: 12K
A2: Insight Need | B2: to compare the depth and participation between women and men competing in the USA Running Circuit - looking at points, age, prize money, support, distance traveled. | G2: Median | H2: 824.26519 | I2: 1193.902 | J2: 931.45875 | K2: 1011.608 | L2: 798.96218 | M2: 813.01874 | N2: 1202.9736 | O2: 1661.4828 | P2: 1308.4811 | Q2: 635.29536 | R2: 1484.85
G3: Mean | H3: 997.17702 | I3: 1275.6335 | J3: 998.33481 | K3: 823.51974 | L3: 722.93226 | M3: 742.71962 | N3: 1049.8935 | O3: 1300.0298 | P3: 1317.9515 | Q3: 532.05328 | R3: 1279.79
G4: Mode | H4: 466.63181 | I4: 400.94678 | J4: #N/A | K4: 234.36106 | L4: 1037.5766 | M4: 136.63681 | N4: 1551.2806 | O4: 1053.2051 | P4: 2202.2051 | Q4: 0 | R4: 934.75
G5: Max | H5: 1741.4142 | I5: 2370.0796 | J5: 2256.0149 | K5: 1547.0379 | L5: 1860.9551 | M5: 1290.2369 | N5: 1551.2806 | O5: 2473.5109 | P5: 2575.0678 | Q5: 1135.0339 | R5: 2374.59
A6: Data Analysis | B6: insights through counts (comparison, centrality measures) and Reduction/Simplification (cluster analysis, centrality measures) | G6: Min | H6: 463.83433 | I6: 339.85617 | J6: 318.31254 | K6: 168.86414 | L6: 0 | M6: 136.63681 | N6: 56.668525 | O6: 113.32444 | P6: 0 | Q6: 0 | R6: 89.86
G7: N | H7: 17 | I7: 23 | J7: 11 | K7: 11 | L7: 10 | M7: 20 | N7: 20 | O7: 11 | P7: 11 | Q7: 11 | R7: 18
G8: Mode:Team(s) | H8: Team USA Minnesota | I8: Boulder Running Co | J8: Zap Fitness | K8: Team USA Minnesota | L8: Boulder Running Co | M8: Boulder Running Co | N8: Boulder Running Co | O8: Boulder Running Co | P8: NAZ Elite | Q8: Team USA Minnesota | R8: Boulder Running Co | S8: Team USA Minnesota
A9: Source | B9: http://www.runnerspace.com/USARunningCircuit | M9: Team USA Minnesota
A10: Constraints | B10: only the athletes who scored (placed in top 10) in a USA Running Circuit race
F11: Men | G11: Median | H11: 992.90645 | I11: 1437.409 | J11: n/a | K11: 970.63673 | L11: 1032.2945 | M11: 1414.126 | N11: 1414.126 | O11: 1906.2356 | P11: 2121.437 | Q11: 1356.4866 | R11: 1217.9533
A12: No. of Records | B12: Total: 119 - 61 women, 58 men | G12: Mean | H12: 1136.4764 | I12: 1462.3482 | J12: n/a | K12: 959.83269 | L12: 1005.5365 | M12: 1207.3215 | N12: 1207.3215 | O12: 1772.7726 | P12: 1624.3471 | Q12: 1281.174 | R12: 1296.6844
A13: Formulas | B13: median [=median(range)] | G13: Mode | H13: 1719.2804 | I13: #N/A | J13: n/a | K13: 816.21949 | L13: #N/A | M13: 1414.126 | N13: 1414.126 | O13: 1687.6843 | P13: 2530.8125 | Q13: 1581.3269 | R13: 313.78788
B14: mode [=mode(range) | G14: Max | H14: 1725.2439 | I14: 2435.933 | J14: n/a | K14: 1463.1303 | L14: 1835.7957 | M14: 1680.2332 | N14: 1680.2332 | O14: 2527.4165 | P14: 2530.8125 | Q14: 1591.0958 | R14: 2354.3892
B15: mean [=average(range)], =INDEX(Range,MATCH(MAX(COUNTIF(Range,Range)),COUNTIF(Range,Range),0))] | G15: Min | H15: 400.12073 | I15: 400.94678 | J15: n/a | K15: 535.61273 | L15: 108.63726 | M15: 136.63681 | N15: 136.63681 | O15: 115.77101 | P15: 38.303373 | Q15: 511.1644 | R15: 313.78788
G16: N | H16: 17 | I16: 17 | J16: n/a | K16: 10 | L16: 11 | M16: 16 | N16: 16 | O16: 10 | P16: 10 | Q16: 10 | R16: 22
G17: Mode:Team(s) | H17: Oregon TC | I17: n/a | J17: n/a | K17: NJNY TC | L17: Twin Cities TC | M17: Mammoth TC | N17: Mammoth TC | O17: n/a | P17: Oregon TC | Q17: n/a | R17: Zap Fitness
B18: count [=count(range)] | R18: Twin Cities TC
B19: Min [=min(range)] | R19: Mammoth TC
B20: Max [=max(range)] | R20: Oregon TC
B21: Vlookup
A23: Attribute Data | B23: pivot tables
A24: Relational Data | B24: age, gender, sponor/club, location, prize money | F24: Sponsor | H24: Adidas | I24: Asics | J24: Brooks | K24: Mizuno | L24: New Balance | M24: Nike | N24: Oiselle | O24: Reebok | P24: Saucony | Q24: Under Armour | S24: TOTAL
A25: *Directed | G25: Women | H25: 9 | I25: 5 | J25: 8 | K25: 2 | L25: 4 | M25: 6 | N25: 2 | O25: 5 | P25: 1 | S25: 42
A26: *Weighted | G26: Men | H26: 5 | I26: 5 | J26: 6 | K26: 1 | L26: 2 | M26: 9 | O26: 2 | P26: 3 | Q26: 1 | S26: 34
A27: Network
F28: Club | I28: Women | J28: Men
A29: Other sources | H29: Asics Aggie Running Club | J29: 1 | K29: =SUM(I29:J29) -> 1
B30: http://mynasadata.larc.nasa.gov/latitudelongitude-finder/ | H30: Austin TC | J30: 1 | K30: =SUM(I30:J30) -> 1
H31: BAA | I31: 3 | J31: 1 | K31: =SUM(I31:J31) -> 4
H32: Boston | I32: 1 | K32: =SUM(I32:J32) -> 1
H33: Boulder Running Co | I33: 5 | J33: 2 | K33: =SUM(I33:J33) -> 7
C34: =C37+D37 -> 119 | H34: Boulder TC | I34: 1 | J34: 1 | K34: =SUM(I34:J34) -> 2
H35: Hansons | I35: 4 | J35: 2 | K35: =SUM(I35:J35) -> 6
C36: Women | D36: Men | H36: Mammoth TC | I36: 2 | J36: 4 | K36: =SUM(I36:J36) -> 6
B37: N | C37: 61 | D37: 58 | H37: Nashville Harriers | J37: 1 | K37: =SUM(I37:J37) -> 1
B38: No. of Races | C38: 11 | D38: 10 | H38: NAZ Elite | I38: 4 | J38: 1 | K38: =SUM(I38:J38) -> 5
A39: Points | H39: New Balance Silicon Valley | I39: 1 | K39: =SUM(I39:J39) -> 1
B40: Median Score | C40: 10 | D40: 7.5 | H40: NJNY TC | I40: 3 | J40: 3 | K40: =SUM(I40:J40) -> 6
B41: Mean Score | C41: 15.163934 | D41: 14.568966 | H41: NYAC | I41: 1 | K41: =SUM(I41:J41) -> 1
...

Sheet W-Sponsor
A1: Athlete | B1: Sponsor/Club | C1: Sponsor | D1: Club | E1: Sponsor | F1: Club
A2: Molly Huddle | B2: Saucony | C2: Saucony | E2: 1 | H2: Adidas | I2: =COUNTIF($C$2:$C$62,H2) -> 9
A3: Shalane Flanagan | B3: Nike/Oregon TC | C3: Nike | D3: Oregon TC | E3: 1 | F3: 1 | H3: Asics | I3: =COUNTIF($C$2:$C$62,H3) -> 5
A4: Mattie Suver | B4: Adidas/Boulder Running Co | C4: Adidas | D4: Boulder Running Co | E4: 1 | F4: 1 | H4: Brooks | I4: =COUNTIF($C$2:$C$62,H4) -> 8
A5: Janet Bawcom | B5: Nike | C5: Nike | E5: 1 | H5: Mizuno | I5: =COUNTIF($C$2:$C$62,H5) -> 2
A6: Brianne Nelson | B6: Adidas/Boulder Running Co | C6: Adidas | D6: Boulder Running Co | E6: 1 | F6: 1 | H6: New Balance | I6: =COUNTIF($C$2:$C$62,H6) -> 4
A7: Annie Bersagel | B7: New Balance Silicon Valley | D7: New Balance Silicon Valley | F7: 1 | H7: Nike | I7: =COUNTIF($C$2:$C$62,H7) -> 6
A8: Laura Thweat | B8: Boulder Track Club | D8: Boulder Track Club | F8: 1 | H8: Oiselle | I8: =COUNTIF($C$2:$C$62,H8) -> 2
A9: Sara Hall | B9: Asics | C9: Asics | E9: 1 | H9: Reebok | I9: =COUNTIF($C$2:$C$62,H9) -> 5
A10: Kim Conley | B10: New Balance/SRA | C10: New Balance | D10: SRA | E10: 1 | F10: 1 | H10: Saucony | I10: =COUNTIF($C$2:$C$62,H10) -> 1
A11: Kellyn Johnson | B11: NAZ Elite | D11: NAZ Elite | F11: 1
A12: Meghan Peyton | B12: Team USA Minnesota | D12: Team USA Minnesota | F12: 1 | H12: BAA | I12: 3
A13: Stephanie Bruce | B13: NAZ Elite | D13: NAZ Elite | F13: 1 | H13: Boston | I13: 1
A14: Laura Portis | B14: Unattached | H14: Boulder Running Co | I14: 5
A15: Esther Erb | B15: Reebok/Zap Fitness | C15: Reebok | D15: Zap Fitness | E15: 1 | F15: 1 | H15: Boulder Track Club | I15: 1
A16: Wendy Thomas | B16: Adidas/Boulder Running Co | C16: Adidas | D16: Boulder Running Co | E16: 1 | F16: 1 | H16: Hansons | I16: 4
A17: Adriana Nelson | B17: Asics | C17: Asics | E17: 1 | H17: Mammoth TC | I17: 2
A18: Emily Infeld | B18: Nike/Oregon TC | C18: Nike | D18: Oregon TC | E18: 1 | F18: 1 | H18: NAZ Elite | I18: 4
A19: Delilah DiCrescenzo | B19: NJNY TC | D19: NJNY TC | F19: 1 | H19: New Balance Silicon Valley | I19: 1
A20: Katie DiCamillo | B20: New Balance/Boston | C20: New Balance | D20: Boston | E20: 1 | F20: 1 | H20: NJNY TC | I20: 3
A21: Michelle Frey | B21: Team USA Minnesota | D21: Team USA Minnesota | F21: 1 | H21: NYAC | I21: 1
A22: Kate Grace | B22: Oiselle | C22: Oiselle | E22: 1 | H22: Oregon TC | I22: 3
A23: Dot McMahan | B23: Hansons-Brooks | C23: Brooks | D23: Hansons | E23: 1 | F23: 1 | H23: SRA | I23: 1
A24: Maegan Krifchin | B24: NAZ Elite | D24: NAZ Elite | F24: 1 | H24: Team Nebraska | I24: 1
A25: Alisha Williams | B25: Adidas/Boulder Running Co | C25: Adidas | D25: Boulder Running Co | E25: 1 | F25: 1 | H25: Team Rono | I25: 1
A26: Desi Davila | B26: Hansons-Brooks | C26: Brooks | D26: Hansons | E26: 1 | F26: 1 | H26: Team USA Minnesota | I26: 7
A27: Neely Spence Gracey | B27: Hansons-Brooks | C27: Brooks | D27: Hansons | E27: 1 | F27: 1 | H27: Zap Fitness | I27: 4
A28: Atalelech Asfaw | B28: Unattached/Team Rono | D28: Team Rono | F28: 1
A29: Deena Kastor | B29: Asics/Mammoth TC | C29: Asics | D29: Mammoth TC | E29: 1 | F29: 1
A30: Sarah Crouch | B30: Reebok/Zap Fitness | C30: Reebok | D30: Zap Fitness | E30: 1 | F30: 1
A31: Heather Kamph | B31: Asics/Team USA Minnesota | C31: Asics | D31: Team USA Minnesota | E31: 1 | F31: 1
A32: Tera Moody | B32: Adidas/Boulder Running Co | C32: Adidas | D32: Boulder Running Co | E32: 1 | F32: 1
A33: Kelly Brinkman | B33: Unattached
A34: Caitlin Comfort | B34: Oiselle | C34: Oiselle | E34: 1
A35: Alexi Pappas | B35: Nike/Oregon TC | C35: Nike | D35: Oregon TC | E35: 1 | F35: 1
A36: Nicole Camp | B36: Unattached
A37: Alissa McKaig | B37: Reebok/Zap Fitness | C37: Reebok | D37: Zap Fitness | E37: 1 | F37: 1
A38: Sarah Brown | B38: New Balance | C38: New Balance | E38: 1
A39: Melissa White | B39: Hansons-Brooks | C39: Brooks | D39: Hansons | E39: 1 | F39: 1
A40: Jen Rhines | B40: Adidas/BAA | C40: Adidas | D40: BAA | E40: 1 | F40: 1
...

Sheet M-Sponsor
A1: Athlete | B1: Sponsor/Club | C1: Sponsor | D1: Club | E1: Sponsor | F1: Club
A2: Shadrack Biwott | B2: SRA Elite | D2: SRA Elite | F2: 1 | H2: Adidas | I2: 5
A3: Matt Tegankamp | B3: Nike/Oregon TC | C3: Nike | D3: Oregon TC | E3: 1 | F3: 1 | H3: Asics | I3: 5
A4: Aaron Braun | B4: Adidas | C4: Adidas | E4: 1 | H4: Brooks | I4: 6
A5: Josphat Boit | B5: Asics/Mammoth TC | C5: Asics | D5: Mammoth TC | E5: 1 | F5: 1 | H5: Mizuno | I5: 1
A6: Tim Ritchie | B6: Adidas/BAA | C6: Adidas | D6: BAA | E6: 1 | F6: 1 | H6: New Balance | I6: 2
A7: Christo Landry | B7: Mizuno | C7: Mizuno | E7: 1 | H7: Nike | I7: 9
A8: Tyler Pennel | B8: Reebok/ZAP Fitness | C8: Reebok | D8: ZAP Fitness | E8: 1 | F8: 1 | H8: Reebok | I8: 2
A9: Mo Trafeh | B9: Nike | C9: Nike | E9: 1 | H9: Saucony | I9: 3
A10: Nick Arciniaga | B10: Under Armour/Team Run Flagstaff Pro | C10: Under Armour | D10: Team Run Flagstaff Pro | E10: 1 | F10: 1 | H10: Under Armour | I10: 1
A11: Abdi Abdirahman | B11: Nike | C11: Nike | E11: 1
A12: Ben True | B12: Saucony | C12: Saucony | E12: 1 | H12: Asics Aggie Running Club | I12: 1
A13: Bobby Curtis | B13: Hansons-Brooks | C13: Brooks | D13: Hansons | E13: 1 | F13: 1 | H13: Austin TC | I13: 1
A14: Meb Keflezighi | B14: Asics/Mammoth TC | C14: Asics | D14: Mammoth TC | E14: 1 | F14: 1 | H14: BAA | I14: 1
A15: Elliot Krause | B15: Unattached | H15: Boulder Running Co | I15: 2
A16: Craig Curley | B16: Unattached | H16: Boulder TC | I16: 1
A17: Matt Llano | B17: NAZ Elite | D17: NAZ Elite | F17: 1 | H17: Hansons | I17: 2
A18: Chris Derrick | B18: Nike/Oregon TC | C18: Nike | D18: Oregon TC | E18: 1 | F18: 1 | H18: Mammoth TC | I18: 4
A19: Ryan Vail | B19: Brooks | C19: Brooks | E19: 1 | H19: Nashville Harriers | I19: 1
A20: Garrett Heath | B20: Brooks | C20: Brooks | E20: 1 | H20: NAZ Elite | I20: 1
A21: Andrew Bumbalough | B21: Nike | C21: Nike | E21: 1 | H21: NJNY TC | I21: 3
A22: Sergio Reyes | B22: Asics Aggie Running Club | D22: Asics Aggie Running Club | F22: 1 | H22: Oregon Project | I22: 1
A23: Dathan Ritzenhein | B23: Nike/Oregon Project | C23: Nike | D23: Oregon Project | E23: 1 | F23: 1 | H23: Oregon TC | I23: 4
A24: Jeff See | B24: Saucony | C24: Saucony | E24: 1 | H24: Rogue AC | I24: 1
A25: Leo Manzano | B25: Unattached | H25: SRA Elite | I25: 1
A26: Joe Moore | B26: Twin Cities TC | D26: Twin Cities TC | F26: 1 | H26: Team Run Flagstaff Pro | I26: 1
A27: Bobby Mack | B27: Unattached | H27: Team USA Minnesota | I27: 1
A28: Luke Puskedra | B28: Unattached | H28: Twin Cities TC | I28: 2
A29: Sean Quigley | B29: Boulder TC | D29: Boulder TC | F29: 1 | H29: Ujena Fit Club | I29: 1
A30: Jake Schmitt | B30: Unattached | H30: WCAP | I30: 2
A31: Elliot Heath | B31: Nike/Oregon TC | C31: Nike | D31: Oregon TC | E31: 1 | F31: 1 | H31: ZAP Fitness | I31: 2
A32: Craig Miller | B32: New Balance | C32: New Balance | E32: 1
A33: Travis Mahoney | B33: NJNY TC | D33: NJNY TC | F33: 1
A34: Joseph Chirlee | B34: WCAP | D34: WCAP | F34: 1
A35: Joe Stilin | B35: Reebok/ZAP Fitness | C35: Reebok | D35: ZAP Fitness | E35: 1 | F35: 1
A36: Miles Batty | B36: Asics/Austin TC | C36: Asics | D36: Austin TC | E36: 1 | F36: 1
A37: Andrew Carlson | B37: Brooks | C37: Brooks | E37: 1
A38: Jason Hartmann | B38: Unattached
A39: Chris Solinsky | B39: Nike/Oregon TC | C39: Nike | D39: Oregon TC | E39: 1 | F39: 1
A40: Liam Boylan-Pett | B40: NJNY TC | D40: NJNY TC | F40: 1
...

Sheet W-RaceDistance
A1: Athlete | B1: Race | C1: Distance Traveled to Race
A2: Meghan Peyton | B2: Marathon | C2: 0
A3: Michelle Frey | B3: Marathon | C3: 0
A4: Molly Huddle | B4: 5K | C4: 0
A5: Theresa Taggart | B5: 25K | C5: 0
A6: Katie McGregor | B6: Marathon | C6: 5.3176258
A7: Annie Bersagel | B7: Marathon | C7: 21.149931
A8: Katie Matthews | B8: 5K | C8: 41.124748
A9: Janet Bawcom | B9: 10K | C9: 56.668525
A10: Delilah DiCrescenzo | B10: 20K | C10: 69.592581
A11: Katie DiCamillo | B11: 20K | C11: 86.043419
A12: Esther Erb | B12: 12K | C12: 89.862454
A13: Frances Koons | B13: 20K | C13: 113.32444
... A167: Alexi Pappas | B167: 5K | C167: 2575.0678
B169: Median | C169: =MEDIAN(C2:C167) -> 978.0251
B170: Mean | C170: =AVERAGE(C2:C167) -> 1008.5523
B171: Mode | C171: =MODE(C2:C167) -> 1551.2806
B172: Max | C172: =MAX(C2:C167) -> 2575.0678
B173: Min | C173: =MIN(C2:C167) -> 0

Sheet M-RaceDistance
A1: Athlete | B1: Race | C1: Distance Traveled to Race
A2: Tim Ritchie | B2: 5K | C2: 38.303373
A3: Pat Fullerton | B3: 5K | C3: 67.56204
A4: Christo Landry | B4: 25K | C4: 108.63726
A5: Tim Ritchie | B5: 20K | C5: 115.77101
A6: Joe Moore | B6: Half-Marathon | C6: 136.63681
A7: Andrew Carlson | B7: Half-Marathon | C7: 221.7172
A8: Tyler Pennel | B8: 10K | C8: 225.24727
A9: Joe Stilin | B9: 12K | C9: 313.78788
A10: Tyler Pennel | B10: 12K | C10: 313.78788
A11: Bobby Mack | B11: 10K | C11: 355.1617
A12: Michael Reneau | B12: 25K | C12: 393.73792
A13: Tim Ritchie | B13: 12K | C13: 393.83071
... A136: Matt Tegankamp | B136: 5K | C136: 2530.8125
B138: Median | C138: =MEDIAN(C2:C136) -> 1293.4221
B139: Mean | C139: =AVERAGE(C2:C136) -> 1303.0012
B140: Mode | C140: =MODE(C2:C136) -> 1719.2804
B141: Max | C141: =MAX(C2:C136) -> 2530.8125
B142: Min | C142: =MIN(C2:C136) -> 38.303373

Sheet W-RacePivotTable
A3: Count of Value | B3: Column Labels
A4: Row Labels | B4: 10K | C4: 10M | D4: 12K | E4: 15K | F4: 1M | G4: 20K | H4: 25K | I4: 5K | J4: Half-Marathon | K4: Marathon | L4: XC | M4: Grand Total
A5: Adriana Nelson | B5: 1 | J5: 1 | M5: 2
A6: Alexi Pappas | I6: 1 | M6: 1
A7: Alice Schmidt | F7: 1 | M7: 1
A8: Alisha Williams | E8: 1 | G8: 1 | M8: 2
A9: Alissa McKaig | E9: 1 | L9: 1 | M9: 2
A10: Amy Van Alstine | B10: 1 | I10: 1 | M10: 2
A11: Annie Bersagel | C11: 1 | D11: 1 | E11: 1 | K11: 1 | L11: 1 | M11: 5
A12: Ashley Miller | F12: 1 | I12: 1 | M12: 2
A13: Atalelech Asfaw | D13: 1 | E13: 1 | J13: 1 | K13: 1 | M13: 4
A14: Brianne Nelson | B14: 1 | C14: 1 | D14: 1 | E14: 1 | H14: 1 | J14: 1 | L14: 1 | M14: 7
A15: Caitlin Comfort | D15: 1 | G15: 1 | M15: 2
A16: Chelsea Reilly | E16: 1 | L16: 1 | M16: 2
A17: Clara Grandt | B17: 1 | C17: 1 | M17: 2
A18: Deborah Maier | I18: 1 | M18: 1
A19: Deena Kastor | L19: 1 | M19: 1
A20: Delilah DiCrescenzo | B20: 1 | E20: 1 | G20: 1 | L20: 1 | M20: 4
A21: Desi Davila | J21: 1 | M21: 1
A22: Dot McMahan | E22: 1 | H22: 1 | M22: 2
A23: Emily Infeld | G23: 1 | L23: 1 | M23: 2
A24: Esther Erb | B24: 1 | D24: 1 | G24: 1 | J24: 1 | K24: 1 | M24: 5
A25: Frances Koons | G25: 1 | I25: 1 | L25: 1 | M25: 3
A26: Gabriele Grunewald | F26: 1 | M26: 1
A27: Heather Cappello | C27: 1 | E27: 1 | M27: 2
A28: Heather Kamph | F28: 1 | M28: 1
A29: Jamie Cheever | L29: 1 | M29: 1
A30: Janet Bawcom | B30: 1 | C30: 1 | E30: 1 | M30: 3
A31: Jen Rhines | C31: 1 | E31: 1 | M31: 2
A32: Kate Grace | F32: 1 | M32: 1
A33: Katie DiCamillo | B33: 1 | C33: 1 | E33: 1 | G33: 1 | M33: 4
A34: Katie Matthews | B34: 1 | D34: 1 | I34: 1 | M34: 3
A35: Katie McGregor | B35: 1 | E35: 1 | H35: 1 | J35: 1 | K35: 1 | M35: 5
A36: Kelly Brinkman | D36: 1 | G36: 1 | J36: 1 | M36: 3
A37: Kellyn Johnson | B37: 1 | C37: 1 | D37: 1 | E37: 1 | F37: 1 | I37: 1 | L37: 1 | M37: 7
A38: Kim Conley | D38: 1 | L38: 1 | M38: 2
A39: Kristen Fryburg-Zaitz | B39: 1 | G39: 1 | J39: 1 | M39: 3
A40: Ladia Abertson-Junkans | C40: 1 | E40: 1 | J40: 1 | L40: 1 | M40: 4
A41: Laura Portis | K41: 1 | M41: 1
A42: Laura Thweat | B42: 1 | D42: 1 | E42: 1 | G42: 1 | I42: 1 | M42: 5
...

Sheet M-RacePivotTable
A3: Count of Value | B3: Column Labels
A4: Row Labels | B4: 10K | C4: 12K | D4: 15K | E4: 1M | F4: 20K | G4: 25K | H4: 5K | I4: Half-Marathon | J4: Marathon | K4: XC | L4: Grand Total
A5: Aaron Braun | C5: 1 | H5: 1 | L5: 2
A6: Abdi Abdirahman | B6: 1 | C6: 1 | F6: 1 | I6: 1 | L6: 4
A7: AJ Acosta | E7: 1 | L7: 1
A8: Andrew Bumbalough | H8: 1 | L8: 1
A9: Andrew Carlson | G9: 1 | I9: 1 | L9: 2
A10: Augustus Maiyo | D10: 1 | F10: 1 | K10: 1 | L10: 3
A11: Ben Sathre | C11: 1 | D11: 1 | G11: 1 | L11: 3
A12: Ben True | D12: 1 | K12: 1 | L12: 2
A13: Bobby Curtis | B13: 1 | D13: 1 | L13: 2
A14: Bobby Mack | B14: 1 | I14: 1 | K14: 1 | L14: 3
A15: Brian Gagnon | E15: 1 | L15: 1
A16: Chris Barnicle | B16: 1 | I16: 1 | L16: 2
A17: Chris Derrick | K17: 1 | L17: 1
A18: Chris Solinsky | C18: 1 | H18: 1 | L18: 2
A19: Christo Landry | C19: 1 | D19: 1 | G19: 1 | J19: 1 | L19: 4
A20: Craig Curley | C20: 1 | D20: 1 | G20: 1 | J20: 1 | K20: 1 | L20: 5
A21: Craig Miller | E21: 1 | L21: 1
A22: Dathan Ritzenhein | K22: 1 | L22: 1
A23: Donn Cabral | D23: 1 | L23: 1
A24: Elliot Heath | K24: 1 | L24: 1
A25: Elliot Krause | C25: 1 | F25: 1 | K25: 1 | L25: 3
A26: Garrett Heath | E26: 1 | L26: 1
A27: Ian Burrell | I27: 1 | K27: 1 | L27: 2
A28: Jake Riley | B28: 1 | C28: 1 | K28: 1 | L28: 3
A29: Jake Schmitt | J29: 1 | L29: 1
A30: James Strang | K30: 1 | L30: 1
A31: Jared Bassett | H31: 1 | L31: 1
A32: Jason Hartmann | F32: 1 | L32: 1
A33: Jeff See | E33: 1 | L33: 1
A34: Joe Moore | C34: 1 | G34: 1 | H34: 1 | I34: 1 | L34: 4
A35: Joe Stilin | C35: 1 | H35: 1 | L35: 2
A36: John Gilberston | C36: 1 | H36: 1 | L36: 2
A37: Joseph Chirlee | K37: 1 | L37: 1
A38: Josphat Boit | B38: 1 | C38: 1 | D38: 1 | F38: 1 | G38: 1 | I38: 1 | J38: 1 | L38: 7
A39: Leo Manzano | E39: 1 | L39: 1
A40: Liam Boylan-Pett | E40: 1 | L40: 1
A41: Luke Puskedra | B41: 1 | K41: 1 | L41: 2
A42: Malcolm Richards | I42: 1 | J42: 1 | L42: 2
...

Sheet 10k
B1: Athlete | C1: Distance Travelled | F1: Athlete | G1: Distance | H1: Place
A2: Nike | B2: Janet Bawcom | C2: 56.668525 | E2: Reebok/ZAP Fitness | F2: Tyler Pennel | G2: 225.24727
A3: Reebok/Zap Fitness | B3: Esther Erb | C3: 469.88843 | E3: unattached | F3: Bobby Mack | G3: 355.1617 | L3: Mode: Team
A4: Mizuno | B4: Clara Grandt | C4: 474.58607 | E4: Hansons-Brooks | F4: Bobby Curtis | G4: 608.36242 | K4: Women | L4: Adidas/Boulder Running Co
A5: Mizuno | B5: Serena Burla | C5: 535.60422 | E5: Hansons-Brooks | F5: Jake Riley | G5: 619.21621 | K5: Men | L5: Asics/Mammoth TC
A6: NJNY TC | B6: Delilah DiCrescenzo | C6: 745.9073 | E6: Twin Cities TC | F6: Michael Reneau | G6: 901.80268
A7: New Balance/Boston | B7: Katie DiCamillo | C7: 900.06481 | E7: Nike | F7: Abdi Abdirahman | G7: 1537.4568
A8: Team USA Minnesota | B8: Meghan Peyton | C8: 908.34099 | E8: Asics/Mammoth TC | F8: Meb Keflezighi | G8: 1887.4622
A9: Reebok | B9: Katie McGregor | C9: 909.8682 | E9: Asics/Mammoth TC | F9: Chris Barnicle | G9: 1948.0274
A10: Adidas/BAA | B10: Katie Matthews | C10: 935.92913 | E10: Asics/Mammoth TC | F10: Josphat Boit | G10: 1948.0274
A11: Adidas/Boulder Running Co | B11: Mattie Suver | C11: 1187.9724 | E11: SRA Elite | F11: Shadrack Biwott | G11: 2064.7899
A12: Brooks/Team USA Minnesota | B12: Kristen Fryburg-Zaitz | C12: 1217.9748 | E12: Nike/Oregon TC | F12: Matt Tegankamp | G12: 2168.7432
A13: Adidas/Boulder Running Co | B13: Wendy Thomas | C13: 1218.4373 | E13: unattached | F13: Luke Puskedra | G13: 2174.4866
A14: Adidas/Boulder Running Co | B14: Brianne Nelson | C14: 1222.2209
A15: Asics | B15: Adriana Nelson | C15: 1229.0016 | F15: Median | G15: =MEDIAN(G2:G13) -> 1712.4595
A16: Boulder Track Club | B16: Laura Thweat | C16: 1229.0016 | F16: Mean | G16: =AVERAGE(G2:G13) -> 1369.8986
A17: Adidas/NAZ Elite | B17: Amy Van Alstine | C17: 1551.2806 | F17: Mode | G17: =MODE(G2:G13) -> 1948.0274
A18: NAZ Elite | B18: Kellyn Johnson | C18: 1551.2806 | F18: Max | G18: =MAX(G2:G13) -> 2174.4866
A19: NAZ Elite | B19: Maegan Krifchin | C19: 1551.2806 | F19: Min | G19: =MIN(G2:G13) -> 225.24727
A20: Asics | B20: Sara Hall | C20: 1551.2806 | F20: N | G20: =COUNT(G2:G13) -> 12
A21: NAZ Elite | B21: Stephanie Bruce | C21: 1551.2806
B23: Median | C23: =MEDIAN(C2:C21) -> 1202.9736
B24: Mean | C24: =AVERAGE(C2:C21) -> 1049.8935
B25: Mode | C25: =MODE(C2:C21) -> 1551.2806
B26: Max | C26: =MAX(C2:C21) -> 1551.2806
B27: Min | C27: =MIN(C2:C21) -> 56.668525
B28: N | C28: =COUNT(C2:C21) -> 20

Sheet 10M
B1: Athlete | C1: Distance
A2: =VLOOKUP(B2,'W-Sponsor'!$A$2:$B$62,2,FALSE) -> Mizuno | B2: Clara Grandt | C2: 163.9354
A3: =VLOOKUP(B3,'W-Sponsor'!$A$2:$B$62,2,FALSE) -> Reebok/Zap Fitness | B3: Sarah Crouch | C3: 318.31254
A4: =VLOOKUP(B4,'W-Sponsor'!$A$2:$B$62,2,FALSE) -> Reebok/Zap Fitness | B4: Stephanie Pezzullo | C4: 329.62454
A5: =VLOOKUP(B5,'W-Sponsor'!$A$2:$B$62,2,FALSE) -> New Balance/Boston | B5: Katie DiCamillo | C5: 358.00887
A6: =VLOOKUP(B6,'W-Sponsor'!$A$2:$B$62,2,FALSE) -> Adidas/BAA | B6: Heather Cappello | C6: 393.62269
A7: =VLOOKUP(B7,'W-Sponsor'!$A$2:$B$62,2,FALSE) -> Nike | B7: Janet Bawcom | C7: 553.34344
A8: =VLOOKUP(B8,'W-Sponsor'!$A$2:$B$62,2,FALSE) -> Team USA Minnesota | B8: Ladia Abertson-Junkans | C8: 931.45875
A9: =VLOOKUP(B9,'W-Sponsor'!$A$2:$B$62,2,FALSE) -> New Balance Silicon Valley | B9: Annie Bersagel | C9: 946.53441
A10: =VLOOKUP(B10,'W-Sponsor'!$A$2:$B$62,2,FALSE) -> Adidas/Boulder Running Co | B10: Wendy Thomas | C10: 1479.2815
A11: =VLOOKUP(B11,'W-Sponsor'!$A$2:$B$62,2,FALSE) -> Adidas/Boulder Running Co | B11: Brianne Nelson | C11: 1501.1981
A12: =VLOOKUP(B12,'W-Sponsor'!$A$2:$B$62,2,FALSE) -> NAZ Elite | B12: Kellyn Johnson | C12: 1914.2832
A13: =VLOOKUP(B13,'W-Sponsor'!$A$2:$B$62,2,FALSE) -> Adidas/BAA | B13: Jen Rhines | C13: 2256.0149
B15: Median | C15: =MEDIAN(C3:C13) -> 931.45875
B16: Mean | C16: =AVERAGE(C3:C13) -> 998.33481
A17: {=INDEX(A2:A13,MATCH(MAX(COUNTIF(A2:A13,A2:A13)),COUNTIF(A2:A13,A2:A13),0))} -> Reebok/Zap Fitness | B17: Mode | C17: =MODE(C3:C13) -> #N/A
B18: Max | C18: =MAX(C3:C13) -> 2256.0149
B19: Min | C19: =MIN(C3:C13) -> 318.31254
B20: N | C20: =COUNT(C3:C13) -> 11

Sheet 12k
B1: Athlete | C1: Distance | D1: Place | F1: Athlete | G1: Distance | H1: Place
A2: =VLOOKUP(B2,'W-Sponsor'!$A$2:$B$62,2,FALSE) -> Reebok/Zap Fitness | B2: Esther Erb | C2: 89.862454 | E2: =VLOOKUP(F2,'M-Sponsor'!$A$2:$B$59,2,FALSE) -> Reebok/ZAP Fitness | F2: Joe Stilin | G2: 313.78788 | K2: Mode:Team
A3: =VLOOKUP(B3,'W-Sponsor'!$A$2:$B$62,2,FALSE) -> Nike/NJNY TC | B3: Renee Tomlin | C3: 136.63249 | E3: =VLOOKUP(F3,'M-Sponsor'!$A$2:$B$59,2,FALSE) -> Reebok/ZAP Fitness | F3: Tyler Pennel | G3: 313.78788 | K3: Women | L3: {=INDEX(A2:A19,MATCH(MAX(COUNTIF(A2:A19,A2:A19)),COUNTIF(A2:A19,A2:A19),0))} -> Adidas/Boulder Running Co
A4: =VLOOKUP(B4,'W-Sponsor'!$A$2:$B$62,2,FALSE) -> Saucony | B4: Molly Huddle | C4: 362.66674 | E4: =VLOOKUP(F4,'M-Sponsor'!$A$2:$B$59,2,FALSE) -> Adidas/BAA | F4: Tim Ritchie | G4: 393.83071 | K4: Men | L4: {=INDEX(E2:E23,MATCH(MAX(COUNTIF(E2:E23,E2:E23)),COUNTIF(E2:E23,E2:E23),0))} -> Unattached
A5: =VLOOKUP(B5,'W-Sponsor'!$A$2:$B$62,2,FALSE) -> Adidas/BAA | B5: Katie Matthews | C5: 398.56212 | E5: =VLOOKUP(F5,'M-Sponsor'!$A$2:$B$59,2,FALSE) -> New Balance | F5: Pat Fullerton | G5: 415.2688 | L5: Zap Fitness
A6: =VLOOKUP(B6,'W-Sponsor'!$A$2:$B$62,2,FALSE) -> Oiselle | B6: Caitlin Comfort | C6: 708.12297 | E6: =VLOOKUP(F6,'M-Sponsor'!$A$2:$B$59,2,FALSE) -> Hansons-Brooks | F6: Jake Riley | G6: 415.72706 | L6: Twin Cities TC
A7: =VLOOKUP(B7,'W-Sponsor'!$A$2:$B$62,2,FALSE) -> Unattached | B7: Kelly Brinkman | C7: 934.75165 | D7: unattached | E7: =VLOOKUP(F7,'M-Sponsor'!$A$2:$B$59,2,FALSE) -> Mizuno | F7: Christo Landry | G7: 425.57031 | L7: Mammoth TC
A8: =VLOOKUP(B8,'W-Sponsor'!$A$2:$B$62,2,FALSE) -> Team USA Minnesota | B8: Meghan Peyton | C8: 934.75165 | E8: =VLOOKUP(F8,'M-Sponsor'!$A$2:$B$59,2,FALSE) -> Unattached | F8: Tony Filipek | G8: 462.32204 | L8: Oregon TC
A9: =VLOOKUP(B9,'W-Sponsor'!$A$2:$B$62,2,FALSE) -> New Balance Silicon Valley | B9: Annie Bersagel | C9: 949.72646 | E9: =VLOOKUP(F9,'M-Sponsor'!$A$2:$B$59,2,FALSE) -> Unattached | F9: Elliot Krause | G9: 697.5111
A10: =VLOOKUP(B10,'W-Sponsor'!$A$2:$B$62,2,FALSE) -> Adidas/Boulder Running Co | B10: Wendy Thomas | C10: 1480.3536 | E10: =VLOOKUP(F10,'M-Sponsor'!$A$2:$B$59,2,FALSE) -> Twin Cities TC | F10: Michael Reneau | G10: 925.96615
A11: =VLOOKUP(B11,'W-Sponsor'!$A$2:$B$62,2,FALSE) -> Adidas/Boulder Running Co | B11: Mattie Suver | C11: 1489.3379 | E11: =VLOOKUP(F11,'M-Sponsor'!$A$2:$B$59,2,FALSE) -> Twin Cities TC | F11: Joe Moore | G11: 934.75165
A12: =VLOOKUP(B12,'W-Sponsor'!$A$2:$B$62,2,FALSE) -> Adidas/Boulder Running Co | B12: Brianne Nelson | C12: 1502.0386 | E12: =VLOOKUP(F12,'M-Sponsor'!$A$2:$B$59,2,FALSE) -> Team USA Minnesota | F12: Ben Sathre | G12: 945.32345
A13: =VLOOKUP(B13,'W-Sponsor'!$A$2:$B$62,2,FALSE) -> Boulder Track Club | B13: Laura Thweat | C13: 1502.6869 | E13: =VLOOKUP(F13,'M-Sponsor'!$A$2:$B$59,2,FALSE) -> Adidas | F13: Aaron Braun | G13: 1490.5831
A14: =VLOOKUP(B14,'W-Sponsor'!$A$2:$B$62,2,FALSE) -> Unattached/Team Rono | B14: Atalelech Asfaw | C14: 1644.7158 | E14: =VLOOKUP(F14,'M-Sponsor'!$A$2:$B$59,2,FALSE) -> Unattached | F14: Richard Medina | G14: 1502.6869
A15: =VLOOKUP(B15,'W-Sponsor'!$A$2:$B$62,2,FALSE) -> NAZ Elite | B15: Kellyn Johnson | C15: 1914.1312 | E15: =VLOOKUP(F15,'M-Sponsor'!$A$2:$B$59,2,FALSE) -> NAZ Elite | F15: Matt Llano | G15: 1914.1312
A16: =VLOOKUP(B16,'W-Sponsor'!$A$2:$B$62,2,FALSE) -> Asics | B16: Sara Hall | C16: 1914.1312 | E16: =VLOOKUP(F16,'M-Sponsor'!$A$2:$B$59,2,FALSE) -> Under Armour/Team Run Flagstaff Pro | F16: Nick Arciniaga | G16: 1914.1312
A17: =VLOOKUP(B17,'W-Sponsor'!$A$2:$B$62,2,FALSE) -> Asics/Mammoth TC | B17: Lauren Jimison | C17: 2349.3507 | E17: =VLOOKUP(F17,'M-Sponsor'!$A$2:$B$59,2,FALSE) -> Nike | F17: Abdi Abdirahman | G17: 1947.0334
A18: =VLOOKUP(B18,'W-Sponsor'!$A$2:$B$62,2,FALSE) -> Nike/Oregon TC | B18: Shalane Flanagan | C18: 2349.7557 | E18: =VLOOKUP(F18,'M-Sponsor'!$A$2:$B$59,2,FALSE) -> Unattached | F18: Craig Curley | G18: 1947.0334
A19: =VLOOKUP(B19,'W-Sponsor'!$A$2:$B$62,2,FALSE) -> New Balance/SRA | B19: Kim Conley | C19: 2374.5858 | E19: =VLOOKUP(F19,'M-Sponsor'!$A$2:$B$59,2,FALSE) -> Asics/Mammoth TC | F19: John Gilberston | G19: 2256.8544
E20: =VLOOKUP(F20,'M-Sponsor'!$A$2:$B$59,2,FALSE) -> Asics/Mammoth TC | F20: Josphat Boit | G20: 2256.8544
B21: Median | C21: 1484.8458 | E21: =VLOOKUP(F21,'M-Sponsor'!$A$2:$B$59,2,FALSE) -> Nike/Oregon TC | F21: Chris Solinsky | G21: 2349.7557
B22: Mean | C22: 1279.7869 | E22: =VLOOKUP(F22,'M-Sponsor'!$A$2:$B$59,2,FALSE) -> Nike/Oregon TC | F22: Matt Tegankamp | G22: 2349.7557
B23: Mode | C23: 934.75165 | E23: =VLOOKUP(F23,'M-Sponsor'!$A$2:$B$59,2,FALSE) -> SRA Elite | F23: Shadrack Biwott | G23: 2354.3892
B24: Max | C24: 2374.5858
B25: Min | C25: 89.862454 | F25: Median | G25: 1217.9533
B26: N | C26: 18 | F26: Mean | G26: 1296.6844
F27: Mode | G27: 313.78788
F28: Max | G28: 2354.3892
F29: Min | G29: 313.78788
F30: N | G30: 22

Sheet 15k
B1: Athlete | C1: Distance | F1: Athlete | G1: Distance
A2: =VLOOKUP(B2,'W-Sponsor'!$A$2:$B$62,2,FALSE) -> Nike | B2: Janet Bawcom | C2: 339.85617 | E2: =VLOOKUP(F2,'M-Sponsor'!$A$2:$B$59,2,FALSE) -> Reebok/ZAP Fitness | F2: Tyler Pennel | G2: 400.94678
A3: =VLOOKUP(B3,'W-Sponsor'!$A$2:$B$62,2,FALSE) -> Reebok/Zap Fitness | B3: Alissa McKaig | C3: 400.94678 | E3: =VLOOKUP(F3,'M-Sponsor'!$A$2:$B$59,2,FALSE) -> Nike | F3: Donn Cabral | G3: 806.17083
A4: =VLOOKUP(B4,'W-Sponsor'!$A$2:$B$62,2,FALSE) -> Reebok/Zap Fitness | B4: Sarah Crouch | C4: 400.94678 | E4: =VLOOKUP(F4,'M-Sponsor'!$A$2:$B$59,2,FALSE) -> Mizuno | F4: Christo Landry | G4: 833.635 | J4: mode:
A5: =VLOOKUP(B5,'W-Sponsor'!$A$2:$B$62,2,FALSE) -> NJNY TC | B5: Delilah DiCrescenzo | C5: 835.61014 | E5: =VLOOKUP(F5,'M-Sponsor'!$A$2:$B$59,2,FALSE) -> Hansons-Brooks | F5: Bobby Curtis | G5: 845.16597 | J5: Women | K5: {=INDEX(A2:A24,MATCH(MAX(COUNTIF(A2:A24,A2:A24)),COUNTIF(A2:A24,A2:A24),0))} -> Adidas/Boulder Running Co
A6: =VLOOKUP(B6,'W-Sponsor'!$A$2:$B$62,2,FALSE) -> Hansons-Brooks | B6: Dot McMahan | C6: 855.65053 | E6: =VLOOKUP(F6,'M-Sponsor'!$A$2:$B$59,2,FALSE) -> Adidas/Rogue AC | F6: Scott MacPherson | G6: 958.89906 | J6: Men | K6: {=INDEX(E2:E18,MATCH(MAX(COUNTIF(E2:E18,E2:E18)),COUNTIF(E2:E18,E2:E18),0))} -> Nike
A7: =VLOOKUP(B7,'W-Sponsor'!$A$2:$B$62,2,FALSE) -> Hansons-Brooks | B7: Melissa White | C7: 864.80305 | E7: =VLOOKUP(F7,'M-Sponsor'!$A$2:$B$59,2,FALSE) -> Adidas/BAA | F7: Tim Ritchie | G7: 1013.1614
A8: =VLOOKUP(B8,'W-Sponsor'!$A$2:$B$62,2,FALSE) -> New Balance/Boston | B8: Katie DiCamillo | C8: 976.96323 | E8: =VLOOKUP(F8,'M-Sponsor'!$A$2:$B$59,2,FALSE) -> Saucony | F8: Ben True | G8: 1056.8137
A9: =VLOOKUP(B9,'W-Sponsor'!$A$2:$B$62,2,FALSE) -> Adidas/BAA | B9: Heather Cappello | C9: 1017.0867 | E9: =VLOOKUP(F9,'M-Sponsor'!$A$2:$B$59,2,FALSE) -> Team USA Minnesota | F9: Ben Sathre | G9: 1191.2157
A10: =VLOOKUP(B10,'W-Sponsor'!$A$2:$B$62,2,FALSE) -> Unnattached | B10: Sheri Piers | C10: 1116.5815 | E10: =VLOOKUP(F10,'M-Sponsor'!$A$2:$B$59,2,FALSE) -> WCAP | F10: Augustus Maiyo | G10: 1437.409
A11: =VLOOKUP(B11,'W-Sponsor'!$A$2:$B$62,2,FALSE) -> Team USA Minnesota | B11: Ladia Abertson-Junkans | C11: 1192.2458 | E11: =VLOOKUP(F11,'M-Sponsor'!$A$2:$B$59,2,FALSE) -> Boulder TC | F11: Sean Quigley | G11: 1485.7195
A12: =VLOOKUP(B12,'W-Sponsor'!$A$2:$B$62,2,FALSE) -> Team USA Minnesota | B12: Meghan Peyton | C12: 1192.2458 | E12: =VLOOKUP(F12,'M-Sponsor'!$A$2:$B$59,2,FALSE) -> Unattached | F12: Craig Curley | G12: 1728.1084
A13: =VLOOKUP(B13,'W-Sponsor'!$A$2:$B$62,2,FALSE) -> Reebok | B13: Katie McGregor | C13: 1193.902 | E13: =VLOOKUP(F13,'M-Sponsor'!$A$2:$B$59,2,FALSE) -> NAZ Elite | F13: Matt Llano | G13: 1767.8976
A14: =VLOOKUP(B14,'W-Sponsor'!$A$2:$B$62,2,FALSE) -> New Balance Silicon Valley | B14: Annie Bersagel | C14: 1196.8038 | E14: =VLOOKUP(F14,'M-Sponsor'!$A$2:$B$59,2,FALSE) -> Nike | F14: Mo Trafeh | G14: 2127.8167
A15: =VLOOKUP(B15,'W-Sponsor'!$A$2:$B$62,2,FALSE) -> Adidas/Boulder Running Co | B15: Mattie Suver | C15: 1437.409 | E15: =VLOOKUP(F15,'M-Sponsor'!$A$2:$B$59,2,FALSE) -> Asics/Mammoth TC | F15: Josphat Boit | G15: 2181.5247
A16: =VLOOKUP(B16,'W-Sponsor'!$A$2:$B$62,2,FALSE) -> Adidas/Boulder Running Co | B16: Brianne Nelson | C16: 1477.3727 | E16: =VLOOKUP(F16,'M-Sponsor'!$A$2:$B$59,2,FALSE) -> Asics Aggie Running Club | F16: Sergio Reyes | G16: 2285.5906
A17: =VLOOKUP(B17,'W-Sponsor'!$A$2:$B$62,2,FALSE) -> Unattached/Team Rono | B17: Atalelech Asfaw | C17: 1483.4349 | E17: =VLOOKUP(F17,'M-Sponsor'!$A$2:$B$59,2,FALSE) -> SRA Elite | F17: Shadrack Biwott | G17: 2303.9117
A18: =VLOOKUP(B18,'W-Sponsor'!$A$2:$B$62,2,FALSE) -> Adidas/Boulder Running Co | B18: Alisha Williams | C18: 1485.7195 | E18: =VLOOKUP(F18,'M-Sponsor'!$A$2:$B$59,2,FALSE) -> Brooks | F18: Ryan Vail | G18: 2435.933
A19: =VLOOKUP(B19,'W-Sponsor'!$A$2:$B$62,2,FALSE) -> Boulder Track Club | B19: Laura Thweat | C19: 1485.7195
A20: =VLOOKUP(B20,'W-Sponsor'!$A$2:$B$62,2,FALSE) -> NAZ Elite | B20: Kellyn Johnson | C20: 1767.8976 | F20: Median | G20: =MEDIAN(G2:G18) -> 1437.409
A21: =VLOOKUP(B21,'W-Sponsor'!$A$2:$B$62,2,FALSE) -> NAZ Elite | B21: Stephanie Bruce | C21: 1767.8976 | F21: Mean | G21: =AVERAGE(G2:G18) -> 1462.3482
A22: =VLOOKUP(B22,'W-Sponsor'!$A$2:$B$62,2,FALSE) -> Adidas/BAA | B22: Jen Rhines | C22: 2181.5247 | F22: Mode | G22: =MODE(G2:G18) -> #N/A
A23: =VLOOKUP(B23,'W-Sponsor'!$A$2:$B$62,2,FALSE) -> Asics/Mammoth TC | B23: Lauren Jimison | C23: 2298.8734 | F23: Max | G23: =MAX(G2:G18) -> 2435.933
A24: =VLOOKUP(B24,'W-Sponsor'!$A$2:$B$62,2,FALSE) -> Unnattached | B24: Chelsea Reilly | C24: 2370.0796 | F24: Min | G24: =MIN(G2:G18) -> 400.94678
F25: N | G25: =COUNT(G2:G18) -> 17
B26: Median | C26: =MEDIAN(C2:C24) -> 1193.902
B27: Mean | C27: =AVERAGE(C2:C24) -> 1275.6335
B28: Mode | C28: =MODE(C2:C24) -> 400.94678
B29: Max | C29: =MAX(C2:C24) -> 2370.0796
B30: Min | C30: =MIN(C2:C24) -> 339.85617
B31: N | C31: =COUNT(C2:C24) -> 23

Sheet 1M
B1: Athlete | C1: Distance
A2: =VLOOKUP(B2,'W-Sponsor'!$A$2:$B$62,2,FALSE) -> Team Nebraska | B2: Ashley Miller | C2: 168.86414 | E2: =VLOOKUP(F2,'M-Sponsor'!$A$2:$B$59,2,FALSE) -> Unattached | F2: Tony Filipek | G2: 535.61273
A3: =VLOOKUP(B3,'W-Sponsor'!$A$2:$B$62,2,FALSE) -> Asics/Team USA Minnesota | B3: Heather Kamph | C3: 234.36106 | E3: =VLOOKUP(F3,'M-Sponsor'!$A$2:$B$59,2,FALSE) -> New Balance | F3: Craig Miller | G3: 621.12818
A4: =VLOOKUP(B4,'W-Sponsor'!$A$2:$B$62,2,FALSE) -> Brooks/Team USA Minnesota | B4: Gabriele Grunewald | C4: 234.36106 | E4: =VLOOKUP(F4,'M-Sponsor'!$A$2:$B$59,2,FALSE) -> Unattached | F4: Leo Manzano | G4: 816.21949 | H4: unattached | J4: Women | K4: Team USA Minnesota
A5: =VLOOKUP(B5,'W-Sponsor'!$A$2:$B$62,2,FALSE) -> Team USA Minnesota | B5: Meghan Peyton | C5: 234.36106 | E5: =VLOOKUP(F5,'M-Sponsor'!$A$2:$B$59,2,FALSE) -> Asics/Austin TC | F5: Miles Batty | G5: 816.21949 | J5: men | K5: NJNY TC
A6: =VLOOKUP(B6,'W-Sponsor'!$A$2:$B$62,2,FALSE) -> New Balance | B6: Sarah Brown | C6: 650.5829 | E6: =VLOOKUP(F6,'M-Sponsor'!$A$2:$B$59,2,FALSE) -> Saucony | F6: Jeff See | G6: 967.58929
A7: =VLOOKUP(B7,'W-Sponsor'!$A$2:$B$62,2,FALSE) -> Nike/NJNY TC | B7: Renee Tomlin | C7: 1011.608 | E7: =VLOOKUP(F7,'M-Sponsor'!$A$2:$B$59,2,FALSE) -> NJNY TC | F7: Brian Gagnon | G7: 973.68417
A8: =VLOOKUP(B8,'W-Sponsor'!$A$2:$B$62,2,FALSE) -> NAZ Elite | B8: Kellyn Johnson | C8: 1069.6705 | E8: =VLOOKUP(F8,'M-Sponsor'!$A$2:$B$59,2,FALSE) -> NJNY TC | F8: Liam Boylan-Pett | G8: 975.11101
A9: =VLOOKUP(B9,'W-Sponsor'!$A$2:$B$62,2,FALSE) -> Asics | B9: Sara Hall | C9: 1069.6705 | E9: =VLOOKUP(F9,'M-Sponsor'!$A$2:$B$59,2,FALSE) -> NJNY TC | F9: Travis Mahoney | G9: 1007.6261
A10: =VLOOKUP(B10,'W-Sponsor'!$A$2:$B$62,2,FALSE) -> Oiselle | B10: Kate Grace | C10: 1407.4241 | E10: =VLOOKUP(F10,'M-Sponsor'!$A$2:$B$59,2,FALSE) -> Unattached | F10: AJ Acosta | G10: 1422.0061
A11: =VLOOKUP(B11,'W-Sponsor'!$A$2:$B$62,2,FALSE) -> Unattached | B11: Alice Schmidt | C11: 1430.7758 | E11: =VLOOKUP(F11,'M-Sponsor'!$A$2:$B$59,2,FALSE) -> Brooks | F11: Garrett Heath | G11: 1463.1303
A12: =VLOOKUP(B12,'W-Sponsor'!$A$2:$B$62,2,FALSE) -> Nike | B12: Shannon Rowbury | C12: 1547.0379
F13: Median | G13: =MEDIAN(G2:G11) -> 970.63673
B14: Median | C14: =MEDIAN(C2:C12) -> 1011.608 | F14: Mean | G14: =AVERAGE(G2:G11) -> 959.83269
B15: Mean | C15: =AVERAGE(C2:C12) -> 823.51974 | F15: Mode | G15: =MODE(G2:G11) -> 816.21949
B16: Mode | C16: =MODE(C2:C12) -> 234.36106 | F16: Max | G16: =MAX(G2:G11) -> 1463.1303
B17: Max | C17: =MAX(C2:C12) -> 1547.0379 | F17: Min | G17: =MIN(G2:G11) -> 535.61273
B18: Min | C18: =MIN(C2:C12) -> 168.86414 | F18: N | G18: =COUNT(G2:G11) -> 10
B19: N | C19: =COUNT(C2:C12) -> 11

Sheet 20k
B1: Athlete | C1: Distance
A2: =VLOOKUP(B2,'W-Sponsor'!$A$2:$B$62,2,FALSE) -> NJNY TC | B2: Delilah DiCrescenzo | C2: 69.592581 | E2: =VLOOKUP(F2,'M-Sponsor'!$A$2:$B$59,2,FALSE) -> Adidas/BAA | F2: Tim Ritchie | G2: 115.77101
A3: =VLOOKUP(B3,'W-Sponsor'!$A$2:$B$62,2,FALSE) -> New Balance/Boston | B3: Katie DiCamillo | C3: 86.043419 | E3: =VLOOKUP(F3,'M-Sponsor'!$A$2:$B$59,2,FALSE) -> Unattached | F3: Elliot Krause | G3: 810.05123
A4: =VLOOKUP(B4,'W-Sponsor'!$A$2:$B$62,2,FALSE) -> New Balance/NJNY TC | B4: Frances Koons | C4: 113.32444 | E4: =VLOOKUP(F4,'M-Sponsor'!$A$2:$B$59,2,FALSE) -> WCAP | F4: Augustus Maiyo | G4: 1685.4262
A5: =VLOOKUP(B5,'W-Sponsor'!$A$2:$B$62,2,FALSE) -> Reebok/Zap Fitness | B5: Esther Erb | C5: 354.37319 | E5: =VLOOKUP(F5,'M-Sponsor'!$A$2:$B$59,2,FALSE) -> Unattached | F5: Jason Hartmann | G5: 1687.6843
A6: =VLOOKUP(B6,'W-Sponsor'!$A$2:$B$62,2,FALSE) -> Oiselle | B6: Caitlin Comfort | C6: 850.66039 | E6: =VLOOKUP(F6,'M-Sponsor'!$A$2:$B$59,2,FALSE) -> Boulder TC | F6: Sean Quigley | G6: 1687.6843 | I6: women | J6: {=INDEX(A2:A14,MATCH(MAX(COUNTIF(A2:A14,A2:A14)),COUNTIF(A2:A14,A2:A14),0))} -> Adidas/Boulder Running Co
A7: =VLOOKUP(B7,'W-Sponsor'!$A$2:$B$62,2,FALSE) -> Unattached | B7: Kelly Brinkman | C7: 1053.2051 | E7: =VLOOKUP(F7,'M-Sponsor'!$A$2:$B$59,2,FALSE) -> NAZ Elite | F7: Matt Llano | G7: 2124.787 | I7: men | J7: {=INDEX(E2:E11,MATCH(MAX(COUNTIF(E2:E11,E2:E11)),COUNTIF(E2:E11,E2:E11),0))} -> Unattached
A8: =VLOOKUP(B8,'W-Sponsor'!$A$2:$B$62,2,FALSE) -> Team USA Minnesota | B8: Meghan Peyton | C8: 1053.2051 | E8: =VLOOKUP(F8,'M-Sponsor'!$A$2:$B$59,2,FALSE) -> Nike | F8: Abdi Abdirahman | G8: 2175.6438
A9: =VLOOKUP(B9,'W-Sponsor'!$A$2:$B$62,2,FALSE) -> Adidas/Boulder Running Co | B9: Wendy Thomas | C9: 1661.4828 | E9: =VLOOKUP(F9,'M-Sponsor'!$A$2:$B$59,2,FALSE) -> Asics/Mammoth TC | F9: Josphat Boit | G9: 2439.7504
A10: =VLOOKUP(B10,'W-Sponsor'!$A$2:$B$62,2,FALSE) -> Brooks/Team USA Minnesota | B10: Kristen Fryburg-Zaitz | C10: 1679.7714 | E10: =VLOOKUP(F10,'M-Sponsor'!$A$2:$B$59,2,FALSE) -> Nike/Oregon TC | F10: Matt Tegankamp | G10: 2473.5109
A11: =VLOOKUP(B11,'W-Sponsor'!$A$2:$B$62,2,FALSE) -> Adidas/Boulder Running Co | B11: Mattie Suver | C11: 1685.4262 | E11: =VLOOKUP(F11,'M-Sponsor'!$A$2:$B$59,2,FALSE) -> SRA Elite | F11: Shadrack Biwott | G11: 2527.4165
A12: =VLOOKUP(B12,'W-Sponsor'!$A$2:$B$62,2,FALSE) -> Adidas/Boulder Running Co | B12: Alisha Williams | C12: 1687.6843
A13: =VLOOKUP(B13,'W-Sponsor'!$A$2:$B$62,2,FALSE) -> Boulder Track Club | B13: Laura Thweat | C13: 1687.6843 | F13: Median | G13: =MEDIAN(G2:G11) -> 1906.2356
A14: =VLOOKUP(B14,'W-Sponsor'!$A$2:$B$62,2,FALSE) -> Nike/Oregon TC | B14: Emily Infeld | C14: 2473.5109 | F14: Mean | G14: =AVERAGE(G2:G11) -> 1772.7726
F15: Mode | G15: =MODE(G2:G11) -> 1687.6843
B16: Median | C16: =MEDIAN(C4:C14) -> 1661.4828 | F16: Max | G16: =MAX(G2:G11) -> 2527.4165
B17: Mean | C17: =AVERAGE(C4:C14) -> 1300.0298 | F17: Min | G17: =MIN(G2:G11) -> 115.77101
B18: Mode | C18: =MODE(C4:C14) -> 1053.2051 | F18: N | G18: =COUNT(G2:G11) -> 10
B19: Max | C19: =MAX(C4:C14) -> 2473.5109
B20: Min | C20: =MIN(C4:C14) -> 113.32444
B21: N | C21: =COUNT(C4:C14) -> 11

Sheet 25k
B1: Athlete | C1: Distance
A2: =VLOOKUP(B2,'W-Sponsor'!$A$2:$B$62,2,FALSE) -> Unnattached | B2: Theresa Taggart | C2: 0 | E2: =VLOOKUP(F2,'M-Sponsor'!$A$2:$B$59,2,FALSE) -> Mizuno | F2: Christo Landry | G2: 108.63726
A3: =VLOOKUP(B3,'W-Sponsor'!$A$2:$B$62,2,FALSE) -> Hansons-Brooks | B3: Melissa White | C3: 123.57906 | E3: =VLOOKUP(F3,'M-Sponsor'!$A$2:$B$59,2,FALSE) -> Twin Cities TC | F3: Michael Reneau | G3: 393.73792 | J3: Women | K3: {=INDEX(A2:A11,MATCH(MAX(COUNTIF(A2:A11,A2:A11)),COUNTIF(A2:A11,A2:A11),0))} -> Adidas/Boulder Running Co
A4: =VLOOKUP(B4,'W-Sponsor'!$A$2:$B$62,2,FALSE) -> Hansons-Brooks | B4: Dot McMahan | C4: 129.36019 | E4: =VLOOKUP(F4,'M-Sponsor'!$A$2:$B$59,2,FALSE) -> Twin Cities TC | F4: Joe Moore | G4: 402.5895 | J4: Men | K4: {=INDEX(E2:E12,MATCH(MAX(COUNTIF(E2:E12,E2:E12)),COUNTIF(E2:E12,E2:E12),0))} -> Twin Cities TC
A5: =VLOOKUP(B5,'W-Sponsor'!$A$2:$B$62,2,FALSE) -> Reebok | B5: Katie McGregor | C5: 406.93448 | E5: =VLOOKUP(F5,'M-Sponsor'!$A$2:$B$59,2,FALSE) -> Team USA Minnesota | F5: Ben Sathre | G5: 414.58863
A6: =VLOOKUP(B6,'W-Sponsor'!$A$2:$B$62,2,FALSE) -> Reebok/Zap Fitness | B6: Stephanie Pezzullo | C6: 593.58134 | E6: =VLOOKUP(F6,'M-Sponsor'!$A$2:$B$59,2,FALSE) -> Brooks | F6: Andrew Carlson | G6: 606.85486
A7: =VLOOKUP(B7,'W-Sponsor'!$A$2:$B$62,2,FALSE) -> Adidas/Boulder Running Co | B7: Wendy Thomas | C7: 1004.343 | E7: =VLOOKUP(F7,'M-Sponsor'!$A$2:$B$59,2,FALSE) -> Saucony | F7: Zachary Hine | G7: 1032.2945
A8: =VLOOKUP(B8,'W-Sponsor'!$A$2:$B$62,2,FALSE) -> Adidas/Boulder Running Co | B8: Brianne Nelson | C8: 1035.4163 | E8: =VLOOKUP(F8,'M-Sponsor'!$A$2:$B$59,2,FALSE) -> Adidas/Rogue AC | F8: Scott MacPherson | G8: 1101.127
A9: =VLOOKUP(B9,'W-Sponsor'!$A$2:$B$62,2,FALSE) -> Adidas/Boulder Running Co | B9: Mattie Suver | C9: 1037.5766 | E9: =VLOOKUP(F9,'M-Sponsor'!$A$2:$B$59,2,FALSE) -> Unattached | F9: Craig Curley | G9: 1560.7039
A10: =VLOOKUP(B10,'W-Sponsor'!$A$2:$B$62,2,FALSE) -> Adidas/Boulder Running Co | B10: Tera Moody | C10: 1037.5766 | E10: =VLOOKUP(F10,'M-Sponsor'!$A$2:$B$59,2,FALSE) -> Asics/Mammoth TC | F10: Josphat Boit | G10: 1780.5616
A11: =VLOOKUP(B11,'W-Sponsor'!$A$2:$B$62,2,FALSE) -> Asics/Mammoth TC | B11: Lauren Jimison | C11: 1860.9551 | E11: =VLOOKUP(F11,'M-Sponsor'!$A$2:$B$59,2,FALSE) -> Nike/Oregon TC | F11: Matt Tegankamp | G11: 1824.0109
E12: =VLOOKUP(F12,'M-Sponsor'!$A$2:$B$59,2,FALSE) -> Nike | F12: Mo Trafeh | G12: 1835.7957
B13: Median | C13: =MEDIAN(C2:C11) -> 798.96218
B14: Mean | C14: =AVERAGE(C2:C11) -> 722.93226 | F14: Median | G14: =MEDIAN(G2:G12) -> 1032.2945
B15: Mode | C15: =MODE(C2:C11) -> 1037.5766 | F15: Mean | G15: =AVERAGE(G2:G12) -> 1005.5365
B16: Max | C16: =MAX(C2:C11) -> 1860.9551 | F16: Mode | G16: =MODE(G2:G12) -> #N/A
B17: Min | C17: =MIN(C2:C11) -> 0 | F17: Max | G17: =MAX(G2:G12) -> 1835.7957
B18: N | C18: =COUNT(C2:C11) -> 10 | F18: Min | G18: =MIN(G2:G12) -> 108.63726
F19: N | G19: =COUNT(G2:G12) -> 11

Sheet 5k
B1: Athlete | C1: Distance
A2: =VLOOKUP(B2,'W-Sponsor'!$A$2:$B$62,2,FALSE) -> Saucony | B2: Molly Huddle | C2: 0 | E2: =VLOOKUP(F2,'M-Sponsor'!$A$2:$B$59,2,FALSE) -> Adidas/BAA | F2: Tim Ritchie | G2: 38.303373
A3: =VLOOKUP(B3,'W-Sponsor'!$A$2:$B$62,2,FALSE) -> Adidas/BAA | B3: Katie Matthews | C3: 41.124748 | E3: =VLOOKUP(F3,'M-Sponsor'!$A$2:$B$59,2,FALSE) -> New Balance | F3: Pat Fullerton | G3: 67.56204 | J3: Women | K3: NAZ Elite
A4: =VLOOKUP(B4,'W-Sponsor'!$A$2:$B$62,2,FALSE) -> New Balance/NJNY TC | B4: Frances Koons | C4: 199.3522 | E4: =VLOOKUP(F4,'M-Sponsor'!$A$2:$B$59,2,FALSE) -> Reebok/ZAP Fitness | F4: Joe Stilin | G4: 676.3152 | J4: Men | K4: {=INDEX(E2:E11,MATCH(MAX(COUNTIF(E2:E11,E2:E11)),COUNTIF(E2:E11,E2:E11),0))} -> Nike/Oregon TC
A5: =VLOOKUP(B5,'W-Sponsor'!$A$2:$B$62,2,FALSE) -> Hansons-Brooks | B5: Neely Spence Gracey | C5: 607.47651 | E5: =VLOOKUP(F5,'M-Sponsor'!$A$2:$B$59,2,FALSE) -> Twin Cities TC | F5: Joe Moore | G5: 1114.9317
A6: =VLOOKUP(B6,'W-Sponsor'!$A$2:$B$62,2,FALSE) -> Team USA Minnesota | B6: Meghan Peyton | C6: 1114.9317 | E6: =VLOOKUP(F6,'M-Sponsor'!$A$2:$B$59,2,FALSE) -> Adidas | F6: Aaron Braun | G6: 1752.9887
A7: =VLOOKUP(B7,'W-Sponsor'!$A$2:$B$62,2,FALSE) -> Team Nebraska | B7: Ashley Miller | C7: 1308.4811 | E7: =VLOOKUP(F7,'M-Sponsor'!$A$2:$B$59,2,FALSE) -> Brooks | F7: Jared Bassett | G7: 2489.8854
A8: =VLOOKUP(B8,'W-Sponsor'!$A$2:$B$62,2,FALSE) -> Boulder Track Club | B8: Laura Thweat | C8: 1760.6446 | E8: =VLOOKUP(F8,'M-Sponsor'!$A$2:$B$59,2,FALSE) -> Asics/Mammoth TC | F8: John Gilberston | G8: 2511.0475
A9: =VLOOKUP(B9,'W-Sponsor'!$A$2:$B$62,2,FALSE) -> Adidas/NAZ Elite | B9: Amy Van Alstine | C9: 2202.2051 | E9: =VLOOKUP(F9,'M-Sponsor'!$A$2:$B$59,2,FALSE) -> Nike | F9: Andrew Bumbalough | G9: 2530.8125
A10: =VLOOKUP(B10,'W-Sponsor'!$A$2:$B$62,2,FALSE) -> NAZ Elite | B10: Kellyn Johnson | C10: 2202.2051 | E10: =VLOOKUP(F10,'M-Sponsor'!$A$2:$B$59,2,FALSE) -> Nike/Oregon TC | F10: Chris Solinsky | G10: 2530.8125
A11: =VLOOKUP(B11,'W-Sponsor'!$A$2:$B$62,2,FALSE) -> Brooks | B11: Deborah Maier | C11: 2485.9778 | E11: =VLOOKUP(F11,'M-Sponsor'!$A$2:$B$59,2,FALSE) -> Nike/Oregon TC | F11: Matt Tegankamp | G11: 2530.8125
A12: =VLOOKUP(B12,'W-Sponsor'!$A$2:$B$62,2,FALSE) -> Nike/Oregon TC | B12: Alexi Pappas | C12: 2575.0678
F13: Median | G13: =MEDIAN(G2:G11) -> 2121.437
B14: Median | C14: =MEDIAN(C2:C12) -> 1308.4811 | F14: Mean | G14: =AVERAGE(G2:G11) -> 1624.3471
B15: Mean | C15: =AVERAGE(C2:C12) -> 1317.9515 | F15: Mode | G15: =MODE(G2:G11) -> 2530.8125
B16: Mode | C16: =MODE(C2:C12) -> 2202.2051 | F16: Max | G16: =MAX(G2:G11) -> 2530.8125
B17: Max | C17: =MAX(C2:C12) -> 2575.0678 | F17: Min | G17: =MIN(G2:G11) -> 38.303373
B18: Min | C18: =MIN(C2:C12) -> 0 | F18: N | G18: =COUNT(G2:G11) -> 10
B19: N | C19: =COUNT(C2:C12) -> 11

Sheet HM
B1: Athlete | C1: Distance
A2: =VLOOKUP(B2,'W-Sponsor'!$A$2:$B$62,2,FALSE) -> Unattached | B2: Kelly Brinkman | C2: 136.63681 | E2: =VLOOKUP(F2,'M-Sponsor'!$A$2:$B$59,2,FALSE) -> Twin Cities TC | F2: Joe Moore | G2: 136.63681
A3: =VLOOKUP(B3,'W-Sponsor'!$A$2:$B$62,2,FALSE) -> Team USA Minnesota | B3: Ladia Abertson-Junkans | C3: 136.63681 | E3: =VLOOKUP(F3,'M-Sponsor'!$A$2:$B$59,2,FALSE) -> Brooks | F3: Andrew Carlson | G3: 221.7172
A4: =VLOOKUP(B4,'W-Sponsor'!$A$2:$B$62,2,FALSE) -> Team USA Minnesota | B4: Michelle Frey | C4: 136.63681 | E4: =VLOOKUP(F4,'M-Sponsor'!$A$2:$B$59,2,FALSE) -> Nashville Harriers | F4: Scott Wietecha | G4: 777.20334
A5: =VLOOKUP(B5,'W-Sponsor'!$A$2:$B$62,2,FALSE) -> Reebok | B5: Katie McGregor | C5: 140.22608 | E5: =VLOOKUP(F5,'M-Sponsor'!$A$2:$B$59,2,FALSE) -> Saucony | F5: Zachary Hine | G5: 808.2328 | I5: Women | J5: {=INDEX(A2:A21,MATCH(MAX(COUNTIF(A2:A21,A2:A21)),COUNTIF(A2:A21,A2:A21),0))} -> Adidas/Boulder Running Co
A6: =VLOOKUP(B6,'W-Sponsor'!$A$2:$B$62,2,FALSE) -> Hansons-Brooks | B6: Melissa White | C6: 514.57482 | E6: =VLOOKUP(F6,'M-Sponsor'!$A$2:$B$59,2,FALSE) -> Unattached | F6: Bobby Mack | G6: 1030.038 | I6: Men | J6: {=INDEX(E2:E17,MATCH(MAX(COUNTIF(E2:E17,E2:E17)),COUNTIF(E2:E17,E2:E17),0))} -> Asics/Mammoth TC
A7: =VLOOKUP(B7,'W-Sponsor'!$A$2:$B$62,2,FALSE) -> Hansons-Brooks | B7: Desi Davila | C7: 525.61112 | E7: =VLOOKUP(F7,'M-Sponsor'!$A$2:$B$59,2,FALSE) -> Adidas/BAA | F7: Tim Ritchie | G7: 1071.657
A8: =VLOOKUP(B8,'W-Sponsor'!$A$2:$B$62,2,FALSE) -> Unattached | B8: Nicole Camp | C8: 636.02558 | E8: =VLOOKUP(F8,'M-Sponsor'!$A$2:$B$59,2,FALSE) -> Under Armour/Team Run Flagstaff Pro | F8: Nick Arciniaga | G8: 1290.2369
A9: =VLOOKUP(B9,'W-Sponsor'!$A$2:$B$62,2,FALSE) -> Adidas/Boulder Running Co | B9: Wendy Thomas | C9: 772.96275 | E9: =VLOOKUP(F9,'M-Sponsor'!$A$2:$B$59,2,FALSE) -> Nike | F9: Abdi Abdirahman | G9: 1414.126
A10: =VLOOKUP(B10,'W-Sponsor'!$A$2:$B$62,2,FALSE) -> Brooks/Team USA Minnesota | B10: Kristen Fryburg-Zaitz | C10: 804.97334 | E10: =VLOOKUP(F10,'M-Sponsor'!$A$2:$B$59,2,FALSE) -> Adidas/Boulder Running Co | F10: Ian Burrell | G10: 1414.126
A11: =VLOOKUP(B11,'W-Sponsor'!$A$2:$B$62,2,FALSE) -> Asics | B11: Adriana Nelson | C11: 808.2328 | E11: =VLOOKUP(F11,'M-Sponsor'!$A$2:$B$59,2,FALSE) -> Asics/Mammoth TC | F11: Chris Barnicle | G11: 1503.2127
A12: =VLOOKUP(B12,'W-Sponsor'!$A$2:$B$62,2,FALSE) -> Adidas/Boulder Running Co | B12: Brianne Nelson | C12: 817.80468 | E12: =VLOOKUP(F12,'M-Sponsor'!$A$2:$B$59,2,FALSE) -> Asics/Mammoth TC | F12: Josphat Boit | G12: 1503.2127
A13: =VLOOKUP(B13,'W-Sponsor'!$A$2:$B$62,2,FALSE) -> Adidas/Boulder Running Co | B13: Mattie Suver | C13: 845.28517 | E13: =VLOOKUP(F13,'M-Sponsor'!$A$2:$B$59,2,FALSE) -> SRA Elite | F13: Shadrack Biwott | G13: 1567.3787
A14: =VLOOKUP(B14,'W-Sponsor'!$A$2:$B$62,2,FALSE) -> Reebok/Zap Fitness | B14: Sarah Crouch | C14: 910.89153 | E14: =VLOOKUP(F14,'M-Sponsor'!$A$2:$B$59,2,FALSE) -> Nike | F14: Mo Trafeh | G14: 1605.1881
A15: =VLOOKUP(B15,'W-Sponsor'!$A$2:$B$62,2,FALSE) -> Mizuno | B15: Serena Burla | C15: 930.43526 | E15: =VLOOKUP(F15,'M-Sponsor'!$A$2:$B$59,2,FALSE) -> Asics/Mammoth TC | F15: Meb Keflezighi | G15: 1636.5616
A16: =VLOOKUP(B16,'W-Sponsor'!$A$2:$B$62,2,FALSE) -> Reebok/Zap Fitness | B16: Esther Erb | C16: 983.11444 | E16: =VLOOKUP(F16,'M-Sponsor'!$A$2:$B$59,2,FALSE) -> Ujena Fit Club | F16: Malcolm Richards | G16: 1657.3826
A17: =VLOOKUP(B17,'W-Sponsor'!$A$2:$B$62,2,FALSE) -> NYAC | B17: Sarah Cummings | C17: 992.72335 | E17: =VLOOKUP(F17,'M-Sponsor'!$A$2:$B$59,2,FALSE) -> Asics Aggie Running Club | F17: Sergio Reyes | G17: 1680.2332
A18: =VLOOKUP(B18,'W-Sponsor'!$A$2:$B$62,2,FALSE) -> Unnattached | B18: Sheri Piers | C18: 1078.2628
A19: =VLOOKUP(B19,'W-Sponsor'!$A$2:$B$62,2,FALSE) -> Unattached/Team Rono | B19: Atalelech Asfaw | C19: 1102.8844 | F19: Median | G19: =MEDIAN(G2:G17) -> 1414.126
A20: =VLOOKUP(B20,'W-Sponsor'!$A$2:$B$62,2,FALSE) -> NAZ Elite | B20: Maegan Krifchin | C20: 1290.2369 | F20: Mean | G20: =AVERAGE(G2:G17) -> 1207.3215
A21: =VLOOKUP(B21,'W-Sponsor'!$A$2:$B$62,2,FALSE) -> NAZ Elite | B21: Stephanie Bruce | C21: 1290.2369 | F21: Mode | G21: =MODE(G2:G17) -> 1414.126
F22: Max | G22: =MAX(G2:G17) -> 1680.2332
B23: Median | C23: =MEDIAN(C2:C21) -> 813.01874 | F23: Min | G23: =MIN(G2:G17) -> 136.63681
B24: Mean | C24: =AVERAGE(C2:C21) -> 742.71962 | F24: N | G24: =COUNT(G2:G17) -> 16
B25: Mode | C25: =MODE(C2:C21) -> 136.63681
B26: Max | C26: =MAX(C2:C21) -> 1290.2369
B27: Min | C27: =MIN(C2:C21) -> 136.63681
B28: N | C28: =COUNT(C2:C21) -> 20

Sheet MAR
B1: Athlete | C1: Distance
A2: =VLOOKUP(B2,'W-Sponsor'!$A$2:$B$62,2,FALSE) -> Team USA Minnesota | B2: Meghan Peyton | C2: 0 | E2: =VLOOKUP(F2,'M-Sponsor'!$A$2:$B$59,2,FALSE) -> Mizuno | F2: Christo Landry | G2: 511.1644
A3: =VLOOKUP(B3,'W-Sponsor'!$A$2:$B$62,2,FALSE) -> Team USA Minnesota | B3: Michelle Frey | C3: 0 | E3: =VLOOKUP(F3,'M-Sponsor'!$A$2:$B$59,2,FALSE) -> Adidas/Rogue AC | F3: Scott MacPherson | G3: 1045.4357 | I3: Women | J3: {=INDEX(A2:A12,MATCH(MAX(COUNTIF(A2:A12,A2:A12)),COUNTIF(A2:A12,A2:A12),0))} -> Unattached
A4: =VLOOKUP(B4,'W-Sponsor'!$A$2:$B$62,2,FALSE) -> Reebok | B4: Katie McGregor | C4: 5.3176258 | E4: =VLOOKUP(F4,'M-Sponsor'!$A$2:$B$59,2,FALSE) -> Adidas/BAA | F4: Tim Ritchie | G4: 1116.1088 | I4: Men | J4: {=INDEX(E2:E11,MATCH(MAX(COUNTIF(E2:E11,E2:E11)),COUNTIF(E2:E11,E2:E11),0))} -> Unattached
A5: =VLOOKUP(B5,'W-Sponsor'!$A$2:$B$62,2,FALSE) -> New Balance Silicon Valley | B5: Annie Bersagel | C5: 21.149931 | E5: =VLOOKUP(F5,'M-Sponsor'!$A$2:$B$59,2,FALSE) -> Under Armour/Team Run Flagstaff Pro | F5: Nick Arciniaga | G5: 1179.3523
A6: =VLOOKUP(B6,'W-Sponsor'!$A$2:$B$62,2,FALSE) -> Unattached | B6: Laura Portis | C6: 426.42621 | E6: =VLOOKUP(F6,'M-Sponsor'!$A$2:$B$59,2,FALSE) -> Unattached | F6: Craig Curley | G6: 1293.4221
A7: =VLOOKUP(B7,'W-Sponsor'!$A$2:$B$62,2,FALSE) -> Unattached | B7: Nicole Camp | C7: 635.29536 | E7: =VLOOKUP(F7,'M-Sponsor'!$A$2:$B$59,2,FALSE) -> Asics/Mammoth TC | F7: Josphat Boit | G7: 1419.5511
A8: =VLOOKUP(B8,'W-Sponsor'!$A$2:$B$62,2,FALSE) -> Adidas/Boulder Running Co | B8: Wendy Thomas | C8: 666.64297 | E8: =VLOOKUP(F8,'M-Sponsor'!$A$2:$B$59,2,FALSE) -> SRA Elite | F8: Shadrack Biwott | G8: 1492.9562
A9: =VLOOKUP(B9,'W-Sponsor'!$A$2:$B$62,2,FALSE) -> Reebok/Zap Fitness | B9: Esther Erb | C9: 967.17672 | E9: =VLOOKUP(F9,'M-Sponsor'!$A$2:$B$59,2,FALSE) -> Unattached | F9: Jake Schmitt | G9: 1581.3269
A10: =VLOOKUP(B10,'W-Sponsor'!$A$2:$B$62,2,FALSE) -> Unattached/Team Rono | B10: Atalelech Asfaw | C10: 979.08697 | E10: =VLOOKUP(F10,'M-Sponsor'!$A$2:$B$59,2,FALSE) -> Ujena Fit Club | F10: Malcolm Richards | G10: 1581.3269
A11: =VLOOKUP(B11,'W-Sponsor'!$A$2:$B$62,2,FALSE) -> NYAC | B11: Sarah Cummings | C11: 1016.4564 | E11: =VLOOKUP(F11,'M-Sponsor'!$A$2:$B$59,2,FALSE) -> Asics Aggie Running Club | F11: Sergio Reyes | G11: 1591.0958
A12: Unattached | B12: Sheri Piers | C12: 1135.0339
F13: Median | G13: 1356.4866
B14: Median | C14: =MEDIAN(C2:C12) -> 635.29536 | F14: Mean | G14: 1281.174
B15: Mean | C15: =AVERAGE(C2:C12) -> 532.05328 | F15: Mode | G15: 1581.3269
B16: Mode | C16: =MODE(C2:C12) -> 0 | F16: Max | G16: 1591.0958
B17: Max | C17: =MAX(C2:C12) -> 1135.0339 | F17: Min | G17: 511.1644
B18: Min | C18: =MIN(C2:C12) -> 0 | F18: N | G18: 10
B19: N | C19: =COUNT(C2:C12) -> 11

Sheet XC
A1: Women | B1: Athlete | C1: Distance | E1: Men | F1: Athlete
A2: =VLOOKUP(B2,'W-Sponsor'!$A$2:$B$62,2,FALSE) -> Hansons-Brooks | B2: Neely Spence Gracey | C2: 463.83433 | E2: =VLOOKUP(F2,'M-Sponsor'!$A$2:$B$59,2,FALSE) -> Unattached | F2: Elliot Krause | G2: 400.12073
A3: =VLOOKUP(B3,'W-Sponsor'!$A$2:$B$62,2,FALSE) -> New Balance Silicon Valley | B3: Annie Bersagel | C3: 465.97918 | E3: =VLOOKUP(F3,'M-Sponsor'!$A$2:$B$59,2,FALSE) -> Hansons-Brooks | F3: Jake Riley | G3: 462.51732
A4: =VLOOKUP(B4,'W-Sponsor'!$A$2:$B$62,2,FALSE) -> Brooks/Team USA Minnesota | B4: Jamie Cheever | C4: 466.63181 | E4: =VLOOKUP(F4,'M-Sponsor'!$A$2:$B$59,2,FALSE) -> Unattached | F4: Bobby Mack | G4: 665.41729 | I4: Women | J4: {=INDEX(A2:A18,MATCH(MAX(COUNTIF(A2:A18,A2:A18)),COUNTIF(A2:A18,A2:A18),0))} -> Team USA Minnesota
A5: =VLOOKUP(B5,'W-Sponsor'!$A$2:$B$62,2,FALSE) -> Team USA Minnesota | B5: Ladia Abertson-Junkans | C5: 466.63181 | E5: =VLOOKUP(F5,'M-Sponsor'!$A$2:$B$59,2,FALSE) -> WCAP | F5: Augustus Maiyo | G5: 787.40559 | I5: Men | J5: {=INDEX(E2:E18,MATCH(MAX(COUNTIF(E2:E18,E2:E18)),COUNTIF(E2:E18,E2:E18),0))} -> Unattached
A6: =VLOOKUP(B6,'W-Sponsor'!$A$2:$B$62,2,FALSE) -> Team USA Minnesota | B6: Meghan Peyton | C6: 466.63181 | E6: =VLOOKUP(F6,'M-Sponsor'!$A$2:$B$59,2,FALSE) -> Adidas/Boulder Running Co | F6: James Strang | G6: 787.40559 | J6: Oregon TC
A7: =VLOOKUP(B7,'W-Sponsor'!$A$2:$B$62,2,FALSE) -> Reebok/Zap Fitness | B7: Alissa McKaig | C7: 498.29778 | E7: =VLOOKUP(F7,'M-Sponsor'!$A$2:$B$59,2,FALSE) -> WCAP | F7: Joseph Chirlee | G7: 792.85973
A8: =VLOOKUP(B8,'W-Sponsor'!$A$2:$B$62,2,FALSE) -> Adidas/Boulder Running Co | B8: Mattie Suver | C8: 787.40559 | E8: =VLOOKUP(F8,'M-Sponsor'!$A$2:$B$59,2,FALSE) -> Unattached | F8: Richard Medina | G8: 810.26966 | J8: Formulas:
A9: =VLOOKUP(B9,'W-Sponsor'!$A$2:$B$62,2,FALSE) -> Adidas/Boulder Running Co | B9: Brianne Nelson | C9: 807.22635 | E9: =VLOOKUP(F9,'M-Sponsor'!$A$2:$B$59,2,FALSE) -> Boulder TC | F9: Sean Quigley | G9: 810.26966 | I9: Mode(Text) | J9: **INDEX(Range,MATCH(MAX(COUNTIF(Range,Range)),COUNTIF(Range,Range),0))
A10: =VLOOKUP(B10,'W-Sponsor'!$A$2:$B$62,2,FALSE) -> New Balance/NJNY TC | B10: Frances Koons | C10: 824.26519 | E10: =VLOOKUP(F10,'M-Sponsor'!$A$2:$B$59,2,FALSE) -> Saucony | F10: Ben True | G10: 992.90645
A11: =VLOOKUP(B11,'W-Sponsor'!$A$2:$B$62,2,FALSE) -> NJNY TC | B11: Delilah DiCrescenzo | C11: 871.90577 | E11: =VLOOKUP(F11,'M-Sponsor'!$A$2:$B$59,2,FALSE) -> Unattached | F11: Craig Curley | G11: 1244.6404
A12: =VLOOKUP(B12,'W-Sponsor'!$A$2:$B$62,2,FALSE) -> NAZ Elite | B12: Kellyn Johnson | C12: 1205.592 | E12: =VLOOKUP(F12,'M-Sponsor'!$A$2:$B$59,2,FALSE) -> Adidas/Boulder Running Co | F12: Ian Burrell | G12: 1244.6404
A13: =VLOOKUP(B13,'W-Sponsor'!$A$2:$B$62,2,FALSE) -> Asics | B13: Sara Hall | C13: 1205.592 | E13: =VLOOKUP(F13,'M-Sponsor'!$A$2:$B$59,2,FALSE) -> Nike/Oregon TC | F13: Chris Derrick | G13: 1719.2804
A14: =VLOOKUP(B14,'W-Sponsor'!$A$2:$B$62,2,FALSE) -> Asics/Mammoth TC | B14: Deena Kastor | C14: 1558.6729 | E14: =VLOOKUP(F14,'M-Sponsor'!$A$2:$B$59,2,FALSE) -> Nike/Oregon Project | F14: Dathan Ritzenhein | G14: 1719.2804
A15: =VLOOKUP(B15,'W-Sponsor'!$A$2:$B$62,2,FALSE) -> New Balance/SRA | B15: Kim Conley | C15: 1683.3677 | E15: =VLOOKUP(F15,'M-Sponsor'!$A$2:$B$59,2,FALSE) -> Nike/Oregon TC | F15: Elliot Heath | G15: 1719.2804
A16: =VLOOKUP(B16,'W-Sponsor'!$A$2:$B$62,2,FALSE) -> Nike/Oregon TC | B16: Emily Infeld | C16: 1719.2804 | E16: =VLOOKUP(F16,'M-Sponsor'!$A$2:$B$59,2,FALSE) -> Nike/Oregon TC | F16: Matt Tegankamp | G16: 1719.2804
A17: =VLOOKUP(B17,'W-Sponsor'!$A$2:$B$62,2,FALSE) -> Nike/Oregon TC | B17: Shalane Flanagan | C17: 1719.2804 | E17: =VLOOKUP(F17,'M-Sponsor'!$A$2:$B$59,2,FALSE) -> Brooks | F17: Ryan Vail | G17: 1719.2804
A18: Unattached | B18: Chelsea Reilly | C18: 1741.4142 | E18: =VLOOKUP(F18,'M-Sponsor'!$A$2:$B$59,2,FALSE) -> Unattached | F18: Luke Puskedra | G18: 1725.2439
B20: Median | C20: =MEDIAN(C2:C18) -> 824.26519 | F20: Median | G20: =MEDIAN(G2:G18) -> 992.90645
B21: Mean | C21: =AVERAGE(C2:C18) -> 997.17702 | F21: Mean | G21: =AVERAGE(G2:G18) -> 1136.4764
B22: Mode | C22: =MODE(C2:C18) -> 466.63181 | F22: Mode | G22: =MODE(G2:G18) -> 1719.2804
B23: Max | C23: =MAX(C2:C18) -> 1741.4142 | F23: Max | G23: =MAX(G2:G18) -> 1725.2439
B24: Min | C24: =MIN(C2:C18) -> 463.83433 | F24: Min | G24: =MIN(G2:G18) -> 400.12073
B25: N | C25: =COUNT(C2:C18) -> 17 | F25: N | G25: =COUNT(G2:G18) -> 17

Sheet W-AllRaces
A1: Name | B1: XC | C1: 15K | D1: 10M | E1: 1M | F1: 25K | G1: HM | H1: 10K | I1: 20K | J1: 5K | K1: MAR | L1: 12K | M1: Total | N1: placed
A2: Molly Huddle | J2: 1 | L2: 1 | M2: =SUM(B2:L2) -> 2 | N2: 2 | O2: =N2/M2 -> 1
A3: Shalane Flanagan | B3: 1 | L3: 1 | M3: =SUM(B3:L3) -> 2 | N3: 2 | O3: =N3/M3 -> 1
A4: Mattie Suver | B4: 1 | C4: 1 | F4: 1 | G4: 1 | H4: 1 | I4: 1 | L4: 1 | M4: =SUM(B4:L4) -> 7 | N4: 6 | O4: =N4/M4 -> 0.85714286
A5: Janet Bawcom | C5: 1 | D5: 1 | H5: 1 | M5: =SUM(B5:L5) -> 3 | N5: 3 | O5: =N5/M5 -> 1
A6: Brianne Nelson | B6: 1 | C6: 1 | D6: 1 | F6: 1 | G6: 1 | H6: 1 | L6: 1 | M6: =SUM(B6:L6) -> 7 | N6: 5 | O6: =N6/M6 -> 0.71428571 | Q6: Placed/Total
A7: Annie Bersagel | B7: 1 | C7: 1 | D7: 1 | K7: 1 | L7: 1 | M7: =SUM(B7:L7) -> 5 | N7: 3 | O7: =N7/M7 -> 0.6 | Q7: 0.73795863
A8: Laura Thweat | C8: 1 | I8: 1 | J8: 1 | L8: 1 | M8: =SUM(B8:L8) -> 4 | N8: 3 | O8: =N8/M8 -> 0.75
A9: Sara Hall | B9: 1 | E9: 1 | H9: 1 | L9: 1 | M9: =SUM(B9:L9) -> 4 | N9: 4 | O9: =N9/M9 -> 1
A10: Kim Conley | B10: 1 | L10: 1 | M10: =SUM(B10:L10) -> 2 | N10: 2 | O10: =N10/M10 -> 1
A11: Kellyn Johnson | B11: 1 | C11: 1 | D11: 1 | E11: 1 | H11: 1 | J11: 1 | L11: 1 | M11: =SUM(B11:L11) -> 7 | N11: 5 | O11: =N11/M11 -> 0.71428571
A12: Meghan Peyton | B12: 1 | C12: 1 | E12: 1 | H12: 1 | I12: 1 | J12: 1 | K12: 1 | L12: 1 | M12: =SUM(B12:L12) -> 8 | N12: 5 | O12: =N12/M12 -> 0.625
A13: Stephanie Bruce | C13: 1 | G13: 1 | H13: 1 | M13: =SUM(B13:L13) -> 3 | N13: 3 | O13: =N13/M13 -> 1
A14: Laura Portis | K14: 1 | M14: =SUM(B14:L14) -> 1 | N14: 1 | O14: =N14/M14 -> 1
A15: Esther Erb | G15: 1 | H15: 1 | I15: 1 | K15: 1 | L15: 1 | M15: =SUM(B15:L15) -> 5 | N15: 2 | O15: =N15/M15 -> 0.4
A16: Wendy Thomas | D16: 1 | F16: 1 | G16: 1 | H16: 1 | I16: 1 | K16: 1 | L16: 1 | M16: =SUM(B16:L16) -> 7 | N16: 4 | O16: =N16/M16 -> 0.57142857
A17: Adriana Nelson | G17: 1 | H17: 1 | M17: =SUM(B17:L17) -> 2 | N17: 2 | O17: =N17/M17 -> 1
A18: Emily Infeld | B18: 1 | J18: 1 | M18: =SUM(B18:L18) -> 2 | N18: 2 | O18: =N18/M18 -> 1
A19: Delilah DiCrescenzo | B19: 1 | C19: 1 | H19: 1 | I19: 1 | M19: =SUM(B19:L19) -> 4 | N19: 4 | O19: =N19/M19 -> 1
A20: Katie DiCamillo | C20: 1 | D20: 1 | H20: 1 | I20: 1 | M20: =SUM(B20:L20) -> 4 | N20: 3 | O20: =N20/M20 -> 0.75
A21: Michelle Frey | G21: 1 | K21: 1 | M21: =SUM(B21:L21) -> 2 | N21: 2 | O21: =N21/M21 -> 1
A22: Kate Grace | E22: 1 | M22: =SUM(B22:L22) -> 1 | N22: 1 | O22: =N22/M22 -> 1
A23: Dot McMahan | C23: 1 | F23: 1 | M23: =SUM(B23:L23) -> 2 | N23: 1 | O23: =N23/M23 -> 0.5
A24: Maegan Krifchin | G24: 1 | H24: 1 | M24: =SUM(B24:L24) -> 2 | N24: 2 | O24: =N24/M24 -> 1
A25: Alisha Williams | C25: 1 | I25: 1 | M25: =SUM(B25:L25) -> 2 | N25: 1 | O25: =N25/M25 -> 0.5
A26: Desi Davila | G26: 1 | M26: =SUM(B26:L26) -> 1 | N26: 1 | O26: =N26/M26 -> 1
A27: Neely Spence Gracey | B27: 1 | J27: 1 | M27: =SUM(B27:L27) -> 2 | N27: 2 | O27: =N27/M27 -> 1
A28: Atalelech Asfaw | C28: 1 | G28: 1 | K28: 1 | L28: 1 | M28: =SUM(B28:L28) -> 4 | N28: 1 | O28: =N28/M28 -> 0.25
A29: Deena Kastor | B29: 1 | M29: =SUM(B29:L29) -> 1 | N29: 1 | O29: =N29/M29 -> 1
A30: Sarah Crouch | C30: 1 | D30: 1 | G30: 1 | M30: =SUM(B30:L30) -> 3 | N30: 1 | O30: =N30/M30 -> 0.33333333
A31: Heather Kamph | E31: 1 | M31: =SUM(B31:L31) -> 1 | N31: 1 | O31: =N31/M31 -> 1
A32: Tera Moody | F32: 1 | M32: =SUM(B32:L32) -> 1 | N32: 1 | O32: =N32/M32 -> 1
A33: Kelly Brinkman | G33: 1 | I33: 1 | L33: 1 | M33: =SUM(B33:L33) -> 3 | N33: 1 | O33: =N33/M33 -> 0.33333333
